Felt | Verdi |
AlreadyApplied | True |
Aperture | 5.6 |
ApertureValue | 5.6 |
ApproximateFocusDistance | 26.6 |
AutoLateralCA | 0 |
AutoWhiteVersion | 134348800 |
BitsPerSample | 8 |
Blacks2012 | -9 |
BlueHue | 0 |
BlueSaturation | 0 |
CameraProfile | Adobe Standard |
CFAPattern | [Red,Green][Green,Blue] |
CircGradBasedCorrActive | true |
CircGradBasedCorrAmount | 1.000000 |
CircGradBasedCorrBrightness | 0.000000 |
CircGradBasedCorrClarity2012 | 0.000000 |
CircGradBasedCorrContrast2012 | 0.000000 |
CircGradBasedCorrDefringe | 0.000000 |
CircGradBasedCorrExposure2012 (1) | 0.260653 |
CircGradBasedCorrExposure2012 (2) | 0.249053 |
CircGradBasedCorrExposure2012 | 0.284801 |
CircGradBasedCorrHighlights2012 | 0.000000 |
CircGradBasedCorrHue | 0.000000 |
CircGradBasedCorrLuminanceNoise | 0.000000 |
CircGradBasedCorrMaskAngle (1) | 5.624360 |
CircGradBasedCorrMaskAngle (2) | -39.285500 |
CircGradBasedCorrMaskAngle | 24.761500 |
CircGradBasedCorrMaskBottom (1) | 0.764109 |
CircGradBasedCorrMaskBottom (2) | 0.197211 |
CircGradBasedCorrMaskBottom | 0.744433 |
CircGradBasedCorrMaskFeather | +50 |
CircGradBasedCorrMaskFlipped | true |
CircGradBasedCorrMaskLeft (1) | 0.394250 |
CircGradBasedCorrMaskLeft (2) | 0.353636 |
CircGradBasedCorrMaskLeft | 0.255328 |
CircGradBasedCorrMaskMidpoint | +50 |
CircGradBasedCorrMaskRight (1) | 0.545632 |
CircGradBasedCorrMaskRight (2) | 0.582517 |
CircGradBasedCorrMaskRight | 0.246194 |
CircGradBasedCorrMaskRoundness | 0 |
CircGradBasedCorrMaskTop (1) | 0.312555 |
CircGradBasedCorrMaskTop (2) | 0.304144 |
CircGradBasedCorrMaskTop | 0.575650 |
CircGradBasedCorrMaskValue | 1.000000 |
CircGradBasedCorrMaskVersion | +2 |
CircGradBasedCorrMaskWhat | Mask/CircularGradient |
CircGradBasedCorrMoire | 0.000000 |
CircGradBasedCorrSaturation | 0.000000 |
CircGradBasedCorrShadows2012 | 0.000000 |
CircGradBasedCorrSharpness | 0.000000 |
CircGradBasedCorrTemperature | 0.479009 |
CircGradBasedCorrTint | 0.342882 |
CircGradBasedCorrWhat | Correction |
CircleOfConfusion | 0.020 mm |
Clarity2012 | +7 |
ColorComponents | 3 |
ColorNoiseReduction | 25 |
ColorNoiseReductionDetail | 50 |
ColorNoiseReductionSmoothness | 50 |
ColorTemperature | 5800 |
ColorTransform | YCbCr |
Contrast | Normal |
Contrast2012 | +4 |
ConvertToGrayscale | False |
CreateDate (1) | 2015:01:06 14:18:36.10 |
CreateDate | 2015:01:06 14:18:36 |
CreatorTool | Adobe Photoshop Lightroom 5.6 (Macintosh) |
CustomRendered | Normal |
DateCreated (1) | 2015:01:06 |
DateCreated | 2015:01:06 14:18:36.10 |
DateTimeOriginal | 2015:01:06 14:18:36 |
DefringeGreenAmount | 0 |
DefringeGreenHueHi | 60 |
DefringeGreenHueLo | 40 |
DefringePurpleAmount | 0 |
DefringePurpleHueHi | 70 |
DefringePurpleHueLo | 30 |
DigitalZoomRatio | 1 |
DOF | 0.98 m (26.12 - 27.10 m) |
Exposure2012 | +0.80 |
ExposureCompensation | 0 |
ExposureMode | Auto |
ExposureProgram | Shutter speed priority AE |
ExposureTime | 1/160 |
Flash | No Flash |
FNumber | 5.6 |
FocalLength | 400.0 mm |
FocalLength35efl | 400.0 mm (35 mm equivalent: 600.0 mm) |
FocalLengthIn35mmFormat | 600 mm |
Format | image/jpeg |
FOV | 3.4 deg |
GainControl | High gain up |
GrainAmount | 0 |
GreenHue | 0 |
GreenSaturation | 0 |
HasCrop | False |
HasExtendedXMP | 8C0D2A41CA3F1D90CA3EA137268F32BC |
HasSettings | True |
Highlights2012 | 0 |
HueAdjustmentAqua | 0 |
HueAdjustmentBlue | 0 |
HueAdjustmentGreen | 0 |
HueAdjustmentMagenta | 0 |
HueAdjustmentOrange | 0 |
HueAdjustmentPurple | 0 |
HueAdjustmentRed | 0 |
HueAdjustmentYellow | 0 |
HyperfocalDistance | 1426.37 m |
ImageHeight | 533 |
ImageNumber | 37849 |
ImageSize | 800x533 |
ImageWidth | 800 |
ISO | 1250 |
Keywords | 2015, elg, januar |
Label | Green |
Lens | 80.0-400.0 mm f/4.5-5.6 |
LensID (1) | 183 |
LensID | AF-S Nikkor 80-400mm f/4.5-5.6G ED VR |
LensInfo | 80-400mm f/4.5-5.6 |
LensManualDistortionAmount | 0 |
LensModel | 80.0-400.0 mm f/4.5-5.6 |
LensProfileEnable | 0 |
LensProfileSetup | LensDefaults |
LightSource | Unknown |
LightValue | 8.6 |
LuminanceAdjustmentAqua | 0 |
LuminanceAdjustmentBlue | 0 |
LuminanceAdjustmentGreen | 0 |
LuminanceAdjustmentMagenta | 0 |
LuminanceAdjustmentOrange | 0 |
LuminanceAdjustmentPurple | 0 |
LuminanceAdjustmentRed | 0 |
LuminanceAdjustmentYellow | 0 |
LuminanceNoiseReductionContrast | 0 |
LuminanceNoiseReductionDetail | 50 |
LuminanceSmoothing | 11 |
Make | NIKON CORPORATION |
MaxApertureValue | 5.7 |
Megapixels | 0.426 |
MeteringMode | Center-weighted average |
Model | NIKON D5300 |
ModifyDate (1) | 2015:01:10 00:30:07+01:00 |
ModifyDate | 2015:01:10 00:30:07 |
PaintCorrectionActive | true |
PaintCorrectionAmount | 1.000000 |
PaintCorrectionBrightness | 0.000000 |
PaintCorrectionClarity2012 | 0.000000 |
PaintCorrectionContrast2012 | 0.000000 |
PaintCorrectionDefringe | 0.000000 |
PaintCorrectionExposure2012 (19) | -1.000000 |
PaintCorrectionExposure2012 | 1.000000 |
PaintCorrectionHighlights2012 | 0.000000 |
PaintCorrectionHue | 0.000000 |
PaintCorrectionLuminanceNoise | 0.000000 |
PaintCorrectionMaskCenterWeight | 0.004186 |
PaintCorrectionMaskFlow (156) | 0.021563 |
PaintCorrectionMaskFlow (58) | 0.033395 |
PaintCorrectionMaskFlow | 0.010000 |
PaintCorrectionMaskRadius (10) | 0.002314 |
PaintCorrectionMaskRadius (107) | 0.007880 |
PaintCorrectionMaskRadius (11) | 0.041916 |
PaintCorrectionMaskRadius (114) | 0.025789 |
PaintCorrectionMaskRadius (119) | 0.007410 |
PaintCorrectionMaskRadius (127) | 0.002649 |
PaintCorrectionMaskRadius (132) | 0.008839 |
PaintCorrectionMaskRadius (135) | 0.028986 |
PaintCorrectionMaskRadius (14) | 0.004961 |
PaintCorrectionMaskRadius (142) | 0.004787 |
PaintCorrectionMaskRadius (144) | 0.001197 |
PaintCorrectionMaskRadius (145) | 0.001051 |
PaintCorrectionMaskRadius (164) | 0.005362 |
PaintCorrectionMaskRadius (169) | 0.001796 |
PaintCorrectionMaskRadius (19) | 0.006636 |
PaintCorrectionMaskRadius (2) | 0.034033 |
PaintCorrectionMaskRadius (21) | 0.009954 |
PaintCorrectionMaskRadius (22) | 0.005753 |
PaintCorrectionMaskRadius (23) | 0.015133 |
PaintCorrectionMaskRadius (27) | 0.033666 |
PaintCorrectionMaskRadius (35) | 0.017530 |
PaintCorrectionMaskRadius (4) | 0.042467 |
PaintCorrectionMaskRadius (43) | 0.039129 |
PaintCorrectionMaskRadius (47) | 0.017588 |
PaintCorrectionMaskRadius (50) | 0.014105 |
PaintCorrectionMaskRadius (53) | 0.021582 |
PaintCorrectionMaskRadius (55) | 0.006227 |
PaintCorrectionMaskRadius (60) | 0.026180 |
PaintCorrectionMaskRadius (67) | 0.070626 |
PaintCorrectionMaskRadius (73) | 0.015353 |
PaintCorrectionMaskRadius (78) | 0.007744 |
PaintCorrectionMaskRadius (87) | 0.017228 |
PaintCorrectionMaskRadius (9) | 0.001162 |
PaintCorrectionMaskRadius (92) | 0.056281 |
PaintCorrectionMaskRadius | 0.006413 |
PaintCorrectionMaskValue | 1.000000 |
PaintCorrectionMaskWhat | Mask/Paint |
PaintCorrectionMoire | 0.000000 |
PaintCorrectionSaturation | 0.000000 |
PaintCorrectionShadows2012 | 0.000000 |
PaintCorrectionSharpness | 0.000000 |
PaintCorrectionTemperature | 0.479009 |
PaintCorrectionTint | 0.342882 |
PaintCorrectionWhat | Correction |
ParametricDarks | 0 |
ParametricHighlights | 0 |
ParametricHighlightSplit | 75 |
ParametricLights | 0 |
ParametricMidtoneSplit | 50 |
ParametricShadows | 0 |
ParametricShadowSplit | 25 |
PerspectiveAspect | 0 |
PerspectiveHorizontal | 0 |
PerspectiveRotate | 0.0 |
PerspectiveScale | 100 |
PerspectiveUpright | 0 |
PerspectiveVertical | 0 |
PostCropVignetteAmount | 0 |
ProcessVersion | 6.7 |
ProfileDescription | sRGB IEC61966-2.1 |
RedHue | 0 |
RedSaturation | 0 |
Saturation (1) | -85 |
Saturation | Normal |
SaturationAdjustmentAqua | 0 |
SaturationAdjustmentBlue | 0 |
SaturationAdjustmentGreen | 0 |
SaturationAdjustmentMagenta | 0 |
SaturationAdjustmentOrange | 0 |
SaturationAdjustmentPurple | 0 |
SaturationAdjustmentRed | 0 |
SaturationAdjustmentYellow | 0 |
ScaleFactor35efl | 1.5 |
SceneCaptureType | Standard |
SceneType | Directly photographed |
SensingMethod | One-chip color area |
SensitivityType | Recommended Exposure Index |
SerialNumber | 4314514 |
Shadows2012 | 0 |
ShadowTint | 0 |
SharpenDetail | 25 |
SharpenEdgeMasking | 28 |
SharpenRadius | +1.0 |
Sharpness (1) | 38 |
Sharpness | Normal |
ShutterSpeed | 1/160 |
ShutterSpeedValue | 1/160 |
Software | Adobe Photoshop Lightroom 5.6 (Macintosh) |
SplitToningBalance | 0 |
SplitToningHighlightHue | 0 |
SplitToningHighlightSaturation | 0 |
SplitToningShadowHue | 0 |
SplitToningShadowSaturation | 0 |
Subject | 2015, elg, januar |
SubjectDistanceRange | Unknown |
Tint | +5 |
ToneCurve | 0, 0, 255, 255 |
ToneCurveBlue | 0, 0, 255, 255 |
ToneCurveGreen | 0, 0, 255, 255 |
ToneCurveName | Linear |
ToneCurveName2012 | Linear |
ToneCurvePV2012 | 0, 0, 255, 255 |
ToneCurvePV2012Blue | 0, 0, 255, 255 |
ToneCurvePV2012Green | 0, 0, 255, 255 |
ToneCurvePV2012Red | 0, 0, 255, 255 |
ToneCurveRed | 0, 0, 255, 255 |
Version | 8.6 |
Vibrance | 0 |
VignetteAmount | 0 |
WhiteBalance (1) | As Shot |
WhiteBalance | Auto |
Whites2012 | 0 |