Felt | Verdi |
AlreadyApplied | True |
Aperture | 10.0 |
ApertureValue | 10.0 |
Artist | Tony Sandvik |
AutoLateralCA | 0 |
AutoWhiteVersion | 134348800 |
BitsPerSample | 8 |
Blacks2012 | -10 |
BlueHue | -10 |
BlueSaturation | 0 |
By-line | Tony Sandvik |
CameraProfile | Embedded |
CircleOfConfusion | 0.030 mm |
Clarity2012 | 0 |
ColorComponents | 3 |
ColorNoiseReduction | 0 |
ColorTransform | YCbCr |
Contrast | Normal |
Contrast2012 | 0 |
ConvertToGrayscale | False |
Copyright | (C)Tony Sandvik |
CopyrightNotice | (C)Tony Sandvik |
CreateDate | 2015:05:17 22:15:40 |
Creator | Tony Sandvik |
CreatorAddress | Sandvika 17 |
CreatorCity | Tjørvåg |
CreatorCountry | Norge |
CreatorPostalCode | 6070 |
CreatorTool | Adobe Photoshop Lightroom 6.0 (Macintosh) |
CreatorWorkEmail | tony.sandvik@me.com |
CreatorWorkTelephone | +4798492807 |
CreatorWorkURL | www.tonysandvik.no |
CropAngle | 0 |
CropBottom | 0.909851 |
CropConstrainToWarp | 0 |
CropLeft | 0.150976 |
CropRight | 1 |
CropTop | 0.114755 |
CustomRendered | Custom |
DateCreated (1) | 2015:05:17 22:15:40 |
DateCreated | 2015:05:17 |
DateTimeOriginal | 2015:05:17 22:15:40 |
DefringeGreenAmount | 0 |
DefringeGreenHueHi | 60 |
DefringeGreenHueLo | 40 |
DefringePurpleAmount | 0 |
DefringePurpleHueHi | 70 |
DefringePurpleHueLo | 30 |
DigitalZoomRatio | 1 |
Exposure2012 | 0.00 |
ExposureCompensation | 0 |
ExposureMode | Manual |
ExposureProgram | Manual |
ExposureTime | 60 |
Flash | Off, Did not fire |
FNumber | 10.0 |
FocalLength | 24.0 mm |
FocalLength35efl | 24.0 mm (35 mm equivalent: 24.0 mm) |
FocalLengthIn35mmFormat | 24 mm |
Format | image/jpeg |
FOV | 73.7 deg |
GainControl | None |
GradientBasedCorrActive | true |
GradientBasedCorrAmount | 1.000000 |
GradientBasedCorrBrightness | 0.000000 |
GradientBasedCorrClarity2012 | 0.000000 |
GradientBasedCorrContrast2012 (1) | -0.776617 |
GradientBasedCorrContrast2012 | 0.000000 |
GradientBasedCorrDefringe | 0.000000 |
GradientBasedCorrExposure2012 (1) | 0.017078 |
GradientBasedCorrExposure2012 | 0.000000 |
GradientBasedCorrHighlights2012 (1) | -1.000000 |
GradientBasedCorrHighlights2012 | 0.000000 |
GradientBasedCorrHue | 240.000000 |
GradientBasedCorrLuminanceNoise | 0.000000 |
GradientBasedCorrMaskFullX (1) | 0.575307 |
GradientBasedCorrMaskFullX | 0.478440 |
GradientBasedCorrMaskFullY (1) | 0.812113 |
GradientBasedCorrMaskFullY | 0.752527 |
GradientBasedCorrMaskValue | 1.000000 |
GradientBasedCorrMaskWhat | Mask/Gradient |
GradientBasedCorrMaskZeroX (1) | 0.613123 |
GradientBasedCorrMaskZeroX | 0.548400 |
GradientBasedCorrMaskZeroY (1) | 0.549697 |
GradientBasedCorrMaskZeroY | 0.478670 |
GradientBasedCorrMoire | 0.000000 |
GradientBasedCorrSaturation | 0.000000 |
GradientBasedCorrShadows2012 | 0.000000 |
GradientBasedCorrSharpness | 0.000000 |
GradientBasedCorrTemperature (1) | 0.000000 |
GradientBasedCorrTemperature | 0.103834 |
GradientBasedCorrTint | 0.000000 |
GradientBasedCorrWhat | Correction |
GrainAmount | 6 |
GrainFrequency | 30 |
GrainSize | 30 |
GreenHue | +10 |
GreenSaturation | -10 |
HasCrop | True |
HasSettings | True |
Highlights2012 | -63 |
HueAdjustmentAqua | +10 |
HueAdjustmentBlue | +20 |
HueAdjustmentGreen | +20 |
HueAdjustmentMagenta | +15 |
HueAdjustmentOrange | -12 |
HueAdjustmentPurple | +30 |
HueAdjustmentRed | +12 |
HueAdjustmentYellow | -15 |
HyperfocalDistance | 1.92 m |
ImageHeight | 1935 |
ImageNumber | 28290 |
ImageSize | 3096x1935 |
ImageWidth | 3096 |
IncrementalTemperature | 0 |
IncrementalTint | 0 |
ISO | 100 |
Lens | 16.0-35.0 mm f/4.0 |
LensID (1) | 163 |
LensID | AF-S Nikkor 16-35mm f/4G ED VR |
LensInfo | 16-35mm f/4 |
LensManualDistortionAmount | 0 |
LensModel | 16.0-35.0 mm f/4.0 |
LensProfileEnable | 0 |
LensProfileSetup | LensDefaults |
LightSource | Fine Weather |
LightValue | 0.7 |
LuminanceAdjustmentAqua | -5 |
LuminanceAdjustmentBlue | -15 |
LuminanceAdjustmentGreen | -15 |
LuminanceAdjustmentMagenta | -15 |
LuminanceAdjustmentOrange | -8 |
LuminanceAdjustmentPurple | -10 |
LuminanceAdjustmentRed | -20 |
LuminanceAdjustmentYellow | 0 |
LuminanceSmoothing | 0 |
Make | NIKON CORPORATION |
MaxApertureValue | 4.0 |
Megapixels | 6.0 |
MeteringMode | Multi-segment |
Model | NIKON D800 |
ModifyDate (1) | 2015:05:18 01:09:12+02:00 |
ModifyDate | 2015:05:18 01:09:12 |
Orientation | Horizontal (normal) |
PaintCorrectionActive | true |
PaintCorrectionAmount | 1.000000 |
PaintCorrectionBrightness | 0.000000 |
PaintCorrectionClarity2012 | 0.000000 |
PaintCorrectionContrast2012 | 0.000000 |
PaintCorrectionDefringe | 0.000000 |
PaintCorrectionExposure2012 | 0.160520 |
PaintCorrectionHighlights2012 | 0.000000 |
PaintCorrectionHue | 240.000000 |
PaintCorrectionLuminanceNoise | 0.000000 |
PaintCorrectionMaskCenterWeight | 0.000000 |
PaintCorrectionMaskFlow (2) | 0.674742 |
PaintCorrectionMaskFlow | 0.575760 |
PaintCorrectionMaskRadius (1) | 0.004318 |
PaintCorrectionMaskRadius (2) | 0.002718 |
PaintCorrectionMaskRadius | 0.069882 |
PaintCorrectionMaskValue (2) | 0.000000 |
PaintCorrectionMaskValue | 1.000000 |
PaintCorrectionMaskWhat | Mask/Paint |
PaintCorrectionMoire | 0.000000 |
PaintCorrectionSaturation | 0.000000 |
PaintCorrectionShadows2012 | 0.000000 |
PaintCorrectionSharpness | 0.000000 |
PaintCorrectionTemperature | 0.000000 |
PaintCorrectionTint | 0.000000 |
PaintCorrectionWhat | Correction |
ParametricDarks | 0 |
ParametricHighlights | 0 |
ParametricHighlightSplit | 75 |
ParametricLights | 0 |
ParametricMidtoneSplit | 60 |
ParametricShadows | 0 |
ParametricShadowSplit | 14 |
PerspectiveAspect | 0 |
PerspectiveHorizontal | 0 |
PerspectiveRotate | 0.0 |
PerspectiveScale | 100 |
PerspectiveUpright | 0 |
PerspectiveVertical | 0 |
PostCropVignetteAmount | -3 |
PostCropVignetteFeather | 50 |
PostCropVignetteHighlightContrast | 0 |
PostCropVignetteMidpoint | 50 |
PostCropVignetteRoundness | 0 |
PostCropVignetteStyle | 1 |
ProcessVersion | 6.7 |
ProfileDescription | sRGB IEC61966-2.1 |
RawFileName | EA2_7675-Editmai 17, 2015.jpg |
RedHue | +10 |
RedSaturation | +30 |
Rights | (C)Tony Sandvik |
Saturation (1) | +5 |
Saturation | Normal |
SaturationAdjustmentAqua | +5 |
SaturationAdjustmentBlue | +15 |
SaturationAdjustmentGreen | -10 |
SaturationAdjustmentMagenta | -15 |
SaturationAdjustmentOrange | -5 |
SaturationAdjustmentPurple | -10 |
SaturationAdjustmentRed | -10 |
SaturationAdjustmentYellow | 0 |
ScaleFactor35efl | 1.0 |
SceneCaptureType | Standard |
SceneType | Directly photographed |
SensingMethod | One-chip color area |
SensitivityType | Recommended Exposure Index |
SerialNumber | 6056703 |
Shadows2012 | +40 |
ShadowTint | 0 |
SharpenDetail | 25 |
SharpenEdgeMasking | 0 |
SharpenRadius | +1.2 |
Sharpness (1) | 0 |
Sharpness | Normal |
ShutterSpeed | 60 |
ShutterSpeedValue | 60 |
Software | Adobe Photoshop Lightroom 6.0 (Macintosh) |
SplitToningBalance | -50 |
SplitToningHighlightHue | 50 |
SplitToningHighlightSaturation | 30 |
SplitToningShadowHue | 0 |
SplitToningShadowSaturation | 0 |
SubjectDistanceRange | Unknown |
ToneCurve | 0, 0, 255, 255 |
ToneCurveBlue | 0, 0, 255, 255 |
ToneCurveGreen | 0, 0, 255, 255 |
ToneCurveName | Linear |
ToneCurveName2012 | Custom |
ToneCurvePV2012 | 0, 16, 83, 88, 255, 254 |
ToneCurvePV2012Blue | 0, 0, 48, 23, 113, 123, 172, 207, 255, 255 |
ToneCurvePV2012Green | 0, 0, 49, 23, 113, 122, 174, 200, 255, 255 |
ToneCurvePV2012Red | 0, 0, 45, 21, 81, 71, 111, 122, 178, 203, 255, 255 |
ToneCurveRed | 0, 0, 255, 255 |
Version | 9.0 |
Vibrance | 0 |
VignetteAmount | 0 |
WhiteBalance (1) | Custom |
WhiteBalance | Manual |
Whites2012 | 0 |