Felt | Verdi |
AlreadyApplied | True |
Aperture | 11.0 |
ApertureValue | 11.0 |
ApproximateFocusDistance | 106 |
Artist | Tormod Fauskrud |
AutoLateralCA | 0 |
AutoWhiteVersion | 134348800 |
BitsPerSample | 8 |
Blacks2012 | 0 |
BlueHue | 0 |
BlueSaturation | 0 |
By-line | Tormod Fauskrud |
CameraProfile | Adobe Standard |
CFAPattern | [Red,Green][Green,Blue] |
CircleOfConfusion | 0.020 mm |
Clarity2012 | 0 |
ColorComponents | 3 |
ColorNoiseReduction | 25 |
ColorNoiseReductionDetail | 50 |
ColorNoiseReductionSmoothness | 50 |
ColorTemperature | 4900 |
ColorTransform | YCbCr |
Contrast | Normal |
Contrast2012 | 0 |
ConvertToGrayscale | False |
Copyright | Tormod Fauskrud |
CopyrightNotice | Tormod Fauskrud |
Country | United States |
Country-PrimaryLocationCode | USA |
Country-PrimaryLocationName | United States |
CountryCode | USA |
CreateDate (1) | 2015:06:03 15:15:19.40 |
CreateDate | 2015:06:03 15:15:19 |
Creator | Tormod Fauskrud |
CreatorTool | Adobe Photoshop Lightroom 6.1.1 (Windows) |
CropAngle | 0 |
CropBottom | 0.907236 |
CropConstrainToWarp | 0 |
CropLeft | 0 |
CropRight | 1 |
CropTop | 0.092764 |
CustomRendered | Normal |
DateCreated (1) | 2015:06:03 |
DateCreated | 2015:06:03 15:15:19.40 |
DateTimeOriginal | 2015:06:03 15:15:19 |
DefringeGreenAmount | 0 |
DefringeGreenHueHi | 60 |
DefringeGreenHueLo | 40 |
DefringePurpleAmount | 0 |
DefringePurpleHueHi | 70 |
DefringePurpleHueLo | 30 |
Dehaze | 0 |
DigitalZoomRatio | 1 |
DOF | inf (1.45 m - inf) |
Exposure2012 | -2.86 |
ExposureCompensation | +1/3 |
ExposureMode | Auto |
ExposureProgram | Shutter speed priority AE |
ExposureTime | 1/80 |
Flash | No Flash |
FNumber | 11.0 |
FocalLength | 18.0 mm |
FocalLength35efl | 18.0 mm (35 mm equivalent: 27.0 mm) |
FocalLengthIn35mmFormat | 27 mm |
Format | image/jpeg |
FOV | 67.4 deg |
GainControl | None |
GPSAltitude (1) | 1217.06 m |
GPSAltitude | 1217 m Above Sea Level |
GPSAltitudeRef | Above Sea Level |
GPSDateStamp | 2015:06:03 |
GPSDateTime | 2015:06:03 22:15:19Z |
GPSLatitude (1) | 39 deg 53' 15.11" |
GPSLatitude | 39 deg 53' 15.11" N |
GPSLatitudeRef | North |
GPSLongitude (1) | 118 deg 51' 37.26" |
GPSLongitude | 118 deg 51' 37.26" W |
GPSLongitudeRef | West |
GPSMapDatum | WGS-84 |
GPSPosition | 39 deg 53' 15.11" N, 118 deg 51' 37.26" W |
GPSSpeed | 0.07408 |
GPSSpeedRef | km/h |
GPSTimeStamp | 22:15:19 |
GPSVersionID | 2.2.0.0 |
GrainAmount | 0 |
GreenHue | 0 |
GreenSaturation | 0 |
HasCrop | True |
HasSettings | True |
Highlights2012 | 0 |
HueAdjustmentAqua | 0 |
HueAdjustmentBlue | 0 |
HueAdjustmentGreen | 0 |
HueAdjustmentMagenta | 0 |
HueAdjustmentOrange | 0 |
HueAdjustmentPurple | 0 |
HueAdjustmentRed | 0 |
HueAdjustmentYellow | 0 |
HyperfocalDistance | 1.47 m |
ImageHeight | 2320 |
ImageNumber | 54978 |
ImageSize | 4288x2320 |
ImageWidth | 4288 |
ISO | 200 |
Keywords | Dag 2 San Francisco - Elko, Ferie, Hendelser, Panoramio, USA Midtvesten med Tore, USA2015 |
Lens | 18.0-200.0 mm f/3.5-6.3 |
LensID (1) | 237 |
LensID | Sigma 18-200mm F3.5-6.3 DC OS HSM |
LensInfo | 18-200mm f/3.5-6.3 |
LensManualDistortionAmount | 0 |
LensModel | 18.0-200.0 mm f/3.5-6.3 |
LensProfileEnable | 0 |
LensProfileSetup | LensDefaults |
LightSource | Unknown |
LightValue | 12.2 |
Location | Jessup |
LuminanceAdjustmentAqua | 0 |
LuminanceAdjustmentBlue | 0 |
LuminanceAdjustmentGreen | 0 |
LuminanceAdjustmentMagenta | 0 |
LuminanceAdjustmentOrange | 0 |
LuminanceAdjustmentPurple | 0 |
LuminanceAdjustmentRed | 0 |
LuminanceAdjustmentYellow | 0 |
LuminanceSmoothing | 0 |
Make | NIKON CORPORATION |
MaxApertureValue | 3.5 |
Megapixels | 9.9 |
MeteringMode | Multi-segment |
Model | NIKON D300S |
ModifyDate (1) | 2015:08:11 21:16:26+02:00 |
ModifyDate | 2015:08:11 21:16:26 |
ParametricDarks | 0 |
ParametricHighlights | 0 |
ParametricHighlightSplit | 75 |
ParametricLights | 0 |
ParametricMidtoneSplit | 50 |
ParametricShadows | 0 |
ParametricShadowSplit | 25 |
PerspectiveAspect | 0 |
PerspectiveHorizontal | 0 |
PerspectiveRotate | 0.0 |
PerspectiveScale | 100 |
PerspectiveUpright | 0 |
PerspectiveVertical | 0 |
PostCropVignetteAmount | 0 |
ProcessVersion | 6.7 |
ProfileDescription | sRGB IEC61966-2.1 |
Province-State | Nevada |
RedHue | 0 |
RedSaturation | 0 |
ReferenceBlackWhite | 0, 255, 0, 255, 0, 255 |
Rights | Tormod Fauskrud |
Saturation (1) | 0 |
Saturation | Normal |
SaturationAdjustmentAqua | 0 |
SaturationAdjustmentBlue | 0 |
SaturationAdjustmentGreen | 0 |
SaturationAdjustmentMagenta | 0 |
SaturationAdjustmentOrange | 0 |
SaturationAdjustmentPurple | 0 |
SaturationAdjustmentRed | 0 |
SaturationAdjustmentYellow | 0 |
ScaleFactor35efl | 1.5 |
SceneCaptureType | Standard |
SceneType | Directly photographed |
SensingMethod | One-chip color area |
SerialNumber | 6019449 |
Shadows2012 | 0 |
ShadowTint | 0 |
SharpenDetail | 25 |
SharpenEdgeMasking | 0 |
SharpenRadius | +1.0 |
Sharpness (1) | 25 |
Sharpness | Normal |
ShutterSpeed | 1/80 |
ShutterSpeedValue | 1/80 |
Software | Adobe Photoshop Lightroom 6.1.1 (Windows) |
SplitToningBalance | 0 |
SplitToningHighlightHue | 0 |
SplitToningHighlightSaturation | 0 |
SplitToningShadowHue | 0 |
SplitToningShadowSaturation | 0 |
State | Nevada |
Sub-location | Jessup |
Subject | Dag 2 San Francisco - Elko, Ferie, Hendelser, Panoramio, USA Midtvesten med Tore, USA2015 |
SubjectDistanceRange | Unknown |
Tint | +6 |
ToneCurve | 0, 0, 255, 255 |
ToneCurveBlue | 0, 0, 255, 255 |
ToneCurveGreen | 0, 0, 255, 255 |
ToneCurveName | Linear |
ToneCurveName2012 | Linear |
ToneCurvePV2012 | 0, 0, 255, 255 |
ToneCurvePV2012Blue | 0, 0, 255, 255 |
ToneCurvePV2012Green | 0, 0, 255, 255 |
ToneCurvePV2012Red | 0, 0, 255, 255 |
ToneCurveRed | 0, 0, 255, 255 |
ToneMapStrength | 0 |
Version | 9.1.1 |
Vibrance | 0 |
VignetteAmount | 0 |
WhiteBalance (1) | As Shot |
WhiteBalance | Auto |
Whites2012 | 0 |