Felt | Verdi |
AlreadyApplied | True |
Aperture | 11.0 |
ApertureValue | 11.0 |
ApproximateFocusDistance | 23714 |
AutoLateralCA | 1 |
AutoWhiteVersion | 134348800 |
BitsPerSample | 8 |
Blacks2012 | +33 |
BlueHue | 0 |
BlueSaturation | 0 |
CameraProfile | Adobe Standard |
CFAPattern | [Red,Green][Green,Blue] |
CircleOfConfusion | 0.030 mm |
Clarity2012 | +26 |
ColorComponents | 3 |
ColorNoiseReduction | 25 |
ColorNoiseReductionDetail | 50 |
ColorNoiseReductionSmoothness | 50 |
ColorSpace | Uncalibrated |
ColorTemperature | 7050 |
ColorTransform | YCbCr |
Contrast | Normal |
Contrast2012 | +43 |
ConvertToGrayscale | False |
CreateDate (1) | 2016:03:30 18:37:29.88 |
CreateDate | 2016:03:30 18:37:29 |
CreatorTool | Adobe Photoshop Lightroom 6.5 (Windows) |
CropAngle | -0.186938 |
CropBottom | 0.995136 |
CropConstrainToWarp | 0 |
CropLeft | 0.001348 |
CropRight | 0.998652 |
CropTop | 0.004864 |
CustomRendered | Normal |
DateCreated (1) | 2016:03:30 |
DateCreated | 2016:03:30 18:37:29.88 |
DateTimeOriginal | 2016:03:30 18:37:29 |
DefringeGreenAmount | 0 |
DefringeGreenHueHi | 60 |
DefringeGreenHueLo | 40 |
DefringePurpleAmount | 0 |
DefringePurpleHueHi | 70 |
DefringePurpleHueLo | 30 |
Dehaze | 0 |
DigitalZoomRatio | 1 |
DOF | inf (3.92 m - inf) |
Exposure2012 | 0.00 |
ExposureCompensation | 0 |
ExposureMode | Auto |
ExposureProgram | Aperture-priority AE |
ExposureTime | 1/60 |
Flash | Off, Did not fire |
FNumber | 11.0 |
FocalLength | 36.0 mm |
FocalLength35efl | 36.0 mm (35 mm equivalent: 36.0 mm) |
FocalLengthIn35mmFormat | 36 mm |
Format | image/jpeg |
FOV | 53.1 deg |
GainControl | None |
GradientBasedCorrActive | true |
GradientBasedCorrAmount | 1.000000 |
GradientBasedCorrBrightness | 0.000000 |
GradientBasedCorrClarity2012 | 0.701150 |
GradientBasedCorrContrast2012 | 0.379310 |
GradientBasedCorrDefringe | 0.000000 |
GradientBasedCorrExposure2012 | -0.218500 |
GradientBasedCorrHighlights2012 | -0.218390 |
GradientBasedCorrHue | 0.000000 |
GradientBasedCorrLocalBlacks2012 | 0.000000 |
GradientBasedCorrLocalDehaze | 0.000000 |
GradientBasedCorrLocalWhites2012 | 0.000000 |
GradientBasedCorrLuminanceNoise | 0.000000 |
GradientBasedCorrMaskFullX | 0.525044 |
GradientBasedCorrMaskFullY | 0.313694 |
GradientBasedCorrMaskValue | 1.000000 |
GradientBasedCorrMaskWhat | Mask/Gradient |
GradientBasedCorrMaskZeroX | 0.524660 |
GradientBasedCorrMaskZeroY | 0.373612 |
GradientBasedCorrMoire | 0.000000 |
GradientBasedCorrSaturation | 0.000000 |
GradientBasedCorrShadows2012 | 0.000000 |
GradientBasedCorrSharpness | 0.000000 |
GradientBasedCorrTemperature | 0.000000 |
GradientBasedCorrTint | 0.000000 |
GradientBasedCorrWhat | Correction |
GrainAmount | 0 |
GreenHue | 0 |
GreenSaturation | 0 |
HasCrop | True |
HasSettings | True |
Highlights2012 | -90 |
HueAdjustmentAqua | 0 |
HueAdjustmentBlue | 0 |
HueAdjustmentGreen | 0 |
HueAdjustmentMagenta | 0 |
HueAdjustmentOrange | 0 |
HueAdjustmentPurple | 0 |
HueAdjustmentRed | 0 |
HueAdjustmentYellow | 0 |
HyperfocalDistance | 3.92 m |
ImageHeight | 3997 |
ImageNumber | 5197 |
ImageSize | 5987x3997 |
ImageWidth | 5987 |
ISO | 200 |
Keywords | 2016, Eigerøy, mars, skadbergsanden |
LensID (1) | 250 |
LensID | Tamron SP AF 28-75mm f/2.8 XR Di LD Aspherical (IF) Macro (A09NII) |
LensInfo | 28-75mm f/2.8 |
LensManualDistortionAmount | 0 |
LensProfileChromaticAberrationScale | 100 |
LensProfileDistortionScale | 100 |
LensProfileEnable | 1 |
LensProfileFilename | NIKON CORPORATION (TAMRON SP 28-75mm F2.8 Di A09N) - RAW.lcp |
LensProfileName | Adobe (TAMRON SP 28-75mm F/2.8 Di A09N, NIKON CORPORATION) |
LensProfileSetup | Custom |
LensProfileVignettingScale | 100 |
LightSource | Unknown |
LightValue | 11.8 |
LuminanceAdjustmentAqua | 0 |
LuminanceAdjustmentBlue | -9 |
LuminanceAdjustmentGreen | 0 |
LuminanceAdjustmentMagenta | 0 |
LuminanceAdjustmentOrange | -27 |
LuminanceAdjustmentPurple | 0 |
LuminanceAdjustmentRed | 0 |
LuminanceAdjustmentYellow | -31 |
LuminanceSmoothing | 0 |
Make | NIKON CORPORATION |
MaxApertureValue | 2.8 |
Megapixels | 23.9 |
MeteringMode | Multi-segment |
Model | NIKON D750 |
ModifyDate (1) | 2016:04:06 14:09:40+02:00 |
ModifyDate | 2016:04:06 14:09:40 |
ParametricDarks | 0 |
ParametricHighlights | 0 |
ParametricHighlightSplit | 75 |
ParametricLights | 0 |
ParametricMidtoneSplit | 50 |
ParametricShadows | 0 |
ParametricShadowSplit | 25 |
PerspectiveAspect | 0 |
PerspectiveHorizontal | 0 |
PerspectiveRotate | 0.0 |
PerspectiveScale | 100 |
PerspectiveUpright | 0 |
PerspectiveVertical | 0 |
PostCropVignetteAmount | 0 |
ProcessVersion | 6.7 |
ProfileDescription | ProPhoto RGB |
RedHue | 0 |
RedSaturation | 0 |
Saturation (1) | +12 |
Saturation | Normal |
SaturationAdjustmentAqua | 0 |
SaturationAdjustmentBlue | +18 |
SaturationAdjustmentGreen | 0 |
SaturationAdjustmentMagenta | 0 |
SaturationAdjustmentOrange | +56 |
SaturationAdjustmentPurple | 0 |
SaturationAdjustmentRed | 0 |
SaturationAdjustmentYellow | +22 |
ScaleFactor35efl | 1.0 |
SceneCaptureType | Standard |
SceneType | Directly photographed |
SensingMethod | One-chip color area |
SensitivityType | Recommended Exposure Index |
SerialNumber | 6074507 |
Shadows2012 | +57 |
ShadowTint | 0 |
SharpenDetail | 52 |
SharpenEdgeMasking | 68 |
SharpenRadius | +1.1 |
Sharpness (1) | 73 |
Sharpness | Normal |
ShutterSpeed | 1/60 |
ShutterSpeedValue | 1/60 |
Software | Adobe Photoshop Lightroom 6.5 (Windows) |
SplitToningBalance | 0 |
SplitToningHighlightHue | 0 |
SplitToningHighlightSaturation | 0 |
SplitToningShadowHue | 0 |
SplitToningShadowSaturation | 0 |
Subject | 2016, Eigerøy, mars, skadbergsanden |
SubjectDistanceRange | Unknown |
Tint | +15 |
ToneCurve | 0, 0, 255, 255 |
ToneCurveBlue | 0, 0, 255, 255 |
ToneCurveGreen | 0, 0, 255, 255 |
ToneCurveName | Linear |
ToneCurveName2012 | Linear |
ToneCurvePV2012 | 0, 0, 255, 255 |
ToneCurvePV2012Blue | 0, 0, 255, 255 |
ToneCurvePV2012Green | 0, 0, 255, 255 |
ToneCurvePV2012Red | 0, 0, 255, 255 |
ToneCurveRed | 0, 0, 255, 255 |
ToneMapStrength | 0 |
Version | 9.5 |
Vibrance | +14 |
VignetteAmount | 0 |
WhiteBalance (1) | As Shot |
WhiteBalance | Auto |
Whites2012 | +55 |