Felt | Verdi |
AlreadyApplied | True |
Aperture | 8.0 |
ApertureValue | 8.0 |
Artist | 373051003880 |
AutoLateralCA | 0 |
AutoWhiteVersion | 134348800 |
BitsPerSample | 8 |
Blacks2012 | +40 |
BlueHue | 0 |
BlueSaturation | 0 |
By-line | 373051003880 |
CameraProfile | Embedded |
CircleOfConfusion | 0.027 mm |
Clarity2012 | +8 |
ColorComponents | 3 |
ColorNoiseReduction | 48 |
ColorNoiseReductionDetail | 50 |
ColorNoiseReductionSmoothness | 50 |
ColorSpace | sRGB |
ColorTransform | YCbCr |
Contrast2012 | +28 |
ConvertToGrayscale | False |
CreateDate | 2016:07:10 09:24:06 |
Creator | 373051003880 |
CreatorTool | Adobe Photoshop Lightroom 5.7.1 (Macintosh) |
CropAngle | -0.452009 |
CropBottom | 0.791618 |
CropConstrainToWarp | 0 |
CropLeft | 0 |
CropRight | 0.925288 |
CropTop | 0.011784 |
CustomRendered | Normal |
DateCreated (1) | 2016:07:10 |
DateCreated | 2016:07:10 09:24:06 |
DateTimeOriginal | 2016:07:10 09:24:06 |
DefringeGreenAmount | 0 |
DefringeGreenHueHi | 60 |
DefringeGreenHueLo | 40 |
DefringePurpleAmount | 0 |
DefringePurpleHueHi | 70 |
DefringePurpleHueLo | 30 |
Exposure2012 | -1.10 |
ExposureCompensation | 0 |
ExposureMode | Manual |
ExposureProgram | Manual |
ExposureTime | 1/400 |
Firmware | Firmware Version 1.1.6 |
Flash | Off, Did not fire |
FlashCompensation | 0 |
FNumber | 8.0 |
FocalLength | 24.0 mm |
FocalLength35efl | 24.0 mm (35 mm equivalent: 26.8 mm) |
Format | image/jpeg |
FOV | 67.7 deg |
GrainAmount | 0 |
GreenHue | -31 |
GreenSaturation | +39 |
HasCrop | True |
HasSettings | True |
Highlights2012 | -56 |
HueAdjustmentAqua | 0 |
HueAdjustmentBlue | 0 |
HueAdjustmentGreen | -38 |
HueAdjustmentMagenta | 0 |
HueAdjustmentOrange | 0 |
HueAdjustmentPurple | 0 |
HueAdjustmentRed | 0 |
HueAdjustmentYellow | 0 |
HyperfocalDistance | 2.68 m |
ImageHeight | 2163 |
ImageSize | 3780x2163 |
ImageWidth | 3780 |
IncrementalTemperature | +6 |
IncrementalTint | +5 |
ISO | 125 |
Lens | Canon EF 24-70mm f/2.8L II USM |
LensID (1) | 495 |
LensID | Canon EF 24-70mm f/2.8L II USM |
LensInfo | 24-70mm f/? |
LensManualDistortionAmount | 0 |
LensModel | Canon EF 24-70mm f/2.8L II USM |
LensProfileEnable | 0 |
LensProfileSetup | LensDefaults |
LensSerialNumber | 3630000901 |
LightValue | 14.3 |
LuminanceAdjustmentAqua | +11 |
LuminanceAdjustmentBlue | -18 |
LuminanceAdjustmentGreen | +57 |
LuminanceAdjustmentMagenta | -17 |
LuminanceAdjustmentOrange | +15 |
LuminanceAdjustmentPurple | +25 |
LuminanceAdjustmentRed | 0 |
LuminanceAdjustmentYellow | +24 |
LuminanceNoiseReductionContrast | 48 |
LuminanceNoiseReductionDetail | 50 |
LuminanceSmoothing | 48 |
Make | Canon |
MaxApertureValue | 2.7 |
Megapixels | 8.2 |
MeteringMode | Multi-segment |
Model | Canon EOS 6D |
ModifyDate (1) | 2016:07:12 20:48:49+02:00 |
ModifyDate | 2016:07:12 20:48:49 |
OwnerName | 373051003880 |
ParametricDarks | +19 |
ParametricHighlights | +18 |
ParametricHighlightSplit | 75 |
ParametricLights | -49 |
ParametricMidtoneSplit | 50 |
ParametricShadows | -23 |
ParametricShadowSplit | 25 |
PerspectiveAspect | 0 |
PerspectiveHorizontal | 0 |
PerspectiveRotate | 0.0 |
PerspectiveScale | 100 |
PerspectiveUpright | 0 |
PerspectiveVertical | 0 |
PostCropVignetteAmount | 0 |
ProcessVersion | 6.7 |
ProfileDescription | sRGB IEC61966-2.1 |
RedHue | 0 |
RedSaturation | 0 |
Saturation | 0 |
SaturationAdjustmentAqua | +25 |
SaturationAdjustmentBlue | +6 |
SaturationAdjustmentGreen | +21 |
SaturationAdjustmentMagenta | +2 |
SaturationAdjustmentOrange | +35 |
SaturationAdjustmentPurple | +19 |
SaturationAdjustmentRed | 0 |
SaturationAdjustmentYellow | +28 |
ScaleFactor35efl | 1.1 |
SceneCaptureType | Standard |
SerialNumber | 373051003880 |
Shadows2012 | +80 |
ShadowTint | -2 |
SharpenDetail | 25 |
SharpenEdgeMasking | 0 |
SharpenRadius | +1.0 |
Sharpness | 51 |
ShutterSpeed | 1/400 |
ShutterSpeedValue | 1/400 |
Software | Adobe Photoshop Lightroom 5.7.1 (Macintosh) |
SplitToningBalance | 0 |
SplitToningHighlightHue | 0 |
SplitToningHighlightSaturation | 0 |
SplitToningShadowHue | 0 |
SplitToningShadowSaturation | 0 |
ToneCurve | 0, 0, 255, 255 |
ToneCurveBlue | 0, 0, 255, 255 |
ToneCurveGreen | 0, 0, 255, 255 |
ToneCurveName | Linear |
ToneCurveName2012 | Linear |
ToneCurvePV2012 | 0, 0, 255, 255 |
ToneCurvePV2012Blue | 0, 0, 255, 255 |
ToneCurvePV2012Green | 0, 0, 255, 255 |
ToneCurvePV2012Red | 0, 0, 255, 255 |
ToneCurveRed | 0, 0, 255, 255 |
Version | 8.7.1 |
Vibrance | 0 |
VignetteAmount | 0 |
WhiteBalance (1) | Custom |
WhiteBalance | Manual |
Whites2012 | +41 |