Felt | Verdi |
AlreadyApplied | True |
Aperture | 8.0 |
ApertureValue | 8.0 |
ApproximateFocusDistance | 4294967295 |
Artist | Kristian H. Tande |
AutoLateralCA | 0 |
AutoWhiteVersion | 134348800 |
BitsPerSample | 8 |
Blacks2012 | -53 |
BlueHue | 0 |
BlueSaturation | 0 |
By-line | Kristian H. Tande |
CameraProfile | Adobe Standard |
CircleOfConfusion | 0.028 mm |
Clarity2012 | 0 |
ColorComponents | 3 |
ColorMode | RGB |
ColorNoiseReduction | 25 |
ColorNoiseReductionDetail | 50 |
ColorNoiseReductionSmoothness | 50 |
ColorSpace | Uncalibrated |
ColorTemperature | 5500 |
ColorTransform | YCbCr |
Contrast2012 | +38 |
ConvertToGrayscale | False |
Copyright | Kristian H. Tande |
CopyrightNotice | Kristian H. Tande |
CreateDate | 2016:10:13 19:50:36 |
Creator | Kristian H. Tande |
CropAngle | -2.665211 |
CropBottom | 0.934732 |
CropConstrainToWarp | 1 |
CropLeft | 0.01813 |
CropRight | 0.98187 |
CropTop | 0.065268 |
CustomRendered | Normal |
DateCreated (1) | 2016:10:13 |
DateCreated | 2016:10:13 19:50:36+02:00 |
DateTimeOriginal | 2016:10:13 19:50:36 |
DefringeGreenAmount | 0 |
DefringeGreenHueHi | 60 |
DefringeGreenHueLo | 40 |
DefringePurpleAmount | 0 |
DefringePurpleHueHi | 70 |
DefringePurpleHueLo | 30 |
Dehaze | 0 |
DOF | inf (2.56 m - inf) |
ExifImageHeight | 3593 |
ExifImageWidth | 5390 |
Exposure2012 | 0.00 |
ExposureCompensation | 0 |
ExposureMode | Auto |
ExposureProgram | Bulb |
ExposureTime | 20 |
Firmware | 1.2.3 |
Flash | Off, Did not fire |
FlashCompensation | 0 |
FNumber | 8.0 |
FocalLength | 24.0 mm |
FocalLength35efl | 24.0 mm (35 mm equivalent: 25.6 mm) |
Format | image/jpeg |
FOV | 70.1 deg |
GrainAmount | 0 |
GreenHue | 0 |
GreenSaturation | 0 |
HasCrop | True |
HasSettings | True |
Highlights2012 | 0 |
HueAdjustmentAqua | 0 |
HueAdjustmentBlue | 0 |
HueAdjustmentGreen | 0 |
HueAdjustmentMagenta | 0 |
HueAdjustmentOrange | 0 |
HueAdjustmentPurple | 0 |
HueAdjustmentRed | 0 |
HueAdjustmentYellow | 0 |
HyperfocalDistance | 2.56 m |
ICCProfileName | Adobe RGB (1998) |
ImageHeight | 3593 |
ImageNumber | 0 |
ImageSize | 5390x3593 |
ImageWidth | 5390 |
ISO | 3200 |
Lens | EF24-105mm f/4L IS USM |
LensID (1) | 237 |
LensID | Canon EF 24-105mm f/4L IS USM |
LensInfo | 24-105mm f/? |
LensManualDistortionAmount | 0 |
LensModel | EF24-105mm f/4L IS USM |
LensProfileEnable | 0 |
LensProfileSetup | LensDefaults |
LensSerialNumber | 0000415fd7 |
LightValue | -3.3 |
LuminanceAdjustmentAqua | 0 |
LuminanceAdjustmentBlue | 0 |
LuminanceAdjustmentGreen | 0 |
LuminanceAdjustmentMagenta | 0 |
LuminanceAdjustmentOrange | 0 |
LuminanceAdjustmentPurple | 0 |
LuminanceAdjustmentRed | 0 |
LuminanceAdjustmentYellow | 0 |
LuminanceSmoothing | 0 |
Make | Canon |
MaxApertureValue | 4.0 |
Megapixels | 19.4 |
MeteringMode | Center-weighted average |
Model | Canon EOS 5D Mark III |
ModifyDate (1) | 2016:10:14 22:11:35+02:00 |
ModifyDate | 2016:10:14 22:11:35 |
Orientation | Horizontal (normal) |
ParametricDarks | 0 |
ParametricHighlights | 0 |
ParametricHighlightSplit | 75 |
ParametricLights | 0 |
ParametricMidtoneSplit | 50 |
ParametricShadows | 0 |
ParametricShadowSplit | 25 |
PerspectiveAspect | 0 |
PerspectiveHorizontal | 0 |
PerspectiveRotate | 0.0 |
PerspectiveScale | 100 |
PerspectiveUpright | 0 |
PerspectiveVertical | 0 |
PerspectiveX | 0.00 |
PerspectiveY | 0.00 |
PostCropVignetteAmount | 0 |
ProcessVersion | 6.7 |
ProfileDescription | Adobe RGB (1998) |
Rating | 0 |
RawFileName | 20161014_0199.CR2 |
RecommendedExposureIndex | 3200 |
RedHue | 0 |
RedSaturation | 0 |
Rights | Kristian H. Tande |
Saturation | 0 |
SaturationAdjustmentAqua | 0 |
SaturationAdjustmentBlue | 0 |
SaturationAdjustmentGreen | 0 |
SaturationAdjustmentMagenta | 0 |
SaturationAdjustmentOrange | 0 |
SaturationAdjustmentPurple | 0 |
SaturationAdjustmentRed | 0 |
SaturationAdjustmentYellow | 0 |
ScaleFactor35efl | 1.1 |
SceneCaptureType | Standard |
SensitivityType | Recommended Exposure Index |
SerialNumber | 203020006401 |
Shadows2012 | 0 |
ShadowTint | 0 |
SharpenDetail | 25 |
SharpenEdgeMasking | 0 |
SharpenRadius | +1.0 |
Sharpness | 25 |
ShutterSpeed | 20 |
ShutterSpeedValue | 20 |
Software | Adobe Photoshop CC 2015.5 (Windows) |
SplitToningBalance | 0 |
SplitToningHighlightHue | 0 |
SplitToningHighlightSaturation | 0 |
SplitToningShadowHue | 0 |
SplitToningShadowSaturation | 0 |
Tint | +51 |
ToneCurve | 0, 0, 32, 22, 64, 56, 128, 128, 192, 196, 255, 255 |
ToneCurveBlue | 0, 0, 255, 255 |
ToneCurveGreen | 0, 0, 255, 255 |
ToneCurveName | Medium Contrast |
ToneCurveName2012 | Linear |
ToneCurvePV2012 | 0, 0, 255, 255 |
ToneCurvePV2012Blue | 0, 0, 255, 255 |
ToneCurvePV2012Green | 0, 0, 255, 255 |
ToneCurvePV2012Red | 0, 0, 255, 255 |
ToneCurveRed | 0, 0, 255, 255 |
ToneMapStrength | 0 |
URL_List | |
Version | 9.7 |
Vibrance | 0 |
VignetteAmount | 0 |
WhiteBalance (1) | As Shot |
WhiteBalance | Auto |
Whites2012 | 0 |