Felt | Verdi |
AlreadyApplied | True |
Aperture | 1.0 |
ApertureValue | 1.0 |
Artist | Arild Thingvoll |
AutoLateralCA | 0 |
AutoWhiteVersion | 134348800 |
BitsPerSample | 8 |
Blacks2012 | 0 |
BlueHue | 0 |
BlueSaturation | 0 |
BrightnessValue | 0.43 |
By-line | Arild Thingvoll |
CameraProfile | Embedded |
CircGradBasedCorrActive | true |
CircGradBasedCorrAmount | 1.000000 |
CircGradBasedCorrBrightness | 0.000000 |
CircGradBasedCorrClarity2012 (5) | 0.034480 |
CircGradBasedCorrClarity2012 | 0.000000 |
CircGradBasedCorrContrast2012 | 0.264370 |
CircGradBasedCorrDefringe | 0.000000 |
CircGradBasedCorrExposure2012 (5) | 0.103500 |
CircGradBasedCorrExposure2012 (7) | 0.057500 |
CircGradBasedCorrExposure2012 (8) | 0.034500 |
CircGradBasedCorrExposure2012 | 0.000000 |
CircGradBasedCorrHighlights2012 (4) | 0.000000 |
CircGradBasedCorrHighlights2012 (5) | 0.310340 |
CircGradBasedCorrHighlights2012 | 0.264370 |
CircGradBasedCorrHue | 240.000000 |
CircGradBasedCorrLocalBlacks2012 | 0.000000 |
CircGradBasedCorrLocalDehaze | 0.000000 |
CircGradBasedCorrLocalWhites2012 | 0.000000 |
CircGradBasedCorrLuminanceNoise | 0.000000 |
CircGradBasedCorrMaskAngle | 0.000000 |
CircGradBasedCorrMaskBottom (1) | 0.760115 |
CircGradBasedCorrMaskBottom (2) | 0.986994 |
CircGradBasedCorrMaskBottom (3) | 0.881503 |
CircGradBasedCorrMaskBottom (4) | 0.988439 |
CircGradBasedCorrMaskBottom (5) | 0.820809 |
CircGradBasedCorrMaskBottom (6) | 1.014450 |
CircGradBasedCorrMaskBottom (7) | 0.329660 |
CircGradBasedCorrMaskBottom (8) | 0.392809 |
CircGradBasedCorrMaskBottom | 0.444118 |
CircGradBasedCorrMaskFeather | +100 |
CircGradBasedCorrMaskFlipped | true |
CircGradBasedCorrMaskLeft (1) | -0.009901 |
CircGradBasedCorrMaskLeft (2) | 0.110891 |
CircGradBasedCorrMaskLeft (3) | 0.325742 |
CircGradBasedCorrMaskLeft (4) | 0.558415 |
CircGradBasedCorrMaskLeft (5) | -0.018813 |
CircGradBasedCorrMaskLeft (6) | 0.730692 |
CircGradBasedCorrMaskLeft (7) | 0.010448 |
CircGradBasedCorrMaskLeft (8) | 0.117694 |
CircGradBasedCorrMaskLeft | 0.206015 |
CircGradBasedCorrMaskMidpoint | +50 |
CircGradBasedCorrMaskRight (1) | 0.281188 |
CircGradBasedCorrMaskRight (2) | 0.401980 |
CircGradBasedCorrMaskRight (3) | 0.616831 |
CircGradBasedCorrMaskRight (4) | 0.849504 |
CircGradBasedCorrMaskRight (5) | 0.272276 |
CircGradBasedCorrMaskRight (6) | 1.021780 |
CircGradBasedCorrMaskRight (7) | 0.167262 |
CircGradBasedCorrMaskRight (8) | 0.274508 |
CircGradBasedCorrMaskRight | 0.362829 |
CircGradBasedCorrMaskRoundness | 0 |
CircGradBasedCorrMaskTop (1) | 0.520231 |
CircGradBasedCorrMaskTop (2) | 0.747110 |
CircGradBasedCorrMaskTop (3) | 0.641619 |
CircGradBasedCorrMaskTop (4) | 0.748555 |
CircGradBasedCorrMaskTop (5) | 0.580925 |
CircGradBasedCorrMaskTop (6) | 0.774567 |
CircGradBasedCorrMaskTop (7) | 0.179679 |
CircGradBasedCorrMaskTop (8) | 0.216516 |
CircGradBasedCorrMaskTop | 0.307293 |
CircGradBasedCorrMaskValue | 1.000000 |
CircGradBasedCorrMaskVersion | +2 |
CircGradBasedCorrMaskWhat | Mask/CircularGradient |
CircGradBasedCorrMoire | 0.000000 |
CircGradBasedCorrSaturation | 0.000000 |
CircGradBasedCorrShadows2012 | 0.000000 |
CircGradBasedCorrSharpness (5) | 0.149430 |
CircGradBasedCorrSharpness | 0.000000 |
CircGradBasedCorrTemperature (1) | 0.000000 |
CircGradBasedCorrTemperature (2) | 0.126440 |
CircGradBasedCorrTemperature (3) | 0.287360 |
CircGradBasedCorrTemperature (4) | 0.218390 |
CircGradBasedCorrTemperature (7) | 0.149430 |
CircGradBasedCorrTemperature (8) | 0.356320 |
CircGradBasedCorrTemperature | 0.471260 |
CircGradBasedCorrTint | 0.000000 |
CircGradBasedCorrWhat | Correction |
CircleOfConfusion | 0.020 mm |
Clarity2012 | 0 |
ColorComponents | 3 |
ColorNoiseReduction | 0 |
ColorSpace | sRGB |
ColorTransform | YCbCr |
Contrast2012 | +12 |
ConvertToGrayscale | False |
Copyright | © Arild Thingvoll |
CopyrightNotice | © Arild Thingvoll |
CreateDate | 2016:11:27 03:00:52 |
Creator | Arild Thingvoll |
CreatorAddress | Ligtvor |
CreatorCity | Vik i Sogn |
CreatorCountry | Norway |
CreatorPostalCode | 6893 |
CreatorRegion | Sogn og Fjordane |
CreatorTool | Adobe Photoshop Lightroom 6.6.1 (Windows) |
CreatorWorkEmail | athingvoll@gmail.com |
CreatorWorkTelephone | 91584513 |
CropAngle | 0.20536 |
CropBottom | 0.895647 |
CropConstrainToWarp | 0 |
CropLeft | 0.011888 |
CropRight | 0.997914 |
CropTop | 0.040771 |
CustomRendered | Normal |
DateCreated (1) | 2016:11:27 |
DateCreated | 2016:11:27 03:00:51 |
DateTimeOriginal | 2016:11:27 03:00:52 |
DefringeGreenAmount | 0 |
DefringeGreenHueHi | 60 |
DefringeGreenHueLo | 40 |
DefringePurpleAmount | 0 |
DefringePurpleHueHi | 70 |
DefringePurpleHueLo | 30 |
Dehaze | 0 |
Exposure2012 | -0.48 |
ExposureCompensation | -1 |
ExposureMode | Auto bracket |
ExposureProgram | Manual |
ExposureTime | 1/125 |
Flash | Off, Did not fire |
FNumber | 1.0 |
FocalLength | 12.0 mm |
FocalLength35efl | 12.0 mm (35 mm equivalent: 18.0 mm) |
FocalLengthIn35mmFormat | 18 mm |
Format | image/jpeg |
FOV | 90.0 deg |
GrainAmount | 0 |
GreenHue | 0 |
GreenSaturation | 0 |
HasCrop | True |
HasSettings | True |
Highlights2012 | 0 |
HueAdjustmentAqua | 0 |
HueAdjustmentBlue | 0 |
HueAdjustmentGreen | +25 |
HueAdjustmentMagenta | 0 |
HueAdjustmentOrange | 0 |
HueAdjustmentPurple | 0 |
HueAdjustmentRed | 0 |
HueAdjustmentYellow | 0 |
HyperfocalDistance | 7.19 m |
ImageHeight | 707 |
ImageSize | 1200x707 |
ImageWidth | 1200 |
IncrementalTemperature | 0 |
IncrementalTint | 0 |
IsMergedHDR | True |
ISO | 400 |
Keywords | 11.16, Ligtvor, fjøre, landskap, sjø |
LateralChromaticAberrationCorrectionAlreadyApplied | True |
Lens | 12.0 mm |
LensInfo | 12mm f/? |
LensManualDistortionAmount | 0 |
LensModel | 12.0 mm |
LensProfileEnable | 0 |
LensProfileSetup | LensDefaults |
LightSource | Unknown |
LightValue | 5.0 |
LuminanceAdjustmentAqua | +11 |
LuminanceAdjustmentBlue | -1 |
LuminanceAdjustmentGreen | +44 |
LuminanceAdjustmentMagenta | 0 |
LuminanceAdjustmentOrange | 0 |
LuminanceAdjustmentPurple | 0 |
LuminanceAdjustmentRed | 0 |
LuminanceAdjustmentYellow | +10 |
LuminanceSmoothing | 0 |
Make | FUJIFILM |
Megapixels | 0.848 |
MeteringMode | Multi-segment |
Model | X-T1 |
ModifyDate (1) | 2016:12:02 20:17:17+01:00 |
ModifyDate | 2016:12:02 20:17:17 |
PaintCorrectionActive | true |
PaintCorrectionAmount | 1.000000 |
PaintCorrectionBrightness | 0.000000 |
PaintCorrectionClarity2012 | 0.000000 |
PaintCorrectionContrast2012 (1) | 0.264370 |
PaintCorrectionContrast2012 (2) | 0.000000 |
PaintCorrectionContrast2012 | 0.149430 |
PaintCorrectionDefringe | 0.000000 |
PaintCorrectionExposure2012 | 0.000000 |
PaintCorrectionHighlights2012 | 0.000000 |
PaintCorrectionHue | 240.000000 |
PaintCorrectionLocalBlacks2012 | 0.000000 |
PaintCorrectionLocalDehaze | 0.000000 |
PaintCorrectionLocalWhites2012 | 0.000000 |
PaintCorrectionLuminanceNoise | 0.000000 |
PaintCorrectionMaskCenterWeight | 0.021471 |
PaintCorrectionMaskFlow | 0.758000 |
PaintCorrectionMaskRadius (1) | 0.233875 |
PaintCorrectionMaskRadius (14) | 0.055339 |
PaintCorrectionMaskRadius (16) | 0.041336 |
PaintCorrectionMaskRadius (17) | 0.084821 |
PaintCorrectionMaskRadius (18) | 0.100299 |
PaintCorrectionMaskRadius (2) | 0.145817 |
PaintCorrectionMaskRadius (7) | 0.084886 |
PaintCorrectionMaskRadius | 0.077267 |
PaintCorrectionMaskValue | 0.494000 |
PaintCorrectionMaskWhat | Mask/Paint |
PaintCorrectionMoire | 0.000000 |
PaintCorrectionSaturation | 0.000000 |
PaintCorrectionShadows2012 (1) | 0.000000 |
PaintCorrectionShadows2012 | 0.333330 |
PaintCorrectionSharpness | 0.000000 |
PaintCorrectionTemperature | 0.000000 |
PaintCorrectionTint | 0.000000 |
PaintCorrectionWhat | Correction |
ParametricDarks | +3 |
ParametricHighlights | 0 |
ParametricHighlightSplit | 75 |
ParametricLights | +55 |
ParametricMidtoneSplit | 50 |
ParametricShadows | +32 |
ParametricShadowSplit | 25 |
PerspectiveAspect | 0 |
PerspectiveHorizontal | 0 |
PerspectiveRotate | 0.0 |
PerspectiveScale | 100 |
PerspectiveUpright | 0 |
PerspectiveVertical | 0 |
PerspectiveX | 0.00 |
PerspectiveY | 0.00 |
PostCropVignetteAmount | -10 |
PostCropVignetteFeather | 50 |
PostCropVignetteHighlightContrast | 0 |
PostCropVignetteMidpoint | 62 |
PostCropVignetteRoundness | 0 |
PostCropVignetteStyle | 1 |
ProcessVersion | 6.7 |
ProfileDescription | sRGB IEC61966-2.1 |
RedHue | 0 |
RedSaturation | 0 |
Rights | © Arild Thingvoll |
Saturation | 0 |
SaturationAdjustmentAqua | 0 |
SaturationAdjustmentBlue | 0 |
SaturationAdjustmentGreen | +7 |
SaturationAdjustmentMagenta | 0 |
SaturationAdjustmentOrange | 0 |
SaturationAdjustmentPurple | 0 |
SaturationAdjustmentRed | 0 |
SaturationAdjustmentYellow | +11 |
ScaleFactor35efl | 1.5 |
SceneCaptureType | Standard |
SensingMethod | One-chip color area |
Shadows2012 | +33 |
ShadowTint | 0 |
SharpenDetail | 21 |
SharpenEdgeMasking | 0 |
SharpenRadius | +0.9 |
Sharpness (1) | 55 |
Sharpness | Normal |
ShutterSpeed | 1/125 |
ShutterSpeedValue | 1/125 |
Software | Adobe Photoshop Lightroom 6.6.1 (Windows) |
SplitToningBalance | 0 |
SplitToningHighlightHue | 0 |
SplitToningHighlightSaturation | 0 |
SplitToningShadowHue | 0 |
SplitToningShadowSaturation | 0 |
Subject | 11.16, Ligtvor, fjøre, landskap, sjø |
SubjectDistanceRange | Unknown |
ToneCurve | 0, 0, 255, 255 |
ToneCurveBlue | 0, 0, 255, 255 |
ToneCurveGreen | 0, 0, 255, 255 |
ToneCurveName | Linear |
ToneCurveName2012 | Linear |
ToneCurvePV2012 | 0, 0, 255, 255 |
ToneCurvePV2012Blue | 0, 0, 255, 255 |
ToneCurvePV2012Green | 0, 0, 255, 255 |
ToneCurvePV2012Red | 0, 0, 255, 255 |
ToneCurveRed | 0, 0, 255, 255 |
ToneMapStrength | 0 |
Version | 9.6 |
Vibrance | +7 |
VignetteAmount | 0 |
WhiteBalance (1) | As Shot |
WhiteBalance | Auto |
Whites2012 | 0 |