Felt | Verdi |
AlreadyApplied | True |
Aperture | 10.0 |
ApertureValue | 10.0 |
ApproximateFocusDistance | 36.9 |
AutoLateralCA | 0 |
BitsPerSample | 8 |
Blacks2012 | 0 |
BlueHue | 0 |
BlueSaturation | 0 |
Brightness | +50 |
CameraProfile | Adobe Standard |
CircleOfConfusion | 0.019 mm |
Clarity | 0 |
Clarity2012 | 0 |
ColorComponents | 3 |
ColorMode | RGB |
ColorNoiseReduction | 25 |
ColorNoiseReductionDetail | 50 |
ColorSpace | Uncalibrated |
ColorTemperature | 4800 |
ColorTransform | YCbCr |
Contrast | +25 |
Contrast2012 | +5 |
ConvertToGrayscale | False |
CreateDate | 2017:01:24 09:01:17 |
CustomRendered | Normal |
DateCreated (1) | 2017:01:24 |
DateCreated | 2017:01:24 09:01:17 |
DateTimeOriginal | 2017:01:24 09:01:17 |
Defringe | 0 |
DOF | inf (14.36 m - inf) |
ExifImageHeight | 732 |
ExifImageWidth | 1280 |
Exposure | 0.00 |
Exposure2012 | +0.70 |
ExposureCompensation | 0 |
ExposureMode | Auto |
ExposureProgram | Aperture-priority AE |
ExposureTime | 1/400 |
FillLight | 0 |
Firmware | 1.2.2 |
Flash | Off, Did not fire |
FlashCompensation | 0 |
FNumber | 10.0 |
FocalLength | 67.0 mm |
FocalLength35efl | 67.0 mm (35 mm equivalent: 105.2 mm) |
Format | image/jpeg |
FOV | 19.4 deg |
GrainAmount | 0 |
GreenHue | 0 |
GreenSaturation | 0 |
HasCrop | False |
HasSettings | True |
HighlightRecovery | 0 |
Highlights2012 | -4 |
HueAdjustmentAqua | 0 |
HueAdjustmentBlue | 0 |
HueAdjustmentGreen | 0 |
HueAdjustmentMagenta | 0 |
HueAdjustmentOrange | 0 |
HueAdjustmentPurple | 0 |
HueAdjustmentRed | 0 |
HueAdjustmentYellow | 0 |
HyperfocalDistance | 23.46 m |
ICCProfileName | Adobe RGB (1998) |
ImageHeight | 732 |
ImageNumber | 0 |
ImageSize | 1280x732 |
ImageWidth | 1280 |
ISO | 100 |
Lens | EF-S15-85mm f/3.5-5.6 IS USM |
LensID (1) | 488 |
LensID | Canon EF-S 15-85mm f/3.5-5.6 IS USM |
LensInfo | 15-85mm f/? |
LensManualDistortionAmount | 0 |
LensModel | EF-S15-85mm f/3.5-5.6 IS USM |
LensProfileEnable | 0 |
LensProfileSetup | LensDefaults |
LightValue | 15.3 |
LuminanceAdjustmentAqua | 0 |
LuminanceAdjustmentBlue | 0 |
LuminanceAdjustmentGreen | 0 |
LuminanceAdjustmentMagenta | 0 |
LuminanceAdjustmentOrange | 0 |
LuminanceAdjustmentPurple | 0 |
LuminanceAdjustmentRed | 0 |
LuminanceAdjustmentYellow | 0 |
LuminanceSmoothing | 0 |
Make | Canon |
MaxApertureValue | 5.4 |
Megapixels | 0.937 |
MeteringMode | Spot |
Model | Canon EOS 7D |
ModifyDate (1) | 2017:01:24 10:34:39+01:00 |
ModifyDate | 2017:01:24 10:34:39 |
Orientation | Horizontal (normal) |
ParametricDarks | 0 |
ParametricHighlights | 0 |
ParametricHighlightSplit | 75 |
ParametricLights | 0 |
ParametricMidtoneSplit | 50 |
ParametricShadows | 0 |
ParametricShadowSplit | 25 |
PerspectiveHorizontal | 0 |
PerspectiveRotate | 0.0 |
PerspectiveScale | 100 |
PerspectiveVertical | 0 |
PostCropVignetteAmount | 0 |
ProcessVersion | 6.7 |
ProfileDescription | Adobe RGB (1998) |
Rating | 0 |
RawFileName | IMG_8193 – Kopi – Kopi.CR2 |
RedHue | 0 |
RedSaturation | 0 |
Saturation | 0 |
SaturationAdjustmentAqua | 0 |
SaturationAdjustmentBlue | 0 |
SaturationAdjustmentGreen | 0 |
SaturationAdjustmentMagenta | 0 |
SaturationAdjustmentOrange | 0 |
SaturationAdjustmentPurple | 0 |
SaturationAdjustmentRed | 0 |
SaturationAdjustmentYellow | 0 |
ScaleFactor35efl | 1.6 |
SceneCaptureType | Standard |
SerialNumber | 1580813997 |
Shadows | 5 |
Shadows2012 | +3 |
ShadowTint | 0 |
SharpenDetail | 25 |
SharpenEdgeMasking | 0 |
SharpenRadius | +1.0 |
Sharpness | 25 |
ShutterSpeed | 1/400 |
ShutterSpeedValue | 1/400 |
Software | Adobe Photoshop CS6 (Windows) |
SplitToningBalance | 0 |
SplitToningHighlightHue | 0 |
SplitToningHighlightSaturation | 0 |
SplitToningShadowHue | 0 |
SplitToningShadowSaturation | 0 |
Tint | +9 |
ToneCurve | 0, 0, 32, 22, 64, 56, 128, 128, 192, 196, 255, 255 |
ToneCurveBlue | 0, 0, 255, 255 |
ToneCurveGreen | 0, 0, 255, 255 |
ToneCurveName | Medium Contrast |
ToneCurveName2012 | Linear |
ToneCurvePV2012 | 0, 0, 255, 255 |
ToneCurvePV2012Blue | 0, 0, 255, 255 |
ToneCurvePV2012Green | 0, 0, 255, 255 |
ToneCurvePV2012Red | 0, 0, 255, 255 |
ToneCurveRed | 0, 0, 255, 255 |
URL_List | |
Version | 7.0 |
Vibrance | 0 |
VignetteAmount | 0 |
WhiteBalance (1) | As Shot |
WhiteBalance | Auto |
Whites2012 | 0 |