Felt | Verdi |
AlreadyApplied | True |
Aperture | 13.0 |
ApertureValue | 13.0 |
ApproximateFocusDistance | 4294967295 |
AutoLateralCA | 1 |
AutoWhiteVersion | 134348800 |
BitsPerSample | 8 |
Blacks2012 | +26 |
BlueHue | 0 |
BlueSaturation | 0 |
CameraProfile | Adobe Standard |
CircleOfConfusion | 0.029 mm |
Clarity2012 | +26 |
ColorComponents | 3 |
ColorNoiseReduction | 25 |
ColorNoiseReductionDetail | 50 |
ColorNoiseReductionSmoothness | 50 |
ColorSpace | sRGB |
ColorTemperature | 7500 |
ColorTransform | YCbCr |
Contrast2012 | +13 |
ConvertToGrayscale | False |
CreateDate (1) | 2017:02:19 08:08:06.63 |
CreateDate | 2017:02:19 08:08:06 |
CreatorTool | Adobe Photoshop Lightroom 6.7 (Windows) |
CropAngle | 0.690641 |
CropBottom | 0.993374 |
CropConstrainToWarp | 0 |
CropLeft | 0.015686 |
CropRight | 0.989243 |
CropTop | 0 |
CustomRendered | Normal |
DateCreated (1) | 2017:02:19 |
DateCreated | 2017:02:19 08:08:06.63 |
DateTimeOriginal | 2017:02:19 08:08:06 |
DefringeGreenAmount | 0 |
DefringeGreenHueHi | 60 |
DefringeGreenHueLo | 40 |
DefringePurpleAmount | 0 |
DefringePurpleHueHi | 70 |
DefringePurpleHueLo | 30 |
Dehaze | +11 |
DOF | inf (0.94 m - inf) |
Exposure2012 | +0.44 |
ExposureCompensation | 0 |
ExposureMode | Manual |
ExposureProgram | Manual |
ExposureTime | 0.3 |
Firmware | 1.1.6 |
Flash | Off, Did not fire |
FlashCompensation | 0 |
FNumber | 13.0 |
FocalLength | 19.0 mm |
FocalLength35efl | 19.0 mm (35 mm equivalent: 19.4 mm) |
Format | image/jpeg |
FOV | 85.7 deg |
GradientBasedCorrActive | true |
GradientBasedCorrAmount | 1.000000 |
GradientBasedCorrBrightness | 0.000000 |
GradientBasedCorrClarity2012 (1) | -0.387390 |
GradientBasedCorrClarity2012 | 0.261260 |
GradientBasedCorrContrast2012 | 0.099100 |
GradientBasedCorrDefringe | 0.000000 |
GradientBasedCorrExposure2012 (1) | -0.153250 |
GradientBasedCorrExposure2012 | 0.099000 |
GradientBasedCorrHighlights2012 (1) | -0.657660 |
GradientBasedCorrHighlights2012 | 0.009010 |
GradientBasedCorrHue | 0.000000 |
GradientBasedCorrLocalBlacks2012 (1) | -0.009010 |
GradientBasedCorrLocalBlacks2012 | 0.081080 |
GradientBasedCorrLocalDehaze (1) | 0.117120 |
GradientBasedCorrLocalDehaze | 0.027030 |
GradientBasedCorrLocalWhites2012 (1) | -0.657660 |
GradientBasedCorrLocalWhites2012 | 0.117120 |
GradientBasedCorrLuminanceNoise (1) | 0.297300 |
GradientBasedCorrLuminanceNoise | 0.477480 |
GradientBasedCorrMaskFullX (1) | 0.565221 |
GradientBasedCorrMaskFullX | 0.539720 |
GradientBasedCorrMaskFullY (1) | 0.013018 |
GradientBasedCorrMaskFullY | 0.809616 |
GradientBasedCorrMaskValue | 1.000000 |
GradientBasedCorrMaskWhat | Mask/Gradient |
GradientBasedCorrMaskZeroX (1) | 0.565849 |
GradientBasedCorrMaskZeroX | 0.546811 |
GradientBasedCorrMaskZeroY (1) | 0.617020 |
GradientBasedCorrMaskZeroY | -0.138970 |
GradientBasedCorrMoire | 0.000000 |
GradientBasedCorrSaturation (1) | 0.171170 |
GradientBasedCorrSaturation (3) | 0.117120 |
GradientBasedCorrSaturation | 0.000000 |
GradientBasedCorrShadows2012 (1) | 0.009010 |
GradientBasedCorrShadows2012 | -0.117120 |
GradientBasedCorrSharpness (1) | 0.063060 |
GradientBasedCorrSharpness | 0.207210 |
GradientBasedCorrTemperature | -0.088930 |
GradientBasedCorrTint | 0.153150 |
GradientBasedCorrWhat | Correction |
GrainAmount | 0 |
GreenHue | 0 |
GreenSaturation | 0 |
HasCrop | True |
HasExtendedXMP | 27371E2EF020F5D982CF1275BF83BCB0 |
HasSettings | True |
Highlights2012 | -94 |
HueAdjustmentAqua | 0 |
HueAdjustmentBlue | 0 |
HueAdjustmentGreen | 0 |
HueAdjustmentMagenta | 0 |
HueAdjustmentOrange | 0 |
HueAdjustmentPurple | 0 |
HueAdjustmentRed | 0 |
HueAdjustmentYellow | 0 |
HyperfocalDistance | 0.94 m |
ImageHeight | 3560 |
ImageNumber | 0 |
ImageSize | 5371x3560 |
ImageWidth | 5371 |
ISO | 50 |
Lens | EF16-35mm f/4L IS USM |
LensID (1) | 507 |
LensID | Canon EF 16-35mm f/4L IS USM |
LensInfo | 16-35mm f/? |
LensManualDistortionAmount | 0 |
LensModel | EF16-35mm f/4L IS USM |
LensProfileChromaticAberrationScale | 100 |
LensProfileDistortionScale | 100 |
LensProfileEnable | 1 |
LensProfileFilename | Canon EOS-1Ds Mark III (Canon EF 16-35mm f4L IS USM v2) - RAW.lcp |
LensProfileName | Adobe (Canon EF 16-35mm f/4L IS USM) v2 |
LensProfileSetup | LensDefaults |
LensProfileVignettingScale | 100 |
LensSerialNumber | 3010000535 |
LightValue | 10.1 |
LuminanceAdjustmentAqua | 0 |
LuminanceAdjustmentBlue | 0 |
LuminanceAdjustmentGreen | 0 |
LuminanceAdjustmentMagenta | 0 |
LuminanceAdjustmentOrange | 0 |
LuminanceAdjustmentPurple | 0 |
LuminanceAdjustmentRed | 0 |
LuminanceAdjustmentYellow | 0 |
LuminanceNoiseReductionContrast | 0 |
LuminanceNoiseReductionDetail | 50 |
LuminanceSmoothing | 27 |
Make | Canon |
MaxApertureValue | 4.0 |
Megapixels | 19.1 |
MeteringMode | Multi-segment |
Model | Canon EOS 6D |
ModifyDate (1) | 2017:02:20 09:21:54+01:00 |
ModifyDate | 2017:02:20 09:21:54 |
PaintCorrectionActive | true |
PaintCorrectionAmount | 1.000000 |
PaintCorrectionBrightness | 0.000000 |
PaintCorrectionClarity2012 (1) | 0.027030 |
PaintCorrectionClarity2012 (3) | 0.297300 |
PaintCorrectionClarity2012 | 0.000000 |
PaintCorrectionContrast2012 | 0.000000 |
PaintCorrectionDefringe | 0.000000 |
PaintCorrectionExposure2012 | 0.000000 |
PaintCorrectionHighlights2012 | 0.000000 |
PaintCorrectionHue | 0.000000 |
PaintCorrectionLocalBlacks2012 (1) | 0.207210 |
PaintCorrectionLocalBlacks2012 | 0.000000 |
PaintCorrectionLocalDehaze (1) | 0.000000 |
PaintCorrectionLocalDehaze | 0.009010 |
PaintCorrectionLocalWhites2012 | 0.000000 |
PaintCorrectionLuminanceNoise | 0.000000 |
PaintCorrectionMaskCenterWeight | 0.001143 |
PaintCorrectionMaskFlow | 1.000000 |
PaintCorrectionMaskRadius (1) | 0.103726 |
PaintCorrectionMaskRadius (10) | 0.104622 |
PaintCorrectionMaskRadius (11) | 0.103806 |
PaintCorrectionMaskRadius (12) | 0.103808 |
PaintCorrectionMaskRadius (3) | 0.103718 |
PaintCorrectionMaskRadius (6) | 0.103736 |
PaintCorrectionMaskRadius (8) | 0.103739 |
PaintCorrectionMaskRadius (9) | 0.103720 |
PaintCorrectionMaskRadius | 0.103862 |
PaintCorrectionMaskValue | 1.000000 |
PaintCorrectionMaskWhat | Mask/Paint |
PaintCorrectionMoire | 0.000000 |
PaintCorrectionSaturation (1) | 0.603600 |
PaintCorrectionSaturation | 0.000000 |
PaintCorrectionShadows2012 | 0.000000 |
PaintCorrectionSharpness (2) | 0.000000 |
PaintCorrectionSharpness | 0.315320 |
PaintCorrectionTemperature (1) | 0.080000 |
PaintCorrectionTemperature | 0.000000 |
PaintCorrectionTint | 0.000000 |
PaintCorrectionWhat | Correction |
ParametricDarks | 0 |
ParametricHighlights | +19 |
ParametricHighlightSplit | 75 |
ParametricLights | 0 |
ParametricMidtoneSplit | 50 |
ParametricShadows | 0 |
ParametricShadowSplit | 25 |
PerspectiveAspect | 0 |
PerspectiveHorizontal | 0 |
PerspectiveRotate | 0.0 |
PerspectiveScale | 100 |
PerspectiveUpright | 0 |
PerspectiveVertical | 0 |
PerspectiveX | 0.00 |
PerspectiveY | 0.00 |
PostCropVignetteAmount | 0 |
ProcessVersion | 6.7 |
ProfileDescription | sRGB IEC61966-2.1 |
Rating | 4 |
RecommendedExposureIndex | 50 |
RedHue | +5 |
RedSaturation | +13 |
Saturation | +15 |
SaturationAdjustmentAqua | -5 |
SaturationAdjustmentBlue | -1 |
SaturationAdjustmentGreen | 0 |
SaturationAdjustmentMagenta | 0 |
SaturationAdjustmentOrange | +14 |
SaturationAdjustmentPurple | 0 |
SaturationAdjustmentRed | +23 |
SaturationAdjustmentYellow | +12 |
ScaleFactor35efl | 1.0 |
SceneCaptureType | Standard |
SensitivityType | Recommended Exposure Index |
SerialNumber | 353051001974 |
Shadows2012 | +36 |
ShadowTint | 0 |
SharpenDetail | 25 |
SharpenEdgeMasking | 0 |
SharpenRadius | +1.0 |
Sharpness | 51 |
ShutterSpeed | 0.3 |
ShutterSpeedValue | 0.3 |
Software | Adobe Photoshop Lightroom 6.7 (Windows) |
SplitToningBalance | 0 |
SplitToningHighlightHue | 0 |
SplitToningHighlightSaturation | 0 |
SplitToningShadowHue | 0 |
SplitToningShadowSaturation | 0 |
Tint | +13 |
ToneCurve | 0, 0, 255, 255 |
ToneCurveBlue | 0, 0, 255, 255 |
ToneCurveGreen | 0, 0, 255, 255 |
ToneCurveName | Linear |
ToneCurveName2012 | Linear |
ToneCurvePV2012 | 0, 0, 255, 255 |
ToneCurvePV2012Blue | 0, 0, 255, 255 |
ToneCurvePV2012Green | 0, 0, 255, 255 |
ToneCurvePV2012Red | 0, 0, 255, 255 |
ToneCurveRed | 0, 0, 255, 255 |
ToneMapStrength | 0 |
Version | 9.7 |
Vibrance | +9 |
VignetteAmount | 0 |
WhiteBalance | Auto |
Whites2012 | 0 |