Felt | Verdi |
AlreadyApplied | True |
Aperture | 13.0 |
ApertureValue | 13.0 |
ApproximateFocusDistance | 4294967295 |
AutoLateralCA | 1 |
AutoWhiteVersion | 134348800 |
BitsPerSample | 8 |
Blacks2012 | +18 |
BlueHue | 0 |
BlueSaturation | 0 |
CameraProfile | Adobe Standard |
CircleOfConfusion | 0.028 mm |
Clarity2012 | +9 |
ColorComponents | 3 |
ColorNoiseReduction | 25 |
ColorNoiseReductionDetail | 50 |
ColorNoiseReductionSmoothness | 50 |
ColorSpace | sRGB |
ColorTemperature | 7500 |
ColorTransform | YCbCr |
Contrast2012 | +15 |
ConvertToGrayscale | False |
CreateDate (1) | 2017:04:13 05:18:47.32 |
CreateDate | 2017:04:13 05:18:47 |
CreatorTool | Adobe Photoshop Lightroom 6.7 (Windows) |
CropAngle | 0 |
CropBottom | 1 |
CropConstrainToWarp | 0 |
CropLeft | 0.009662 |
CropRight | 0.889855 |
CropTop | 0 |
CustomRendered | Normal |
DateCreated (1) | 2017:04:13 |
DateCreated | 2017:04:13 05:18:47.32 |
DateTimeOriginal | 2017:04:13 05:18:47 |
DefringeGreenAmount | 0 |
DefringeGreenHueHi | 60 |
DefringeGreenHueLo | 40 |
DefringePurpleAmount | 0 |
DefringePurpleHueHi | 70 |
DefringePurpleHueLo | 30 |
Dehaze | +17 |
DOF | inf (0.90 m - inf) |
Exposure2012 | +0.92 |
ExposureCompensation | 0 |
ExposureMode | Manual |
ExposureProgram | Manual |
ExposureTime | 1 |
Firmware | 1.1.6 |
Flash | Off, Did not fire |
FlashCompensation | 0 |
FNumber | 13.0 |
FocalLength | 18.0 mm |
FocalLength35efl | 18.0 mm (35 mm equivalent: 19.6 mm) |
Format | image/jpeg |
FOV | 85.1 deg |
GradientBasedCorrActive | true |
GradientBasedCorrAmount | 1.000000 |
GradientBasedCorrBrightness | 0.000000 |
GradientBasedCorrClarity2012 (1) | 0.261260 |
GradientBasedCorrClarity2012 | 0.153150 |
GradientBasedCorrContrast2012 (1) | 0.135140 |
GradientBasedCorrContrast2012 | 0.117120 |
GradientBasedCorrDefringe (1) | 0.081080 |
GradientBasedCorrDefringe | 0.000000 |
GradientBasedCorrExposure2012 (1) | -0.117000 |
GradientBasedCorrExposure2012 | 0.207250 |
GradientBasedCorrHighlights2012 | -1.000000 |
GradientBasedCorrHue (1) | 356.000000 |
GradientBasedCorrHue | 240.000000 |
GradientBasedCorrLocalBlacks2012 (1) | 0.081080 |
GradientBasedCorrLocalBlacks2012 | -0.189190 |
GradientBasedCorrLocalDehaze (1) | 0.081080 |
GradientBasedCorrLocalDehaze | 0.225230 |
GradientBasedCorrLocalWhites2012 (1) | -0.099100 |
GradientBasedCorrLocalWhites2012 | 0.837840 |
GradientBasedCorrLuminanceNoise (1) | 0.459460 |
GradientBasedCorrLuminanceNoise | 0.153150 |
GradientBasedCorrMaskFullX (1) | 0.462813 |
GradientBasedCorrMaskFullX | 0.478147 |
GradientBasedCorrMaskFullY (1) | -0.017653 |
GradientBasedCorrMaskFullY | 0.734985 |
GradientBasedCorrMaskValue | 1.000000 |
GradientBasedCorrMaskWhat | Mask/Gradient |
GradientBasedCorrMaskZeroX (1) | 0.462432 |
GradientBasedCorrMaskZeroX | 0.478093 |
GradientBasedCorrMaskZeroY (1) | 0.574945 |
GradientBasedCorrMaskZeroY | -0.058735 |
GradientBasedCorrMoire (1) | 0.099100 |
GradientBasedCorrMoire | 0.000000 |
GradientBasedCorrSaturation (1) | 0.081080 |
GradientBasedCorrSaturation (3) | 0.045050 |
GradientBasedCorrSaturation | 0.000000 |
GradientBasedCorrShadows2012 (1) | -0.297300 |
GradientBasedCorrShadows2012 | 0.117120 |
GradientBasedCorrSharpness (1) | -0.333330 |
GradientBasedCorrSharpness | 0.189190 |
GradientBasedCorrTemperature (1) | 0.081080 |
GradientBasedCorrTemperature | 0.000000 |
GradientBasedCorrTint (1) | -0.027030 |
GradientBasedCorrTint | 0.000000 |
GradientBasedCorrWhat | Correction |
GrainAmount | 0 |
GreenHue | 0 |
GreenSaturation | 0 |
HasCrop | True |
HasSettings | True |
Highlights2012 | -75 |
HueAdjustmentAqua | 0 |
HueAdjustmentBlue | 0 |
HueAdjustmentGreen | 0 |
HueAdjustmentMagenta | 0 |
HueAdjustmentOrange | 0 |
HueAdjustmentPurple | 0 |
HueAdjustmentRed | 0 |
HueAdjustmentYellow | 0 |
HyperfocalDistance | 0.90 m |
ImageHeight | 3648 |
ImageNumber | 0 |
ImageSize | 4816x3648 |
ImageWidth | 4816 |
ISO | 50 |
Lens | EF16-35mm f/4L IS USM |
LensID (1) | 507 |
LensID | Canon EF 16-35mm f/4L IS USM |
LensInfo | 16-35mm f/? |
LensManualDistortionAmount | 0 |
LensModel | EF16-35mm f/4L IS USM |
LensProfileChromaticAberrationScale | 100 |
LensProfileDistortionScale | 100 |
LensProfileEnable | 1 |
LensProfileFilename | Canon EOS-1Ds Mark III (Canon EF 16-35mm f4L IS USM v2) - RAW.lcp |
LensProfileName | Adobe (Canon EF 16-35mm f/4L IS USM) v2 |
LensProfileSetup | LensDefaults |
LensProfileVignettingScale | 100 |
LensSerialNumber | 3010000535 |
LightValue | 8.4 |
LuminanceAdjustmentAqua | 0 |
LuminanceAdjustmentBlue | 0 |
LuminanceAdjustmentGreen | 0 |
LuminanceAdjustmentMagenta | 0 |
LuminanceAdjustmentOrange | 0 |
LuminanceAdjustmentPurple | 0 |
LuminanceAdjustmentRed | 0 |
LuminanceAdjustmentYellow | 0 |
LuminanceNoiseReductionContrast | 0 |
LuminanceNoiseReductionDetail | 50 |
LuminanceSmoothing | 26 |
Make | Canon |
MaxApertureValue | 4.0 |
Megapixels | 17.6 |
MeteringMode | Spot |
Model | Canon EOS 6D |
ModifyDate (1) | 2017:04:14 08:36:58+02:00 |
ModifyDate | 2017:04:14 08:36:58 |
PaintCorrectionActive | true |
PaintCorrectionAmount | 1.000000 |
PaintCorrectionBrightness | 0.000000 |
PaintCorrectionClarity2012 | 0.405410 |
PaintCorrectionContrast2012 | 0.117120 |
PaintCorrectionDefringe | 0.000000 |
PaintCorrectionExposure2012 | 0.117000 |
PaintCorrectionHighlights2012 | -0.423420 |
PaintCorrectionHue | 240.000000 |
PaintCorrectionLocalBlacks2012 | 0.081080 |
PaintCorrectionLocalDehaze | 0.081080 |
PaintCorrectionLocalWhites2012 | 0.000000 |
PaintCorrectionLuminanceNoise | 0.099100 |
PaintCorrectionMaskCenterWeight | 0.008646 |
PaintCorrectionMaskFlow | 1.000000 |
PaintCorrectionMaskRadius (1) | 0.086794 |
PaintCorrectionMaskRadius | 0.085067 |
PaintCorrectionMaskValue | 1.000000 |
PaintCorrectionMaskWhat | Mask/Paint |
PaintCorrectionMoire | 0.000000 |
PaintCorrectionSaturation (1) | 0.045050 |
PaintCorrectionSaturation | 0.000000 |
PaintCorrectionShadows2012 | 0.063060 |
PaintCorrectionSharpness | 0.081080 |
PaintCorrectionTemperature | 0.000000 |
PaintCorrectionTint | 0.000000 |
PaintCorrectionWhat | Correction |
ParametricDarks | +3 |
ParametricHighlights | +3 |
ParametricHighlightSplit | 75 |
ParametricLights | +6 |
ParametricMidtoneSplit | 50 |
ParametricShadows | -6 |
ParametricShadowSplit | 25 |
PerspectiveAspect | 0 |
PerspectiveHorizontal | 0 |
PerspectiveRotate | 0.0 |
PerspectiveScale | 100 |
PerspectiveUpright | 0 |
PerspectiveVertical | 0 |
PerspectiveX | 0.00 |
PerspectiveY | 0.00 |
PostCropVignetteAmount | 0 |
ProcessVersion | 6.7 |
ProfileDescription | sRGB IEC61966-2.1 |
RecommendedExposureIndex | 50 |
RedHue | 0 |
RedSaturation | 0 |
Saturation | +7 |
SaturationAdjustmentAqua | +1 |
SaturationAdjustmentBlue | 0 |
SaturationAdjustmentGreen | 0 |
SaturationAdjustmentMagenta | 0 |
SaturationAdjustmentOrange | 0 |
SaturationAdjustmentPurple | 0 |
SaturationAdjustmentRed | 0 |
SaturationAdjustmentYellow | 0 |
ScaleFactor35efl | 1.1 |
SceneCaptureType | Standard |
SensitivityType | Recommended Exposure Index |
SerialNumber | 353051001974 |
Shadows2012 | +22 |
ShadowTint | 0 |
SharpenDetail | 25 |
SharpenEdgeMasking | 0 |
SharpenRadius | +1.0 |
Sharpness | 52 |
ShutterSpeed | 1 |
ShutterSpeedValue | 1 |
Software | Adobe Photoshop Lightroom 6.7 (Windows) |
SplitToningBalance | 0 |
SplitToningHighlightHue | 0 |
SplitToningHighlightSaturation | 0 |
SplitToningShadowHue | 0 |
SplitToningShadowSaturation | 0 |
Tint | +21 |
ToneCurve | 0, 0, 255, 255 |
ToneCurveBlue | 0, 0, 255, 255 |
ToneCurveGreen | 0, 0, 255, 255 |
ToneCurveName | Linear |
ToneCurveName2012 | Linear |
ToneCurvePV2012 | 0, 0, 255, 255 |
ToneCurvePV2012Blue | 0, 0, 255, 255 |
ToneCurvePV2012Green | 0, 0, 255, 255 |
ToneCurvePV2012Red | 0, 0, 255, 255 |
ToneCurveRed | 0, 0, 255, 255 |
ToneMapStrength | 0 |
Version | 9.7 |
Vibrance | +5 |
VignetteAmount | 0 |
WhiteBalance | Auto |
Whites2012 | 0 |