Felt | Verdi |
AlreadyApplied | True |
AutoLateralCA | 1 |
AutoWhiteVersion | 134348800 |
BitDepth | 8 |
Blacks2012 | +1 |
BlueHue | 0 |
BlueSaturation | 0 |
BlueX | 0.14999 |
BlueY | 0.05999 |
BrightnessValue | -9.49453125 |
CameraProfile | Adobe Standard |
CircleOfConfusion | 0.020 mm |
Clarity2012 | +50 |
ColorMode | RGB |
ColorNoiseReduction | 13 |
ColorNoiseReductionDetail | 50 |
ColorNoiseReductionSmoothness | 100 |
ColorSpace | Uncalibrated |
ColorTemperature | 4350 |
ColorType | RGB |
Contrast | Normal |
Contrast2012 | +81 |
ConvertToGrayscale | False |
CreateDate | 2017:07:18 22:25:22 |
CreatorTool | Adobe Photoshop CC 2017 (Windows) |
CropAngle | 0 |
CropBottom | 1 |
CropConstrainToWarp | 1 |
CropLeft | 0 |
CropRight | 1 |
CropTop | 0 |
CustomRendered | Normal |
DateCreated | 2017:07:18 22:25:22 |
DateTimeOriginal | 2017:07:18 22:25:22 |
DefringeGreenAmount | 2 |
DefringeGreenHueHi | 58 |
DefringeGreenHueLo | 12 |
DefringePurpleAmount | 2 |
DefringePurpleHueHi | 87 |
DefringePurpleHueLo | 39 |
Dehaze | 0 |
DigitalZoomRatio | 1 |
DistortionCorrectionAlreadyApplied | True |
ExifImageHeight | 6000 |
ExifImageWidth | 4000 |
Exposure2012 | +0.45 |
ExposureCompensation | 0 |
ExposureMode | Manual |
ExposureProgram | Manual |
ExposureTime | 13 |
Filter | Adaptive |
Flash | Off, Did not fire |
FlashFired | False |
FlashFunction | False |
FlashMode | Off |
FlashRedEyeMode | False |
FlashReturn | No return detection |
Format | image/png |
GrainAmount | 0 |
GreenHue | 0 |
GreenSaturation | 0 |
GreenX | 0.21 |
GreenY | 0.71 |
HasCrop | True |
HasSettings | True |
Highlights2012 | +17 |
HueAdjustmentAqua | 0 |
HueAdjustmentBlue | 0 |
HueAdjustmentGreen | 0 |
HueAdjustmentMagenta | 0 |
HueAdjustmentOrange | 0 |
HueAdjustmentPurple | 0 |
HueAdjustmentRed | 0 |
HueAdjustmentYellow | 0 |
ICCProfileName | Adobe RGB (1998) |
ImageHeight | 6000 |
ImageSize | 4000x6000 |
ImageWidth | 4000 |
Interlace | Noninterlaced |
ISO | 800 |
LateralChromaticAberrationCorrectionAlreadyApplied | True |
Lens | ---- |
LensManualDistortionAmount | 0 |
LensProfileChromaticAberrationScale | 100 |
LensProfileDistortionScale | 100 |
LensProfileEnable | 1 |
LensProfileFilename | SONY FE (Rokinon 24mm f1.4 ED AS IF UMC) - RAW vig.lcp |
LensProfileName | Adobe (Rokinon 24mm f/1.4 ED AS IF UMC, SONY FE) |
LensProfileSetup | Custom |
LensProfileVignettingScale | 100 |
LightSource | Unknown |
LuminanceAdjustmentAqua | 0 |
LuminanceAdjustmentBlue | 0 |
LuminanceAdjustmentGreen | 0 |
LuminanceAdjustmentMagenta | 0 |
LuminanceAdjustmentOrange | 0 |
LuminanceAdjustmentPurple | 0 |
LuminanceAdjustmentRed | 0 |
LuminanceAdjustmentYellow | 0 |
LuminanceNoiseReductionContrast | 100 |
LuminanceNoiseReductionDetail | 100 |
LuminanceSmoothing | 33 |
Make | SONY |
MaxApertureValue | 1.0 |
Megapixels | 24.0 |
MeteringMode | Multi-segment |
Model | ILCE-6000 |
ModifyDate | 2017:08:01 14:12:20+02:00 |
Orientation | Horizontal (normal) |
PaintCorrectionActive | true |
PaintCorrectionAmount | 1.000000 |
PaintCorrectionBrightness | 0.000000 |
PaintCorrectionClarity | 0.000000 |
PaintCorrectionClarity2012 (1) | 0.370000 |
PaintCorrectionClarity2012 | 0.290000 |
PaintCorrectionContrast | 0.000000 |
PaintCorrectionContrast2012 (1) | 0.640000 |
PaintCorrectionContrast2012 | 0.500000 |
PaintCorrectionDefringe (1) | 0.330000 |
PaintCorrectionDefringe | 0.310000 |
PaintCorrectionExposure | 0.000000 |
PaintCorrectionExposure2012 (1) | -0.300000 |
PaintCorrectionExposure2012 | 0.025000 |
PaintCorrectionHighlights2012 (1) | 0.240000 |
PaintCorrectionHighlights2012 | 0.090000 |
PaintCorrectionHue | 0.000000 |
PaintCorrectionLocalBlacks2012 (1) | 0.020000 |
PaintCorrectionLocalBlacks2012 | -0.090000 |
PaintCorrectionLocalDehaze | 0.050000 |
PaintCorrectionLocalWhites2012 | -0.160000 |
PaintCorrectionLuminanceNoise (1) | 0.000000 |
PaintCorrectionLuminanceNoise | -0.110000 |
PaintCorrectionMaskCenterWeight (10) | 0.126044 |
PaintCorrectionMaskCenterWeight (16) | 0.105656 |
PaintCorrectionMaskCenterWeight (21) | 0.337240 |
PaintCorrectionMaskCenterWeight (4) | 0.092037 |
PaintCorrectionMaskCenterWeight (48) | 0.043623 |
PaintCorrectionMaskCenterWeight (61) | 0.052200 |
PaintCorrectionMaskCenterWeight (7) | 0.049246 |
PaintCorrectionMaskCenterWeight | 0.000000 |
PaintCorrectionMaskFlow (23) | 1.000000 |
PaintCorrectionMaskFlow | 0.888889 |
PaintCorrectionMaskRadius (1) | 0.031697 |
PaintCorrectionMaskRadius (10) | 0.351328 |
PaintCorrectionMaskRadius (11) | 0.346426 |
PaintCorrectionMaskRadius (12) | 0.346338 |
PaintCorrectionMaskRadius (13) | 0.351872 |
PaintCorrectionMaskRadius (14) | 0.065593 |
PaintCorrectionMaskRadius (15) | 0.717257 |
PaintCorrectionMaskRadius (16) | 0.089352 |
PaintCorrectionMaskRadius (17) | 0.027701 |
PaintCorrectionMaskRadius (18) | 0.027732 |
PaintCorrectionMaskRadius (19) | 0.028423 |
PaintCorrectionMaskRadius (2) | 0.031717 |
PaintCorrectionMaskRadius (20) | 0.028163 |
PaintCorrectionMaskRadius (21) | 0.028274 |
PaintCorrectionMaskRadius (22) | 0.027635 |
PaintCorrectionMaskRadius (23) | 0.027958 |
PaintCorrectionMaskRadius (24) | 0.028047 |
PaintCorrectionMaskRadius (25) | 0.028846 |
PaintCorrectionMaskRadius (26) | 0.028664 |
PaintCorrectionMaskRadius (27) | 0.028916 |
PaintCorrectionMaskRadius (28) | 0.028977 |
PaintCorrectionMaskRadius (29) | 0.028737 |
PaintCorrectionMaskRadius (3) | 0.031275 |
PaintCorrectionMaskRadius (30) | 0.028775 |
PaintCorrectionMaskRadius (31) | 0.028927 |
PaintCorrectionMaskRadius (32) | 0.028634 |
PaintCorrectionMaskRadius (33) | 0.028626 |
PaintCorrectionMaskRadius (34) | 0.027378 |
PaintCorrectionMaskRadius (35) | 0.027312 |
PaintCorrectionMaskRadius (36) | 0.027862 |
PaintCorrectionMaskRadius (37) | 0.028060 |
PaintCorrectionMaskRadius (38) | 0.028725 |
PaintCorrectionMaskRadius (39) | 0.028317 |
PaintCorrectionMaskRadius (4) | 0.031309 |
PaintCorrectionMaskRadius (40) | 0.029149 |
PaintCorrectionMaskRadius (41) | 0.318799 |
PaintCorrectionMaskRadius (45) | 0.313711 |
PaintCorrectionMaskRadius (46) | 0.315053 |
PaintCorrectionMaskRadius (47) | 0.315279 |
PaintCorrectionMaskRadius (48) | 0.316844 |
PaintCorrectionMaskRadius (49) | 0.316876 |
PaintCorrectionMaskRadius (5) | 0.032133 |
PaintCorrectionMaskRadius (50) | 0.318730 |
PaintCorrectionMaskRadius (51) | 0.314177 |
PaintCorrectionMaskRadius (52) | 0.315370 |
PaintCorrectionMaskRadius (53) | 0.315676 |
PaintCorrectionMaskRadius (54) | 0.318809 |
PaintCorrectionMaskRadius (55) | 0.319483 |
PaintCorrectionMaskRadius (56) | 0.321192 |
PaintCorrectionMaskRadius (57) | 0.323361 |
PaintCorrectionMaskRadius (58) | 0.313951 |
PaintCorrectionMaskRadius (6) | 0.032864 |
PaintCorrectionMaskRadius (60) | 0.313794 |
PaintCorrectionMaskRadius (61) | 0.115702 |
PaintCorrectionMaskRadius (62) | 0.803733 |
PaintCorrectionMaskRadius (63) | 0.068244 |
PaintCorrectionMaskRadius (64) | 0.065443 |
PaintCorrectionMaskRadius (65) | 0.065510 |
PaintCorrectionMaskRadius (66) | 0.028839 |
PaintCorrectionMaskRadius (67) | 0.027707 |
PaintCorrectionMaskRadius (68) | 0.028881 |
PaintCorrectionMaskRadius (69) | 0.029145 |
PaintCorrectionMaskRadius (7) | 0.043785 |
PaintCorrectionMaskRadius (70) | 0.066382 |
PaintCorrectionMaskRadius (71) | 0.066377 |
PaintCorrectionMaskRadius (72) | 0.173691 |
PaintCorrectionMaskRadius (73) | 0.175215 |
PaintCorrectionMaskRadius (74) | 0.175046 |
PaintCorrectionMaskRadius (8) | 0.352243 |
PaintCorrectionMaskRadius (9) | 0.353709 |
PaintCorrectionMaskRadius | 0.174260 |
PaintCorrectionMaskValue (3) | 1.000000 |
PaintCorrectionMaskValue (46) | 0.000000 |
PaintCorrectionMaskValue | 0.260000 |
PaintCorrectionMaskWhat | Mask/Paint |
PaintCorrectionMoire (1) | 0.000000 |
PaintCorrectionMoire | 0.160000 |
PaintCorrectionSaturation (1) | 0.300000 |
PaintCorrectionSaturation (3) | 0.230000 |
PaintCorrectionSaturation | 0.000000 |
PaintCorrectionShadows2012 (1) | -0.170000 |
PaintCorrectionShadows2012 | 0.150000 |
PaintCorrectionSharpness | 0.000000 |
PaintCorrectionTemperature (1) | -0.050000 |
PaintCorrectionTemperature | 0.040000 |
PaintCorrectionTint | 0.010000 |
PaintCorrectionWhat | Correction |
ParametricDarks | -7 |
ParametricHighlights | +23 |
ParametricHighlightSplit | 75 |
ParametricLights | +6 |
ParametricMidtoneSplit | 50 |
ParametricShadows | +13 |
ParametricShadowSplit | 25 |
PerspectiveAspect | 0 |
PerspectiveHorizontal | 0 |
PerspectiveRotate | 0.0 |
PerspectiveScale | 100 |
PerspectiveUpright | 0 |
PerspectiveVertical | 0 |
PerspectiveX | 0.00 |
PerspectiveY | 0.00 |
PixelsPerUnitX | 11811 |
PixelsPerUnitY | 11811 |
PixelUnits | meters |
PostCropVignetteAmount | 0 |
ProcessVersion | 6.7 |
ProfileDescription | Adobe RGB (1998) |
ProfileName | Photoshop ICC profile |
Rating | 0 |
RawFileName | DSC09972.ARW |
RecommendedExposureIndex | 800 |
RedHue | 0 |
RedSaturation | 0 |
RedX | 0.63999 |
RedY | 0.33 |
Saturation (1) | Normal |
Saturation | +32 |
SaturationAdjustmentAqua | +14 |
SaturationAdjustmentBlue | +13 |
SaturationAdjustmentGreen | 0 |
SaturationAdjustmentMagenta | +25 |
SaturationAdjustmentOrange | +48 |
SaturationAdjustmentPurple | +14 |
SaturationAdjustmentRed | +25 |
SaturationAdjustmentYellow | +22 |
ScaleFactor35efl | 1.5 |
SceneCaptureType | Standard |
SceneType | Directly photographed |
SensitivityType | 2 |
Shadows2012 | -23 |
ShadowTint | 0 |
SharpenDetail | 0 |
SharpenEdgeMasking | 0 |
SharpenRadius | +1.0 |
Sharpness (1) | Normal |
Sharpness | 0 |
ShutterSpeed | 13 |
ShutterSpeedValue | 13 |
SplitToningBalance | 0 |
SplitToningHighlightHue | 0 |
SplitToningHighlightSaturation | 0 |
SplitToningShadowHue | 0 |
SplitToningShadowSaturation | 0 |
Tint | +13 |
ToneCurve | 0, 0, 32, 22, 64, 56, 128, 128, 192, 196, 255, 255 |
ToneCurveBlue | 0, 0, 255, 255 |
ToneCurveGreen | 0, 0, 255, 255 |
ToneCurveName | Medium Contrast |
ToneCurveName2012 | Linear |
ToneCurvePV2012 | 0, 0, 255, 255 |
ToneCurvePV2012Blue | 0, 0, 255, 255 |
ToneCurvePV2012Green | 0, 0, 255, 255 |
ToneCurvePV2012Red | 0, 0, 255, 255 |
ToneCurveRed | 0, 0, 255, 255 |
ToneMapStrength | 0 |
Version | 9.8 |
Vibrance | +18 |
VignetteAmount | 0 |
VignetteCorrectionAlreadyApplied | True |
WhiteBalance (1) | Auto |
WhiteBalance | Custom |
WhitePointX | 0.31269 |
WhitePointY | 0.32899 |
Whites2012 | +18 |