Felt | Verdi |
AbsoluteAltitude | +140.69 |
AlreadyApplied | True |
Aperture | 2.8 |
ApertureValue | 2.8 |
ApproximateFocusDistance | 0 |
AutoLateralCA | 0 |
AutoWhiteVersion | 134348800 |
BitsPerSample (1) | 8 8 8 |
BitsPerSample | 8 |
Blacks2012 | -5 |
BlueHue | +4 |
BlueSaturation | +6 |
CameraProfile | Embedded |
CamReverse | 0 |
CircleOfConfusion | 0.005 mm |
Clarity2012 | 0 |
ColorComponents | 3 |
ColorMode | RGB |
ColorNoiseReduction | 25 |
ColorNoiseReductionDetail | 50 |
ColorNoiseReductionSmoothness | 50 |
ColorSpace | sRGB |
ColorTemperature | 4900 |
ColorTransform | YCbCr |
Contrast | Normal |
Contrast2012 | -19 |
ConvertToGrayscale | False |
CreateDate | 2017:08:02 10:49:55 |
CreatorTool | Adobe Photoshop Lightroom 6.10.1 (Macintosh) |
CustomRendered | Normal |
DateCreated (1) | 2017:08:02 |
DateCreated | 2017:08:02 10:49:55 |
DateTimeOriginal | 2017:08:02 10:49:55 |
DefringeGreenAmount | 0 |
DefringeGreenHueHi | 60 |
DefringeGreenHueLo | 40 |
DefringePurpleAmount | 0 |
DefringePurpleHueHi | 70 |
DefringePurpleHueLo | 30 |
Dehaze | 0 |
DigitalZoomRatio | 0 |
DistortionCorrectionAlreadyApplied | True |
DOF | inf (0.00 m - inf) |
ExifImageHeight | 2242 |
ExifImageWidth | 3992 |
Exposure2012 | +0.70 |
ExposureCompensation | -1.3 |
ExposureMode | Auto bracket |
ExposureProgram | Unknown (8176) |
ExposureTime | 1/80 |
Flash | No flash function |
FlightPitchDegree | -2.00 |
FlightRollDegree | -1.00 |
FlightXSpeed | +0.00 |
FlightYawDegree | +55.20 |
FlightYSpeed | +0.00 |
FlightZSpeed | +0.00 |
FNumber | 2.8 |
FocalLength | 3.6 mm |
FocalLength35efl | 3.6 mm (35 mm equivalent: 20.0 mm) |
FocalLengthIn35mmFormat | 20 mm |
Format | image/jpeg |
FOV | 84.0 deg |
GainControl | None |
GimbalPitchDegree | +0.00 |
GimbalReverse | 0 |
GimbalRollDegree | +0.00 |
GimbalYawDegree | +56.30 |
GrainAmount | 0 |
GreenHue | 0 |
GreenSaturation | 0 |
HasCrop | False |
HasSettings | True |
Highlights2012 | -100 |
HueAdjustmentAqua | 0 |
HueAdjustmentBlue | 0 |
HueAdjustmentGreen | 0 |
HueAdjustmentMagenta | 0 |
HueAdjustmentOrange | 0 |
HueAdjustmentPurple | 0 |
HueAdjustmentRed | 0 |
HueAdjustmentYellow | 0 |
HyperfocalDistance | 0.86 m |
ICCProfileName | sRGB IEC61966-2.1 |
ImageHeight | 2242 |
ImageSize | 3992x2242 |
ImageWidth | 3992 |
ISO | 100 |
LateralChromaticAberrationCorrectionAlreadyApplied | True |
Lens | 3.6 mm |
LensInfo | 3.61mm f/? |
LensManualDistortionAmount | 0 |
LensModel | 3.6 mm |
LensProfileEnable | 0 |
LensProfileSetup | LensDefaults |
LightSource | Unknown |
LightValue | 9.3 |
LuminanceAdjustmentAqua | 0 |
LuminanceAdjustmentBlue | 0 |
LuminanceAdjustmentGreen | 0 |
LuminanceAdjustmentMagenta | 0 |
LuminanceAdjustmentOrange | 0 |
LuminanceAdjustmentPurple | 0 |
LuminanceAdjustmentRed | 0 |
LuminanceAdjustmentYellow | 0 |
LuminanceNoiseReductionContrast | 0 |
LuminanceNoiseReductionDetail | 55 |
LuminanceSmoothing | 36 |
Make | DJI |
MaxApertureValue | 2.8 |
Megapixels | 9.0 |
MeteringMode | Center-weighted average |
Model | FC330 |
ModifyDate (1) | 2017:08:12 09:18:08+02:00 |
ModifyDate | 2017:08:12 09:18:08 |
Orientation | Horizontal (normal) |
PaintCorrectionActive | true |
PaintCorrectionAmount | 1.000000 |
PaintCorrectionBrightness | 0.000000 |
PaintCorrectionClarity2012 (2) | 0.278959 |
PaintCorrectionClarity2012 (4) | 0.845630 |
PaintCorrectionClarity2012 | 0.002702 |
PaintCorrectionContrast2012 (2) | 0.176163 |
PaintCorrectionContrast2012 | -0.016939 |
PaintCorrectionDefringe | 0.000000 |
PaintCorrectionExposure2012 (1) | 0.069490 |
PaintCorrectionExposure2012 (2) | -0.018503 |
PaintCorrectionExposure2012 (3) | -0.349213 |
PaintCorrectionExposure2012 (4) | 0.240660 |
PaintCorrectionExposure2012 | -0.487958 |
PaintCorrectionHighlights2012 | 0.000000 |
PaintCorrectionHue | 0.000000 |
PaintCorrectionLocalBlacks2012 | 0.000000 |
PaintCorrectionLocalDehaze | 0.000000 |
PaintCorrectionLocalWhites2012 | 0.000000 |
PaintCorrectionLuminanceNoise | 0.000000 |
PaintCorrectionMaskCenterWeight | 0.173890 |
PaintCorrectionMaskFlow | 0.728151 |
PaintCorrectionMaskRadius (3) | 0.157706 |
PaintCorrectionMaskRadius (7) | 0.170208 |
PaintCorrectionMaskRadius (8) | 0.133618 |
PaintCorrectionMaskRadius | 0.105222 |
PaintCorrectionMaskValue | 1.000000 |
PaintCorrectionMaskWhat | Mask/Paint |
PaintCorrectionMoire | 0.000000 |
PaintCorrectionSaturation (3) | 0.038358 |
PaintCorrectionSaturation | 0.000000 |
PaintCorrectionShadows2012 (2) | 0.251821 |
PaintCorrectionShadows2012 (4) | 0.563322 |
PaintCorrectionShadows2012 | 0.000000 |
PaintCorrectionSharpness | 0.000000 |
PaintCorrectionTemperature (1) | -0.444725 |
PaintCorrectionTemperature | 0.000000 |
PaintCorrectionTint (1) | -0.795759 |
PaintCorrectionTint | 0.000000 |
PaintCorrectionWhat | Correction |
ParametricDarks | 0 |
ParametricHighlights | 0 |
ParametricHighlightSplit | 75 |
ParametricLights | 0 |
ParametricMidtoneSplit | 50 |
ParametricShadows | 0 |
ParametricShadowSplit | 25 |
PerspectiveAspect | 0 |
PerspectiveHorizontal | 0 |
PerspectiveRotate | 0.0 |
PerspectiveScale | 100 |
PerspectiveUpright | 0 |
PerspectiveVertical | 0 |
PerspectiveX | 0.00 |
PerspectiveY | 0.00 |
PhotometricInterpretation | RGB |
PostCropVignetteAmount | 0 |
ProcessVersion | 6.7 |
ProfileDescription | sRGB IEC61966-2.1 |
RedHue | 0 |
RedSaturation | 0 |
RelativeAltitude | +103.60 |
SamplesPerPixel | 3 |
Saturation (1) | +58 |
Saturation | Normal |
SaturationAdjustmentAqua | 0 |
SaturationAdjustmentBlue | 0 |
SaturationAdjustmentGreen | 0 |
SaturationAdjustmentMagenta | 0 |
SaturationAdjustmentOrange | 0 |
SaturationAdjustmentPurple | 0 |
SaturationAdjustmentRed | 0 |
SaturationAdjustmentYellow | 0 |
ScaleFactor35efl | 5.5 |
SceneCaptureType | Standard |
SceneType | Directly photographed |
SerialNumber | ff55ff2f1d1379ffff2244ffffffff26 |
Shadows2012 | +34 |
ShadowTint | 0 |
SharpenDetail | 25 |
SharpenEdgeMasking | 71 |
SharpenRadius | +1.0 |
Sharpness (1) | 70 |
Sharpness | Normal |
ShutterSpeed | 1/80 |
ShutterSpeedValue | 1/80 |
Software | Adobe Photoshop CC 2017 (Macintosh) |
SplitToningBalance | 0 |
SplitToningHighlightHue | 0 |
SplitToningHighlightSaturation | 0 |
SplitToningShadowHue | 0 |
SplitToningShadowSaturation | 0 |
SubjectDistance | 0 m |
SubjectDistanceRange | Unknown |
Tint | +5 |
ToneCurve | 0, 0, 255, 255 |
ToneCurveBlue | 0, 0, 255, 255 |
ToneCurveGreen | 0, 0, 255, 255 |
ToneCurveName | Linear |
ToneCurveName2012 | Custom |
ToneCurvePV2012 | 1, 47, 81, 67, 130, 126, 151, 165, 255, 255 |
ToneCurvePV2012Blue | 0, 0, 255, 255 |
ToneCurvePV2012Green | 0, 0, 255, 255 |
ToneCurvePV2012Red | 0, 0, 255, 255 |
ToneCurveRed | 0, 0, 255, 255 |
ToneMapStrength | 0 |
URL_List | |
Version | 9.10.1 |
Vibrance | -16 |
VignetteAmount | 0 |
VignetteCorrectionAlreadyApplied | True |
WhiteBalance (1) | As Shot |
WhiteBalance | Auto |
Whites2012 | +5 |