Felt | Verdi |
AlreadyApplied | True |
Aperture | 11.0 |
ApertureValue | 11.0 |
Artist | Vidar M. Jacobsen |
BitsPerSample | 8 |
BlueHue | 0 |
BlueSaturation | 0 |
Brightness | +50 |
BrightnessValue | 9.25 |
By-line | Vidar M. Jacobsen |
CameraProfile | Adobe Standard |
CameraSerialNumber | 2125849 |
ChromaticAberrationB | 0 |
ChromaticAberrationR | 0 |
CircleOfConfusion | 0.020 mm |
Clarity | -20 |
ColorComponents | 3 |
ColorMode | RGB |
ColorNoiseReduction | 50 |
ColorNoiseReductionDetail | 50 |
ColorSpace | sRGB |
ColorTemperature | 5000 |
ColorTransform | YCbCr |
Contrast (2) | +90 |
Contrast | Normal |
ConvertToGrayscale | False |
CreateDate (1) | 2017:10:10 09:29:06+02:00 |
CreateDate | 2017:10:10 09:29:06 |
Creator | Vidar M. Jacobsen |
CreatorTool | DSLR-A300 v1.00 |
CustomRendered | Normal |
DateAcquired | 2017:11:14 18:24:56.851 |
DateTimeDigitized | 2017:10:10 09:29:06+02:00 |
DateTimeOriginal (1) | 2017:10:10 09:29:06+02:00 |
DateTimeOriginal | 2017:10:10 09:29:06 |
Defringe | 0 |
ExifImageHeight | 2480 |
ExifImageWidth | 3735 |
Exposure | 0.00 |
ExposureCompensation | 0 |
ExposureMode | Manual |
ExposureProgram | Manual |
ExposureTime | 1/200 |
FillLight | 4 |
Flash | Off, Did not fire |
FlashFired | False |
FlashFunction | False |
FlashMode | Off |
FlashRedEyeMode | False |
FlashReturn | No return detection |
FNumber | 11.0 |
FocalLength | 200.0 mm |
FocalLength35efl | 200.0 mm (35 mm equivalent: 300.0 mm) |
FocalLengthIn35mmFormat | 300 mm |
Format | image/jpeg |
FOV | 6.9 deg |
GrainAmount | 0 |
GreenHue | 0 |
GreenSaturation | 0 |
HasCrop | False |
HasSettings | True |
HighlightRecovery | 86 |
HueAdjustmentAqua | 0 |
HueAdjustmentBlue | 0 |
HueAdjustmentGreen | 0 |
HueAdjustmentMagenta | 0 |
HueAdjustmentOrange | 0 |
HueAdjustmentPurple | 0 |
HueAdjustmentRed | 0 |
HueAdjustmentYellow | 0 |
HyperfocalDistance | 181.54 m |
ICCProfileName | sRGB IEC61966-2.1 |
ImageHeight | 2480 |
ImageSize | 3735x2480 |
ImageWidth | 3735 |
ISO | 200 |
Keywords | Drammen Havn, Nautilus Maxi, Nautilus Balder, Frostrøyk, Slepebåt |
LastKeywordIPTC | Drammen Havn, Nautilus Maxi, Nautilus Balder, Frostrøyk, Slepebåt |
LastKeywordXMP | Drammen Havn, Nautilus Maxi, Nautilus Balder, Frostrøyk, Slepebåt |
Lens | DT 55-200mm F4.0-5.6 |
LensID (1) | 49 |
LensID | Sony DT 55-200mm F4-5.6 (SAL55200) |
LensInfo | 55-200mm f/40-56 |
LensManualDistortionAmount | 0 |
LensManufacturer | Sony |
LensModel | DT 55-200mm |
LensProfileEnable | 0 |
LensProfileSetup | LensDefaults |
LightSource | Daylight |
LightValue | 13.6 |
LuminanceAdjustmentAqua | 0 |
LuminanceAdjustmentBlue | 0 |
LuminanceAdjustmentGreen | 0 |
LuminanceAdjustmentMagenta | 0 |
LuminanceAdjustmentOrange | 0 |
LuminanceAdjustmentPurple | 0 |
LuminanceAdjustmentRed | 0 |
LuminanceAdjustmentYellow | 0 |
LuminanceNoiseReductionContrast | 0 |
LuminanceNoiseReductionDetail | 50 |
LuminanceSmoothing | 63 |
Make | SONY |
MaxApertureValue | 5.6 |
Megapixels | 9.3 |
MeteringMode | Multi-segment |
Model | DSLR-A300 |
ModifyDate (1) | 2017:10:11 19:32:59+02:00 |
ModifyDate | 2017:10:11 19:32:59 |
Orientation | Horizontal (normal) |
ParametricDarks | 0 |
ParametricHighlights | 0 |
ParametricHighlightSplit | 75 |
ParametricLights | 0 |
ParametricMidtoneSplit | 50 |
ParametricShadows | 0 |
ParametricShadowSplit | 25 |
PerspectiveHorizontal | 0 |
PerspectiveRotate | 0.0 |
PerspectiveScale | 100 |
PerspectiveVertical | 0 |
PostCropVignetteAmount | 0 |
ProcessVersion | 5.7 |
ProfileDescription | sRGB IEC61966-2.1 |
Rating | 0 |
RawFileName | Sony K017 744 Nautilus Balder.ARW |
RedHue | 0 |
RedSaturation | 0 |
Saturation (2) | +42 |
Saturation | Normal |
SaturationAdjustmentAqua | 0 |
SaturationAdjustmentBlue | 0 |
SaturationAdjustmentGreen | 0 |
SaturationAdjustmentMagenta | 0 |
SaturationAdjustmentOrange | 0 |
SaturationAdjustmentPurple | 0 |
SaturationAdjustmentRed | 0 |
SaturationAdjustmentYellow | 0 |
ScaleFactor35efl | 1.5 |
SceneCaptureType | Standard |
SceneType | Directly photographed |
Shadows | 80 |
ShadowTint | 0 |
SharpenDetail | 37 |
SharpenEdgeMasking | 63 |
SharpenRadius | +1.8 |
Sharpness (2) | 64 |
Sharpness | Normal |
ShutterSpeed | 1/200 |
ShutterSpeedValue | 1/200 |
SidecarForExtension | ARW |
Software | Adobe Photoshop Elements 9.0 Windows |
SplitToningBalance | 0 |
SplitToningHighlightHue | 0 |
SplitToningHighlightSaturation | 0 |
SplitToningShadowHue | 0 |
SplitToningShadowSaturation | 0 |
Subject | Drammen Havn, Nautilus Maxi, Nautilus Balder, Frostrøyk, Slepebåt |
Tint | +5 |
ToneCurve | 0, 0, 32, 22, 64, 56, 128, 128, 192, 196, 255, 255 |
ToneCurveName | Medium Contrast |
URL_List | |
Version | 6.1 |
Vibrance | +65 |
VignetteAmount | 0 |
WhiteBalance (2) | As Shot |
WhiteBalance | Manual |
XPAuthor | Vidar M. Jacobsen |
XPKeywords | Drammen Havn;Nautilus Maxi;Nautilus Balder;Frostrøyk;Slepebåt |