Felt | Verdi |
AlreadyApplied | True |
Aperture | 16.0 |
ApertureValue | 16.0 |
ApproximateFocusDistance | 4294967295 |
AutoLateralCA | 0 |
BitsPerSample | 16 16 16 |
Blacks2012 | -100 |
BlueHue | 0 |
BlueSaturation | 0 |
CameraProfile | Adobe Standard |
CircleOfConfusion | 0.031 mm |
Clarity2012 | 0 |
ColorMode | RGB |
ColorNoiseReduction | 70 |
ColorNoiseReductionDetail | 50 |
ColorNoiseReductionSmoothness | 100 |
ColorSpace | Uncalibrated |
ColorTemperature | 5381 |
Contrast2012 | +38 |
ConvertToGrayscale | True |
CreateDate | 2015:10:02 18:01:48 |
CreatorTool | Adobe Photoshop Lightroom Classic 7.0 (Macintosh) |
CropAngle | 1.47895 |
CropBottom | 0.922632 |
CropConstrainToWarp | 0 |
CropLeft | 0.026927 |
CropRight | 0.876953 |
CropTop | 0 |
CustomRendered | Normal |
DateCreated (1) | 2015:10:02 18:01:48.079 |
DateCreated | 2015:10:02 |
DateTimeOriginal | 2015:10:02 18:01:48 |
Dehaze | 0 |
DOF | inf (0.29 m - inf) |
ExifImageHeight | 893 |
ExifImageWidth | 1304 |
Exposure2012 | +0.60 |
ExposureCompensation | 0 |
ExposureMode | Auto |
ExposureProgram | Aperture-priority AE |
ExposureTime | 1/125 |
Firmware | 1.0.6 |
Flash | Off, Did not fire |
FlashCompensation | 0 |
FNumber | 16.0 |
FocalLength | 12.0 mm |
FocalLength35efl | 12.0 mm (35 mm equivalent: 11.7 mm) |
Format | image/tiff |
FOV | 113.9 deg |
GradientBasedCorrActive | true |
GradientBasedCorrAmount | 1.000000 |
GradientBasedCorrBrightness | 0.000000 |
GradientBasedCorrClarity2012 | 0.000000 |
GradientBasedCorrContrast2012 (1) | -0.001138 |
GradientBasedCorrContrast2012 (2) | 0.339047 |
GradientBasedCorrContrast2012 | 0.000000 |
GradientBasedCorrCorrectionRangeMaskColorAmount | 0.500000 |
GradientBasedCorrCorrectionRangeMaskLumFeather | 0.500000 |
GradientBasedCorrCorrectionRangeMaskLumMax | 1.000000 |
GradientBasedCorrCorrectionRangeMaskLumMin | 0.000000 |
GradientBasedCorrCorrectionRangeMaskType | 0 |
GradientBasedCorrDefringe (1) | 0.025941 |
GradientBasedCorrDefringe | 0.000000 |
GradientBasedCorrExposure2012 (1) | -0.444782 |
GradientBasedCorrExposure2012 (2) | 0.193833 |
GradientBasedCorrExposure2012 | -0.010733 |
GradientBasedCorrHighlights2012 (1) | -0.679384 |
GradientBasedCorrHighlights2012 (2) | -0.011567 |
GradientBasedCorrHighlights2012 | 0.000000 |
GradientBasedCorrHue (2) | 233.000000 |
GradientBasedCorrHue | 74.617203 |
GradientBasedCorrLocalBlacks2012 (2) | 0.000000 |
GradientBasedCorrLocalBlacks2012 | 0.007206 |
GradientBasedCorrLocalDehaze (2) | 0.029468 |
GradientBasedCorrLocalDehaze | 0.000000 |
GradientBasedCorrLocalWhites2012 (1) | 0.832866 |
GradientBasedCorrLocalWhites2012 (2) | 0.000000 |
GradientBasedCorrLocalWhites2012 | 0.003944 |
GradientBasedCorrLuminanceNoise | 0.000000 |
GradientBasedCorrMaskFullX (1) | 0.461540 |
GradientBasedCorrMaskFullX (2) | 0.457611 |
GradientBasedCorrMaskFullX | 0.445431 |
GradientBasedCorrMaskFullY (1) | 0.017342 |
GradientBasedCorrMaskFullY (2) | 0.906134 |
GradientBasedCorrMaskFullY | 0.016222 |
GradientBasedCorrMaskValue | 1.000000 |
GradientBasedCorrMaskWhat | Mask/Gradient |
GradientBasedCorrMaskZeroX (1) | 0.447214 |
GradientBasedCorrMaskZeroX (2) | 0.465091 |
GradientBasedCorrMaskZeroX | 0.437345 |
GradientBasedCorrMaskZeroY (1) | 0.908904 |
GradientBasedCorrMaskZeroY (2) | 0.434065 |
GradientBasedCorrMaskZeroY | 0.533858 |
GradientBasedCorrMoire | 0.000000 |
GradientBasedCorrSaturation (1) | 0.005954 |
GradientBasedCorrSaturation (5) | 0.007888 |
GradientBasedCorrSaturation | 0.000000 |
GradientBasedCorrShadows2012 (1) | 0.005765 |
GradientBasedCorrShadows2012 (2) | -0.794372 |
GradientBasedCorrShadows2012 | 0.000000 |
GradientBasedCorrSharpness | 0.000000 |
GradientBasedCorrTemperature (2) | -0.004589 |
GradientBasedCorrTemperature | -0.027382 |
GradientBasedCorrTint (2) | 0.001327 |
GradientBasedCorrTint | -0.047937 |
GradientBasedCorrWhat | Correction |
GrainAmount | 0 |
GrayMixerAqua | +83 |
GrayMixerBlue | +25 |
GrayMixerGreen | +66 |
GrayMixerMagenta | -2 |
GrayMixerOrange | +4 |
GrayMixerPurple | +53 |
GrayMixerRed | -10 |
GrayMixerYellow | -45 |
GreenHue | 0 |
GreenSaturation | 0 |
HasCrop | True |
HasSettings | True |
Highlights2012 | -38 |
HyperfocalDistance | 0.29 m |
ICCProfileName | ProPhoto RGB |
ImageHeight | 893 |
ImageNumber | 0 |
ImageSize | 1304x893 |
ImageWidth | 1304 |
ISO | 800 |
Keywords | båtter, fiskebåter, lønstrup, sjø, strand |
Label | Blue |
Lens | 12-24mm |
LensID (1) | 137 |
LensID | Sigma 12-24mm f/4.5-5.6 DG HSM II |
LensInfo | 12-24mm f/? |
LensManualDistortionAmount | 0 |
LensModel | 12-24mm |
LensProfileEnable | 0 |
LensProfileSetup | LensDefaults |
LightValue | 12.0 |
LuminanceNoiseReductionContrast | 0 |
LuminanceNoiseReductionDetail | 50 |
LuminanceSmoothing | 63 |
Make | Canon |
MaxApertureValue | 5.4 |
Megapixels | 1.2 |
MeteringMode | Multi-segment |
Model | Canon EOS 5D Mark II |
ModifyDate (1) | 2018:01:30 22:05:58+01:00 |
ModifyDate | 2018:01:30 22:05:58 |
Orientation | Horizontal (normal) |
PaintCorrectionActive | true |
PaintCorrectionAmount | 1.000000 |
PaintCorrectionBrightness | 0.000000 |
PaintCorrectionClarity2012 | 0.000000 |
PaintCorrectionContrast2012 | 0.013994 |
PaintCorrectionCorrectionRangeMaskColorAmount | 0.500000 |
PaintCorrectionCorrectionRangeMaskLumFeather | 0.500000 |
PaintCorrectionCorrectionRangeMaskLumMax | 1.000000 |
PaintCorrectionCorrectionRangeMaskLumMin | 0.000000 |
PaintCorrectionCorrectionRangeMaskType | 0 |
PaintCorrectionDefringe | 0.000000 |
PaintCorrectionExposure2012 (1) | 0.145631 |
PaintCorrectionExposure2012 (2) | 0.092043 |
PaintCorrectionExposure2012 (3) | -0.070464 |
PaintCorrectionExposure2012 | 0.067961 |
PaintCorrectionHighlights2012 | -0.011567 |
PaintCorrectionHue | 233.000000 |
PaintCorrectionLocalBlacks2012 | 0.000000 |
PaintCorrectionLocalDehaze | 0.000000 |
PaintCorrectionLocalWhites2012 | 0.000000 |
PaintCorrectionLuminanceNoise | 0.000000 |
PaintCorrectionMaskCenterWeight | 0.000000 |
PaintCorrectionMaskFlow | 0.519428 |
PaintCorrectionMaskRadius (1) | 0.028136 |
PaintCorrectionMaskRadius | 0.017012 |
PaintCorrectionMaskValue | 1.000000 |
PaintCorrectionMaskWhat | Mask/Paint |
PaintCorrectionMoire | 0.000000 |
PaintCorrectionSaturation (7) | 0.023665 |
PaintCorrectionSaturation | 0.000000 |
PaintCorrectionShadows2012 | -0.006864 |
PaintCorrectionSharpness | 0.012894 |
PaintCorrectionTemperature | 0.001024 |
PaintCorrectionTint | 0.001327 |
PaintCorrectionWhat | Correction |
ParametricDarks | 0 |
ParametricHighlights | 0 |
ParametricHighlightSplit | 75 |
ParametricLights | 0 |
ParametricMidtoneSplit | 50 |
ParametricShadows | 0 |
ParametricShadowSplit | 25 |
PerspectiveAspect | 0 |
PerspectiveHorizontal | 0 |
PerspectiveRotate | 0.0 |
PerspectiveScale | 100 |
PerspectiveUpright | 0 |
PerspectiveVertical | 0 |
PerspectiveX | 0.00 |
PerspectiveY | 0.00 |
PhotometricInterpretation | RGB |
PlanarConfiguration | Chunky |
PostCropVignetteAmount | 0 |
ProcessVersion | 10.0 |
ProfileDescription | ProPhoto RGB |
RedHue | 0 |
RedSaturation | 0 |
RowsPerStrip | 893 |
SamplesPerPixel | 3 |
ScaleFactor35efl | 1.0 |
SceneCaptureType | Standard |
SerialNumber | 130101597 |
Shadows2012 | +28 |
ShadowTint | 0 |
SharpenDetail | 25 |
SharpenEdgeMasking | 0 |
SharpenRadius | +1.0 |
Sharpness | 25 |
ShutterSpeed | 1/125 |
ShutterSpeedValue | 1/125 |
Software | Adobe Photoshop CC (Macintosh) |
SplitToningBalance | 0 |
SplitToningHighlightHue | 232 |
SplitToningHighlightSaturation | 54 |
SplitToningShadowHue | 231 |
SplitToningShadowSaturation | 48 |
StripByteCounts | 6986832 |
StripOffsets | 110966 |
SubfileType | Full-resolution Image |
Subject | båtter, fiskebåter, lønstrup, sjø, strand |
Tint | -6 |
ToneCurve | 0, 0, 255, 255 |
ToneCurveBlue | 0, 0, 255, 255 |
ToneCurveGreen | 0, 0, 255, 255 |
ToneCurveName | Linear |
ToneCurveName2012 | Linear |
ToneCurvePV2012 | 0, 0, 255, 255 |
ToneCurvePV2012Blue | 0, 0, 255, 255 |
ToneCurvePV2012Green | 0, 0, 255, 255 |
ToneCurvePV2012Red | 0, 0, 255, 255 |
ToneCurveRed | 0, 0, 255, 255 |
URL_List | |
Version | 10.0 |
VignetteAmount | 0 |
WhiteBalance (1) | Auto |
WhiteBalance | Custom |
Whites2012 | +54 |