Felt | Verdi |
AlreadyApplied | True |
Aperture | 11.0 |
ApertureValue | 11.0 |
Artist | Vidar M.Jacobsen |
BitsPerSample | 8 |
BlueHue | 0 |
BlueSaturation | 0 |
Brightness | +50 |
BrightnessValue | 9 |
By-line | Vidar M.Jacobsen |
CameraProfile | Adobe Standard |
CameraSerialNumber | 3688812 |
Caption-Abstract | Isbryteren på Drammensfjorden |
ChromaticAberrationB | 0 |
ChromaticAberrationR | 0 |
CircleOfConfusion | 0.020 mm |
Clarity | 0 |
ColorComponents | 3 |
ColorMode | RGB |
ColorNoiseReduction | 68 |
ColorNoiseReductionDetail | 50 |
ColorSpace | sRGB |
ColorTemperature | 5650 |
ColorTransform | YCbCr |
Contrast (2) | +73 |
Contrast | High |
ConvertToGrayscale | False |
Copyright | Vidar M.Jacobsen |
CopyrightNotice | Vidar M.Jacobsen |
CreateDate (1) | 2018:03:02 12:18:00+01:00 |
CreateDate | 2018:03:02 12:18:00 |
Creator | Vidar M.Jacobsen |
CreatorTool | Adobe Photoshop Elements 9.0 Windows |
CustomRendered | Normal |
DateAcquired | 2018:03:02 20:27:38.423 |
DateTimeDigitized | 2018:03:02 12:18+01:00 |
DateTimeOriginal (1) | 2018:03:02 12:18+01:00 |
DateTimeOriginal | 2018:03:02 12:18:00 |
Defringe | 0 |
Description | Isbryteren på Drammensfjorden |
ExifImageHeight | 2011 |
ExifImageWidth | 3208 |
Exposure | 0.00 |
ExposureCompensation | 0 |
ExposureMode | Manual |
ExposureProgram | Manual |
ExposureTime | 1/1250 |
FillLight | 43 |
Flash | Off, Did not fire |
FlashFired | False |
FlashFunction | False |
FlashMode | Off |
FlashRedEyeMode | False |
FlashReturn | No return detection |
FNumber | 11.0 |
FocalLength | 210.0 mm |
FocalLength35efl | 210.0 mm (35 mm equivalent: 315.0 mm) |
FocalLengthIn35mmFormat | 315 mm |
Format | image/jpeg |
FOV | 6.5 deg |
GrainAmount | 0 |
GreenHue | 0 |
GreenSaturation | 0 |
HasCrop | False |
HasSettings | True |
HighlightRecovery | 20 |
HueAdjustmentAqua | 0 |
HueAdjustmentBlue | 0 |
HueAdjustmentGreen | 0 |
HueAdjustmentMagenta | 0 |
HueAdjustmentOrange | 0 |
HueAdjustmentPurple | 0 |
HueAdjustmentRed | 0 |
HueAdjustmentYellow | 0 |
HyperfocalDistance | 200.15 m |
ICCProfileName | sRGB IEC61966-2.1 |
ImageDescription | Isbryteren på Drammensfjorden |
ImageHeight | 2011 |
ImageSize | 3208x2011 |
ImageWidth | 3208 |
ISO | 800 |
Keywords | Drammen Havn, Thor III, Maritimt, Isbryter, Slepebåt |
LastKeywordIPTC | Drammen Havn, Thor III, Maritimt, Isbryter, Slepebåt |
LastKeywordXMP | Drammen Havn, Thor III, Maritimt, Isbryter, Slepebåt |
Lens | 70-210mm F4 |
LensID (1) | 25551 |
LensID | Minolta AF 70-210mm F4 Macro |
LensInfo | 70-210mm f/4 |
LensManualDistortionAmount | 0 |
LensManufacturer | Minolta |
LensModel | 70-210mm |
LensProfileEnable | 0 |
LensProfileSetup | LensDefaults |
LightSource | Daylight |
LightValue | 14.2 |
LuminanceAdjustmentAqua | 0 |
LuminanceAdjustmentBlue | 0 |
LuminanceAdjustmentGreen | 0 |
LuminanceAdjustmentMagenta | 0 |
LuminanceAdjustmentOrange | 0 |
LuminanceAdjustmentPurple | 0 |
LuminanceAdjustmentRed | 0 |
LuminanceAdjustmentYellow | 0 |
LuminanceNoiseReductionContrast | 0 |
LuminanceNoiseReductionDetail | 50 |
LuminanceSmoothing | 72 |
Make | SONY |
MaxApertureValue | 4.0 |
Megapixels | 6.5 |
MeteringMode | Center-weighted average |
Model | DSLR-A200 |
ModifyDate (1) | 2018:03:07 17:54:39+01:00 |
ModifyDate | 2018:03:07 17:54:39 |
Orientation | Horizontal (normal) |
ParametricDarks | 0 |
ParametricHighlights | 0 |
ParametricHighlightSplit | 75 |
ParametricLights | 0 |
ParametricMidtoneSplit | 50 |
ParametricShadows | 0 |
ParametricShadowSplit | 25 |
PerspectiveHorizontal | 0 |
PerspectiveRotate | 0.0 |
PerspectiveScale | 100 |
PerspectiveVertical | 0 |
PostCropVignetteAmount | 0 |
ProcessVersion | 5.7 |
ProfileDescription | sRGB IEC61966-2.1 |
Rating | 0 |
RawFileName | Sony K034 065 Thor III.ARW |
RedHue | 0 |
RedSaturation | 0 |
Rights | Vidar M.Jacobsen |
Saturation (2) | +63 |
Saturation | High |
SaturationAdjustmentAqua | 0 |
SaturationAdjustmentBlue | 0 |
SaturationAdjustmentGreen | 0 |
SaturationAdjustmentMagenta | 0 |
SaturationAdjustmentOrange | 0 |
SaturationAdjustmentPurple | 0 |
SaturationAdjustmentRed | 0 |
SaturationAdjustmentYellow | 0 |
ScaleFactor35efl | 1.5 |
SceneCaptureType | Standard |
SceneType | Directly photographed |
Shadows | 5 |
ShadowTint | 0 |
SharpenDetail | 57 |
SharpenEdgeMasking | 51 |
SharpenRadius | +2.3 |
Sharpness (2) | 96 |
Sharpness | Hard |
ShutterSpeed | 1/1250 |
ShutterSpeedValue | 1/1250 |
SidecarForExtension | ARW |
Software | Adobe Photoshop Elements 9.0 Windows |
SplitToningBalance | 0 |
SplitToningHighlightHue | 0 |
SplitToningHighlightSaturation | 0 |
SplitToningShadowHue | 0 |
SplitToningShadowSaturation | 0 |
Subject | Drammen Havn, Thor III, Maritimt, Isbryter, Slepebåt |
Tint | +10 |
Title | Isbryteren på Drammensfjorden |
ToneCurve | 0, 0, 32, 22, 64, 56, 128, 128, 192, 196, 255, 255 |
ToneCurveName | Medium Contrast |
URL_List | |
Version | 6.1 |
Vibrance | +72 |
VignetteAmount | 0 |
WhiteBalance (1) | Custom |
WhiteBalance | Manual |
XPAuthor | Vidar M.Jacobsen |
XPKeywords | Drammen Havn;Thor III;Maritimt;Isbryter;Slepebåt |
XPTitle | Isbryteren på Drammensfjorden |