Felt | Verdi |
AlreadyApplied | True |
Aperture | 1.0 |
ApertureValue | 1.0 |
Artist | Frode Jorum |
AutoLateralCA | 0 |
BitsPerSample | 8 |
Blacks2012 | +51 |
BlueHue | 0 |
BlueSaturation | 0 |
BrightnessValue | 0.03 |
By-line | Frode Jorum |
CameraProfile | Embedded |
CircleOfConfusion | 0.020 mm |
Clarity2012 | +44 |
ColorComponents | 3 |
ColorNoiseReduction | 25 |
ColorNoiseReductionDetail | 50 |
ColorNoiseReductionSmoothness | 50 |
ColorSpace | sRGB |
ColorTransform | YCbCr |
Contrast2012 | 0 |
ConvertToGrayscale | True |
Copyright | Frode Jørum |
CopyrightFlag | True |
CopyrightNotice | Frode Jørum |
CreateDate | 2018:05:24 16:09:40 |
Creator | Frode Jorum |
CreatorCity | Trondheim |
CreatorCountry | Norway |
CreatorTool | Adobe Photoshop Lightroom Classic 7.3.1 (Macintosh) |
CreatorWorkEmail | frode.jorum@gmail.com |
CustomRendered | Custom |
DateCreated (1) | 2018:05:24 |
DateCreated | 2018:05:24 16:09:40 |
DateTimeOriginal | 2018:05:24 16:09:40 |
Dehaze | +14 |
Exposure2012 | +0.60 |
ExposureCompensation | 0 |
ExposureMode | Manual |
ExposureProgram | Manual |
ExposureTime | 1/250 |
Flash | No Flash |
FNumber | 1.0 |
FocalLength | 50.0 mm |
FocalLength35efl | 50.0 mm (35 mm equivalent: 75.0 mm) |
FocalLengthIn35mmFormat | 75 mm |
Format | image/jpeg |
FOV | 27.0 deg |
GrainAmount | 51 |
GrainFrequency | 57 |
GrainSize | 21 |
GrayMixerAqua | -15 |
GrayMixerBlue | -10 |
GrayMixerGreen | -25 |
GrayMixerMagenta | -27 |
GrayMixerOrange | -13 |
GrayMixerPurple | +3 |
GrayMixerRed | -13 |
GrayMixerYellow | -16 |
GreenHue | 0 |
GreenSaturation | 0 |
HasCrop | False |
HasSettings | True |
Highlights2012 | -100 |
HyperfocalDistance | 124.81 m |
ImageHeight | 6000 |
ImageSize | 3500x6000 |
ImageWidth | 3500 |
IncrementalTemperature | 0 |
IncrementalTint | 0 |
ISO | 1600 |
Lens | 50.0 mm |
LensInfo | 50mm f/? |
LensManualDistortionAmount | 0 |
LensModel | 50.0 mm |
LensProfileEnable | 0 |
LensProfileSetup | LensDefaults |
LightSource | Unknown |
LightValue | 4.0 |
LookName | |
LuminanceSmoothing | 0 |
Make | FUJIFILM |
Marked | True |
Megapixels | 21.0 |
MeteringMode | Multi-segment |
Model | X-T20 |
ModifyDate (1) | 2018:05:25 09:45:35+02:00 |
ModifyDate | 2018:05:25 09:45:35 |
OverrideLookVignette | False |
ParametricDarks | +21 |
ParametricHighlights | -46 |
ParametricHighlightSplit | 88 |
ParametricLights | +7 |
ParametricMidtoneSplit | 46 |
ParametricShadows | -24 |
ParametricShadowSplit | 18 |
PerspectiveAspect | 0 |
PerspectiveHorizontal | 0 |
PerspectiveRotate | 0.0 |
PerspectiveScale | 100 |
PerspectiveUpright | 0 |
PerspectiveVertical | 0 |
PerspectiveX | 0.00 |
PerspectiveY | 0.00 |
PostCropVignetteAmount | 0 |
ProcessVersion | 10.0 |
ProfileDescription | sRGB IEC61966-2.1 |
Rating | 5 |
RawFileName | |
RedHue | 0 |
RedSaturation | 0 |
Rights | Frode Jørum |
ScaleFactor35efl | 1.5 |
SceneCaptureType | Standard |
SceneType | Directly photographed |
SensingMethod | One-chip color area |
SensitivityType | Standard Output Sensitivity |
SerialNumber | 7CQ05802 |
Shadows2012 | +29 |
ShadowTint | 0 |
SharpenDetail | 25 |
SharpenEdgeMasking | 0 |
SharpenRadius | +1.0 |
Sharpness (1) | 25 |
Sharpness | Soft |
ShutterSpeed | 1/250 |
ShutterSpeedValue | 1/250 |
Software | Adobe Photoshop Lightroom Classic 7.3.1 (Macintosh) |
SplitToningBalance | 0 |
SplitToningHighlightHue | 0 |
SplitToningHighlightSaturation | 0 |
SplitToningShadowHue | 0 |
SplitToningShadowSaturation | 0 |
SubjectDistanceRange | Unknown |
ToneCurve | 0, 0, 255, 255 |
ToneCurveBlue | 0, 0, 255, 255 |
ToneCurveGreen | 0, 0, 255, 255 |
ToneCurveName | Linear |
ToneCurveName2012 | Custom |
ToneCurvePV2012 | 0, 0, 255, 255 |
ToneCurvePV2012Blue | 0, 38, 75, 76, 113, 134, 204, 228, 255, 255 |
ToneCurvePV2012Green | 0, 38, 75, 76, 113, 134, 204, 228, 255, 255 |
ToneCurvePV2012Red | 0, 38, 75, 76, 113, 134, 204, 228, 255, 255 |
ToneCurveRed | 0, 0, 255, 255 |
ToneMapStrength | 0 |
Version | 10.3 |
VignetteAmount | 0 |
WhiteBalance (1) | As Shot |
WhiteBalance | Auto |
Whites2012 | -53 |