Felt | Verdi |
AlreadyApplied | True |
AutoLateralCA | 1 |
BitsPerSample | 8 |
Blacks2012 | 0 |
BlueHue | 0 |
BlueSaturation | 0 |
CameraProfile | Embedded |
CircleOfConfusion | 0.025 mm |
Clarity2012 | +62 |
ColorComponents | 3 |
ColorNoiseReduction | 0 |
ColorSpace | sRGB |
ColorTransform | YCbCr |
Contrast2012 | +10 |
ConvertToGrayscale | True |
CreateDate (1) | 2018:07:14 16:06:13.24 |
CreateDate | 2018:07:14 16:06:13 |
CreatorTool | Adobe Photoshop Lightroom Classic 7.4 (Windows) |
CropAngle | 0 |
CropBottom | 0.97483 |
CropConstrainToWarp | 0 |
CropLeft | 0.137064 |
CropRight | 0.960839 |
CropTop | 0.151055 |
CustomRendered | Normal |
DateCreated (1) | 2018:07:14 |
DateCreated | 2018:07:14 16:06:13.24 |
DateTimeOriginal | 2018:07:14 16:06:13 |
Dehaze | +50 |
Exposure2012 | -1.31 |
ExposureCompensation | 0 |
ExposureMode | Manual |
ExposureProgram | Manual |
ExposureTime | 0.4 |
Firmware | 2.1.2 |
Flash | Off, Did not fire |
FlashCompensation | 0 |
FocalLength | 50.0 mm |
FocalLength35efl | 50.0 mm (35 mm equivalent: 59.6 mm) |
Format | image/jpeg |
FOV | 33.6 deg |
GradientBasedCorrActive | true |
GradientBasedCorrAmount | 1.000000 |
GradientBasedCorrBrightness | 0.000000 |
GradientBasedCorrClarity2012 (1) | 0.039174 |
GradientBasedCorrClarity2012 | 0.000000 |
GradientBasedCorrContrast2012 (2) | 0.108041 |
GradientBasedCorrContrast2012 | 0.000000 |
GradientBasedCorrCorrectionRangeMaskColorAmount | 0.500000 |
GradientBasedCorrCorrectionRangeMaskLumFeather (1) | 0.303089 |
GradientBasedCorrCorrectionRangeMaskLumFeather (2) | 0.296224 |
GradientBasedCorrCorrectionRangeMaskLumFeather | 0.397912 |
GradientBasedCorrCorrectionRangeMaskLumMax (1) | 0.115751 |
GradientBasedCorrCorrectionRangeMaskLumMax (2) | 0.050000 |
GradientBasedCorrCorrectionRangeMaskLumMax | 1.000000 |
GradientBasedCorrCorrectionRangeMaskLumMin (1) | 0.034677 |
GradientBasedCorrCorrectionRangeMaskLumMin (2) | 0.000000 |
GradientBasedCorrCorrectionRangeMaskLumMin | 0.950000 |
GradientBasedCorrCorrectionRangeMaskType | +2 |
GradientBasedCorrCorrectionRangeMaskVersion | +1 |
GradientBasedCorrDefringe | 0.000000 |
GradientBasedCorrExposure2012 (1) | -0.083699 |
GradientBasedCorrExposure2012 (2) | 0.000000 |
GradientBasedCorrExposure2012 | 0.054688 |
GradientBasedCorrHighlights2012 (1) | -0.404440 |
GradientBasedCorrHighlights2012 | 0.000000 |
GradientBasedCorrHue | 240.000000 |
GradientBasedCorrLocalBlacks2012 (1) | -0.255812 |
GradientBasedCorrLocalBlacks2012 (2) | 0.000000 |
GradientBasedCorrLocalBlacks2012 | -0.210608 |
GradientBasedCorrLocalDehaze (2) | 0.000000 |
GradientBasedCorrLocalDehaze | 0.021763 |
GradientBasedCorrLocalWhites2012 (1) | 0.000000 |
GradientBasedCorrLocalWhites2012 | -0.039062 |
GradientBasedCorrLuminanceNoise | 0.000000 |
GradientBasedCorrMaskFullX (1) | 0.492727 |
GradientBasedCorrMaskFullX (2) | 0.506636 |
GradientBasedCorrMaskFullX | 0.597556 |
GradientBasedCorrMaskFullY (1) | -0.016424 |
GradientBasedCorrMaskFullY (2) | 1.014570 |
GradientBasedCorrMaskFullY | 1.049340 |
GradientBasedCorrMaskValue | 1.000000 |
GradientBasedCorrMaskWhat | Mask/Gradient |
GradientBasedCorrMaskZeroX (1) | 0.492727 |
GradientBasedCorrMaskZeroX (2) | 0.506636 |
GradientBasedCorrMaskZeroX | 0.597556 |
GradientBasedCorrMaskZeroY (1) | -0.028450 |
GradientBasedCorrMaskZeroY (2) | 1.030480 |
GradientBasedCorrMaskZeroY | 1.063010 |
GradientBasedCorrMoire | 0.000000 |
GradientBasedCorrSaturation (1) | 0.143638 |
GradientBasedCorrSaturation | 0.000000 |
GradientBasedCorrShadows2012 (1) | 0.000000 |
GradientBasedCorrShadows2012 (2) | 0.134933 |
GradientBasedCorrShadows2012 | 0.250857 |
GradientBasedCorrSharpness | 0.000000 |
GradientBasedCorrTemperature | 0.000000 |
GradientBasedCorrTint | 0.000000 |
GradientBasedCorrWhat | Correction |
GrainAmount | 0 |
GrayMixerAqua | -10 |
GrayMixerBlue | -25 |
GrayMixerGreen | +24 |
GrayMixerMagenta | -14 |
GrayMixerOrange | +26 |
GrayMixerPurple | -14 |
GrayMixerRed | +26 |
GrayMixerYellow | 0 |
GreenHue | 0 |
GreenSaturation | 0 |
HasCrop | True |
HasSettings | True |
Highlights2012 | -65 |
ImageHeight | 4626 |
ImageNumber | 0 |
ImageSize | 3084x4626 |
ImageWidth | 3084 |
IncrementalTemperature | -2 |
IncrementalTint | +21 |
ISO | 100 |
LateralChromaticAberrationCorrectionAlreadyApplied | True |
LensManualDistortionAmount | 0 |
LensProfileEnable | 0 |
LensProfileSetup | LensDefaults |
LookName | |
LuminanceNoiseReductionContrast | 0 |
LuminanceNoiseReductionDetail | 50 |
LuminanceSmoothing | 24 |
Make | Canon |
Megapixels | 14.3 |
MeteringMode | Multi-segment |
Model | Canon EOS 5D Mark II |
ModifyDate (1) | 2018:08:10 20:28:23+02:00 |
ModifyDate | 2018:08:10 20:28:23 |
OverrideLookVignette | False |
PaintCorrectionActive | true |
PaintCorrectionAmount | 1.000000 |
PaintCorrectionBrightness | 0.000000 |
PaintCorrectionClarity2012 (1) | -0.217390 |
PaintCorrectionClarity2012 | 0.000000 |
PaintCorrectionContrast2012 (1) | -0.326090 |
PaintCorrectionContrast2012 | 0.000000 |
PaintCorrectionCorrectionRangeMaskColorAmount | 0.500000 |
PaintCorrectionCorrectionRangeMaskLumFeather | 0.500000 |
PaintCorrectionCorrectionRangeMaskLumMax | 1.000000 |
PaintCorrectionCorrectionRangeMaskLumMin | 0.000000 |
PaintCorrectionCorrectionRangeMaskType | 0 |
PaintCorrectionCorrectionRangeMaskVersion | +2 |
PaintCorrectionDefringe | 0.000000 |
PaintCorrectionExposure2012 (1) | -0.500000 |
PaintCorrectionExposure2012 (2) | -0.717500 |
PaintCorrectionExposure2012 | -0.239250 |
PaintCorrectionHighlights2012 (1) | -0.217390 |
PaintCorrectionHighlights2012 | 0.000000 |
PaintCorrectionHue | 0.000000 |
PaintCorrectionLocalBlacks2012 (1) | 0.000000 |
PaintCorrectionLocalBlacks2012 | -0.021740 |
PaintCorrectionLocalDehaze | 0.000000 |
PaintCorrectionLocalWhites2012 | 0.000000 |
PaintCorrectionLuminanceNoise | 0.000000 |
PaintCorrectionMaskCenterWeight (1) | 0.118600 |
PaintCorrectionMaskCenterWeight | 0.014227 |
PaintCorrectionMaskFlow (1) | 1.000000 |
PaintCorrectionMaskFlow | 0.958000 |
PaintCorrectionMaskRadius (1) | 0.198509 |
PaintCorrectionMaskRadius (2) | 0.089484 |
PaintCorrectionMaskRadius | 0.180658 |
PaintCorrectionMaskValue | 1.000000 |
PaintCorrectionMaskWhat | Mask/Paint |
PaintCorrectionMoire | 0.000000 |
PaintCorrectionSaturation | 0.000000 |
PaintCorrectionShadows2012 (1) | -0.021740 |
PaintCorrectionShadows2012 (2) | 0.000000 |
PaintCorrectionShadows2012 | -1.000000 |
PaintCorrectionSharpness | 0.000000 |
PaintCorrectionTemperature | 0.000000 |
PaintCorrectionTint | 0.000000 |
PaintCorrectionWhat | Correction |
ParametricDarks | +3 |
ParametricHighlights | -24 |
ParametricHighlightSplit | 75 |
ParametricLights | +38 |
ParametricMidtoneSplit | 50 |
ParametricShadows | 0 |
ParametricShadowSplit | 25 |
PerspectiveAspect | 0 |
PerspectiveHorizontal | 0 |
PerspectiveRotate | 0.0 |
PerspectiveScale | 100 |
PerspectiveUpright | 0 |
PerspectiveVertical | 0 |
PerspectiveX | 0.00 |
PerspectiveY | 0.00 |
PostCropVignetteAmount | -26 |
PostCropVignetteFeather | 29 |
PostCropVignetteHighlightContrast | 62 |
PostCropVignetteMidpoint | 50 |
PostCropVignetteRoundness | 0 |
PostCropVignetteStyle | 1 |
ProcessVersion | 10.0 |
ProfileDescription | sRGB IEC61966-2.1 |
RawFileName | |
RedHue | 0 |
RedSaturation | 0 |
ScaleFactor35efl | 1.2 |
SceneCaptureType | Standard |
SerialNumber | 4232116827 |
Shadows2012 | +77 |
ShadowTint | 0 |
SharpenDetail | 40 |
SharpenEdgeMasking | 0 |
SharpenRadius | +1.3 |
Sharpness | 100 |
ShutterSpeed | 0.4 |
ShutterSpeedValue | 0.4 |
Software | Adobe Photoshop Lightroom Classic 7.4 (Windows) |
SplitToningBalance | 0 |
SplitToningHighlightHue | 0 |
SplitToningHighlightSaturation | 0 |
SplitToningShadowHue | 0 |
SplitToningShadowSaturation | 0 |
ToneCurve | 0, 0, 255, 255 |
ToneCurveBlue | 0, 0, 255, 255 |
ToneCurveGreen | 0, 0, 255, 255 |
ToneCurveName | Linear |
ToneCurveName2012 | Medium Contrast |
ToneCurvePV2012 | 0, 0, 32, 22, 64, 56, 128, 128, 192, 196, 255, 255 |
ToneCurvePV2012Blue | 0, 0, 255, 255 |
ToneCurvePV2012Green | 0, 0, 255, 255 |
ToneCurvePV2012Red | 0, 0, 255, 255 |
ToneCurveRed | 0, 0, 255, 255 |
ToneMapStrength | 0 |
Version | 10.4 |
VignetteAmount | 0 |
WhiteBalance (1) | Custom |
WhiteBalance | Auto |
Whites2012 | +58 |