Felt | Verdi |
AlreadyApplied | True |
Aperture | 8.0 |
ApertureValue | 8.0 |
ApproximateFocusDistance | 4.39 |
Artist | Igor Kostin |
AutoLateralCA | 0 |
BitsPerSample | 8 |
Blacks2012 | 0 |
BlueHue | 0 |
BlueSaturation | 0 |
By-line | Igor Kostin |
CameraProfile | Embedded |
CircleOfConfusion | 0.011 mm |
Clarity2012 | 0 |
ColorComponents | 3 |
ColorNoiseReduction | 0 |
ColorSpace | sRGB |
ColorTransform | YCbCr |
Contrast2012 | 0 |
ConvertToGrayscale | False |
Copyright | All rights reserved |
CopyrightFlag | True |
CopyrightNotice | All rights reserved |
CreateDate (1) | 2019:04:06 16:19:17Z |
CreateDate | 2019:04:06 16:19:17 |
Creator | Igor Kostin |
CreatorTool | Adobe Photoshop Lightroom Classic 8.2.1 (Macintosh) |
CropAngle | 0 |
CropBottom | 0.768463 |
CropConstrainToWarp | 0 |
CropLeft | 0 |
CropRight | 1 |
CropTop | 0.035119 |
CustomRendered | Normal |
DateCreated (1) | 2019:04:06 |
DateCreated | 2019:04:06 16:19:17Z |
DateTimeOriginal | 2019:04:06 16:19:17 |
DefringeGreenAmount | 0 |
DefringeGreenHueHi | 60 |
DefringeGreenHueLo | 40 |
DefringePurpleAmount | 0 |
DefringePurpleHueHi | 70 |
DefringePurpleHueLo | 30 |
Dehaze | 0 |
DOF | 0.92 m (3.98 - 4.90 m) |
Exposure2012 | 0.00 |
ExposureCompensation | 0 |
ExposureMode | Manual |
ExposureProgram | Manual |
ExposureTime | 1/100 |
Firmware | 1.0.0 |
Flash | No Flash |
FlashCompensation | 0 |
FNumber | 8.0 |
FocalLength | 60.0 mm |
FocalLength35efl | 60.0 mm (35 mm equivalent: 167.3 mm) |
Format | image/jpeg |
FOV | 12.3 deg |
GrainAmount | 0 |
GreenHue | 0 |
GreenSaturation | 0 |
HasCrop | True |
HasSettings | True |
Highlights2012 | 0 |
HueAdjustmentAqua | 0 |
HueAdjustmentBlue | 0 |
HueAdjustmentGreen | 0 |
HueAdjustmentMagenta | 0 |
HueAdjustmentOrange | 0 |
HueAdjustmentPurple | 0 |
HueAdjustmentRed | 0 |
HueAdjustmentYellow | 0 |
HyperfocalDistance | 41.76 m |
ImageHeight | 2048 |
ImageNumber | 0 |
ImageSize | 2048x2048 |
ImageWidth | 2048 |
IncrementalTemperature | 0 |
IncrementalTint | 0 |
ISO | 800 |
Keywords | 2019, @igorkostin74, BW, Bodø, CanonEOSR, Kvantoland, Landscape, Natur, Nordland, Norge, Norway, Nude, Sørfold, VisitNorway, Workshop, avisanordland, bodoivinden, eyephotomagazine, light, modell, nrknordland, photographyofnorway, travel, visitbodø |
Lens | EF28-300mm f/3.5-5.6L IS USM |
LensID (1) | 233 |
LensID | Canon EF 28-300mm f/3.5-5.6L IS USM |
LensInfo | 28-300mm f/? |
LensManualDistortionAmount | 0 |
LensModel | EF28-300mm f/3.5-5.6L IS USM |
LensProfileEnable | 0 |
LensProfileSetup | LensDefaults |
LensSerialNumber | 0000000000 |
LightValue | 9.6 |
LookName | |
LuminanceAdjustmentAqua | 0 |
LuminanceAdjustmentBlue | 0 |
LuminanceAdjustmentGreen | 0 |
LuminanceAdjustmentMagenta | 0 |
LuminanceAdjustmentOrange | 0 |
LuminanceAdjustmentPurple | 0 |
LuminanceAdjustmentRed | 0 |
LuminanceAdjustmentYellow | 0 |
LuminanceSmoothing | 0 |
Make | Canon |
Marked | True |
MaxApertureValue | 4.4 |
Megapixels | 4.2 |
MeteringMode | Spot |
Model | Canon EOS R |
ModifyDate (1) | 2019:04:08 18:38:47+02:00 |
ModifyDate | 2019:04:08 18:38:47 |
OverrideLookVignette | False |
PaintCorrectionActive | true |
PaintCorrectionAmount | 1.000000 |
PaintCorrectionBrightness | 0.000000 |
PaintCorrectionClarity2012 | 0.000000 |
PaintCorrectionContrast2012 | 0.000000 |
PaintCorrectionCorrectionRangeMaskColorAmount | 0.500000 |
PaintCorrectionCorrectionRangeMaskDepthFeather | 0.500000 |
PaintCorrectionCorrectionRangeMaskDepthMax | 1.000000 |
PaintCorrectionCorrectionRangeMaskDepthMin | 0.000000 |
PaintCorrectionCorrectionRangeMaskLumFeather | 0.500000 |
PaintCorrectionCorrectionRangeMaskLumMax | 1.000000 |
PaintCorrectionCorrectionRangeMaskLumMin | 0.000000 |
PaintCorrectionCorrectionRangeMaskType | 0 |
PaintCorrectionCorrectionRangeMaskVersion | +2 |
PaintCorrectionDefringe | 0.000000 |
PaintCorrectionExposure2012 | 0.000000 |
PaintCorrectionHighlights2012 (1) | -0.185429 |
PaintCorrectionHighlights2012 | 0.000000 |
PaintCorrectionHue | 0.000000 |
PaintCorrectionLocalBlacks2012 | 0.000000 |
PaintCorrectionLocalDehaze (1) | -0.080102 |
PaintCorrectionLocalDehaze (2) | 0.359093 |
PaintCorrectionLocalDehaze | 0.000000 |
PaintCorrectionLocalWhites2012 (1) | 0.000000 |
PaintCorrectionLocalWhites2012 (2) | -0.652861 |
PaintCorrectionLocalWhites2012 (3) | -0.434959 |
PaintCorrectionLocalWhites2012 | -0.282944 |
PaintCorrectionLuminanceNoise | 0.000000 |
PaintCorrectionMaskCenterWeight | 0.123552 |
PaintCorrectionMaskFlow (1) | 0.799617 |
PaintCorrectionMaskFlow (10) | 0.483880 |
PaintCorrectionMaskFlow (11) | 0.218564 |
PaintCorrectionMaskFlow (12) | 0.450565 |
PaintCorrectionMaskFlow (13) | 0.519906 |
PaintCorrectionMaskFlow (14) | 0.469961 |
PaintCorrectionMaskFlow (15) | 0.584519 |
PaintCorrectionMaskFlow (5) | 0.500422 |
PaintCorrectionMaskFlow (6) | 0.220203 |
PaintCorrectionMaskFlow (7) | 0.039577 |
PaintCorrectionMaskFlow (8) | 0.275563 |
PaintCorrectionMaskFlow (9) | 0.278445 |
PaintCorrectionMaskFlow | 0.533760 |
PaintCorrectionMaskRadius (1) | 0.054638 |
PaintCorrectionMaskRadius (2) | 0.027421 |
PaintCorrectionMaskRadius (4) | 0.122984 |
PaintCorrectionMaskRadius (5) | 0.028613 |
PaintCorrectionMaskRadius | 0.019095 |
PaintCorrectionMaskValue | 1.000000 |
PaintCorrectionMaskWhat | Mask/Paint |
PaintCorrectionMoire | 0.000000 |
PaintCorrectionSaturation (3) | -0.493317 |
PaintCorrectionSaturation (5) | -0.689194 |
PaintCorrectionSaturation (7) | -0.407662 |
PaintCorrectionSaturation | 0.000000 |
PaintCorrectionShadows2012 | 0.000000 |
PaintCorrectionSharpness | 0.000000 |
PaintCorrectionTemperature (2) | 0.144296 |
PaintCorrectionTemperature | 0.000000 |
PaintCorrectionTint | 0.000000 |
PaintCorrectionWhat | Correction |
ParametricDarks | 0 |
ParametricHighlights | 0 |
ParametricHighlightSplit | 75 |
ParametricLights | 0 |
ParametricMidtoneSplit | 50 |
ParametricShadows | 0 |
ParametricShadowSplit | 25 |
PerspectiveAspect | 0 |
PerspectiveHorizontal | 0 |
PerspectiveRotate | 0.0 |
PerspectiveScale | 100 |
PerspectiveUpright | 0 |
PerspectiveVertical | 0 |
PerspectiveX | 0.00 |
PerspectiveY | 0.00 |
PostCropVignetteAmount | 0 |
ProcessVersion | 11.0 |
ProfileDescription | sRGB IEC61966-2.1 |
Rating | 5 |
RawFileName | |
RecommendedExposureIndex | 800 |
RedHue | 0 |
RedSaturation | 0 |
Rights | All rights reserved |
Saturation | 0 |
SaturationAdjustmentAqua | 0 |
SaturationAdjustmentBlue | 0 |
SaturationAdjustmentGreen | 0 |
SaturationAdjustmentMagenta | 0 |
SaturationAdjustmentOrange | 0 |
SaturationAdjustmentPurple | 0 |
SaturationAdjustmentRed | 0 |
SaturationAdjustmentYellow | 0 |
ScaleFactor35efl | 2.8 |
SceneCaptureType | Standard |
SensitivityType | Recommended Exposure Index |
SerialNumber | 032021005303 |
Shadows2012 | 0 |
ShadowTint | 0 |
SharpenDetail | 25 |
SharpenEdgeMasking | 0 |
SharpenRadius | +1.0 |
Sharpness | 0 |
ShutterSpeed | 1/100 |
ShutterSpeedValue | 1/100 |
Software | Adobe Photoshop Lightroom Classic 8.2.1 (Macintosh) |
SplitToningBalance | 0 |
SplitToningHighlightHue | 0 |
SplitToningHighlightSaturation | 0 |
SplitToningShadowHue | 0 |
SplitToningShadowSaturation | 0 |
Subject | 2019, @igorkostin74, BW, Bodø, CanonEOSR, Kvantoland, Landscape, Natur, Nordland, Norge, Norway, Nude, Sørfold, VisitNorway, Workshop, avisanordland, bodoivinden, eyephotomagazine, light, modell, nrknordland, photographyofnorway, travel, visitbodø |
ToneCurve | 0, 0, 255, 255 |
ToneCurveBlue | 0, 0, 255, 255 |
ToneCurveGreen | 0, 0, 255, 255 |
ToneCurveName | Linear |
ToneCurveName2012 | Linear |
ToneCurvePV2012 | 0, 0, 255, 255 |
ToneCurvePV2012Blue | 0, 0, 255, 255 |
ToneCurvePV2012Green | 0, 0, 255, 255 |
ToneCurvePV2012Red | 0, 0, 255, 255 |
ToneCurveRed | 0, 0, 255, 255 |
ToneMapStrength | 0 |
UsageTerms | Please contact |
Version | 11.2.1 |
Vibrance | +38 |
VignetteAmount | 0 |
Virtualpaths | kywd:||visitbodø|, kywd:||Nordland|, kywd:||eyephotomagazine|, kywd:||travel|, kywd:||nrknordland|, kywd:||Norway|, kywd:||CanonEOSR|, kywd:||VisitNorway|, kywd:||Kvantoland|, kywd:||Sørfold|, kywd:||2019|, kywd:||modell|, kywd:||Landscape|, kywd:||Natur|, kywd:||@igorkostin74|, kywd:||avisanordland|, kywd:||Bodø|, kywd:||light|, kywd:||Norge|, kywd:||bodoivinden|, kywd:||photographyofnorway|, kywd:||Nude|, kywd:||Workshop|, kywd:||BW| |
WhiteBalance (1) | As Shot |
WhiteBalance | Auto |
Whites2012 | -18 |