Felt | Verdi |
AlreadyApplied | True |
Aperture | 22.0 |
ApertureValue | 22.0 |
Artist | ALLAN AASLAND |
AutoLateralCA | 1 |
BitsPerSample | 8 |
Blacks2012 | +19 |
BlueHue | 0 |
BlueSaturation | +86 |
By-line | ALLAN AASLAND |
CameraProfile | Adobe Standard |
CircleOfConfusion | 0.018 mm |
Clarity2012 | +10 |
ColorComponents | 3 |
ColorMode | RGB |
ColorNoiseReduction | 58 |
ColorNoiseReductionDetail | 50 |
ColorNoiseReductionSmoothness | 77 |
ColorSpace | sRGB |
ColorTemperature | 4500 |
ColorTransform | YCbCr |
Contrast2012 | -10 |
ConvertToGrayscale | False |
Copyright | @AllanAasland |
CopyrightNotice | @AllanAasland |
CreateDate | 2019:07:07 11:10:31 |
Creator | ALLAN AASLAND |
CropAngle | 0.448018 |
CropBottom | 1 |
CropConstrainToWarp | 0 |
CropLeft | 0.275897 |
CropRight | 0.719295 |
CropTop | 0.11482 |
CustomRendered | Normal |
DateCreated (1) | 2019:07:07 |
DateCreated | 2019:07:07 11:10:31.088 |
DateTimeOriginal | 2019:07:07 11:10:31 |
DefringeGreenAmount | 0 |
DefringeGreenHueHi | 60 |
DefringeGreenHueLo | 40 |
DefringePurpleAmount | 0 |
DefringePurpleHueHi | 70 |
DefringePurpleHueLo | 30 |
Dehaze | 0 |
DistortionCorrectionAlreadyApplied | True |
ExifImageHeight | 3942 |
ExifImageWidth | 3010 |
Exposure2012 | -0.36 |
ExposureCompensation | 0 |
ExposureMode | Manual |
ExposureProgram | Manual |
ExposureTime | 1/250 |
Firmware | 1.0.4 |
Flash | Off, Did not fire |
FlashCompensation | 0 |
FNumber | 22.0 |
FocalLength | 100.0 mm |
FocalLength35efl | 100.0 mm (35 mm equivalent: 162.8 mm) |
Format | image/jpeg |
FOV | 12.6 deg |
GrainAmount | 0 |
GreenHue | +100 |
GreenSaturation | +74 |
HasCrop | True |
HasSettings | True |
Highlights2012 | -100 |
HueAdjustmentAqua | 0 |
HueAdjustmentBlue | 0 |
HueAdjustmentGreen | 0 |
HueAdjustmentMagenta | 0 |
HueAdjustmentOrange | 0 |
HueAdjustmentPurple | 0 |
HueAdjustmentRed | 0 |
HueAdjustmentYellow | 0 |
HyperfocalDistance | 24.63 m |
ICCProfileName | sRGB IEC61966-2.1 |
ImageHeight | 3942 |
ImageNumber | 0 |
ImageSize | 3010x3942 |
ImageWidth | 3010 |
ISO | 3200 |
Label | |
LateralChromaticAberrationCorrectionAlreadyApplied | True |
Lens | LAOWA 100mm F2.8 CA-Dreamer Macro 2X |
LensID (1) | 50 |
LensID | Canon EF-S 18-200mm f/3.5-5.6 IS |
LensInfo | 100mm f/? |
LensManualDistortionAmount | 0 |
LensModel | LAOWA 100mm F2.8 CA-Dreamer Macro 2X |
LensProfileChromaticAberrationScale | 100 |
LensProfileDistortionScale | 100 |
LensProfileEnable | 1 |
LensProfileFilename | Canon (TAMRON 17-35mm F2.8-4 Di OSD A037E) - RAW.lcp |
LensProfileName | Adobe (TAMRON 17-35mm F2.8-4 Di OSD A037E, Canon) |
LensProfileSetup | Custom |
LensProfileVignettingScale | 100 |
LensSerialNumber | 000021adb6 |
LightValue | 11.9 |
LookAmount | 1.170000 |
LookCluster | Adobe |
LookGroup | Artistic |
LookName | Artistic 04 |
LookParametersConvertToGrayscale | False |
LookParametersLookTable | E1095149FDB39D7A057BAB208837E2E1 |
LookParametersProcessVersion | 11.0 |
LookParametersRGBTable | 3605ABF8AB643D59ECB70D847028A9E3 |
LookParametersRGBTableAmount | 0.5 |
LookParametersVersion | 11.3 |
LookSupportsMonochrome | false |
LuminanceAdjustmentAqua | 0 |
LuminanceAdjustmentBlue | 0 |
LuminanceAdjustmentGreen | 0 |
LuminanceAdjustmentMagenta | 0 |
LuminanceAdjustmentOrange | 0 |
LuminanceAdjustmentPurple | 0 |
LuminanceAdjustmentRed | 0 |
LuminanceAdjustmentYellow | 0 |
LuminanceNoiseReductionContrast | 0 |
LuminanceNoiseReductionDetail | 50 |
LuminanceSmoothing | 30 |
Make | Canon |
MaxApertureValue | 2.8 |
Megapixels | 11.9 |
MeteringMode | Center-weighted average |
Model | Canon EOS 5D Mark IV |
ModifyDate (1) | 2019:07:27 12:54:14+02:00 |
ModifyDate | 2019:07:27 12:54:14 |
Orientation | Horizontal (normal) |
OverrideLookVignette | False |
ParametricDarks | 0 |
ParametricHighlights | 0 |
ParametricHighlightSplit | 75 |
ParametricLights | 0 |
ParametricMidtoneSplit | 50 |
ParametricShadows | 0 |
ParametricShadowSplit | 25 |
PerspectiveAspect | 0 |
PerspectiveHorizontal | 0 |
PerspectiveRotate | 0.0 |
PerspectiveScale | 100 |
PerspectiveUpright | 0 |
PerspectiveVertical | 0 |
PerspectiveX | 0.00 |
PerspectiveY | 0.00 |
PostCropVignetteAmount | 0 |
ProcessVersion | 11.0 |
ProfileDescription | sRGB IEC61966-2.1 |
Rating | 0 |
RawFileName | 589A0451.CR2 |
RecommendedExposureIndex | 3200 |
RedHue | 0 |
RedSaturation | +74 |
Rights | @AllanAasland |
Saturation | -30 |
SaturationAdjustmentAqua | 0 |
SaturationAdjustmentBlue | 0 |
SaturationAdjustmentGreen | 0 |
SaturationAdjustmentMagenta | 0 |
SaturationAdjustmentOrange | +47 |
SaturationAdjustmentPurple | 0 |
SaturationAdjustmentRed | +40 |
SaturationAdjustmentYellow | +89 |
ScaleFactor35efl | 1.6 |
SceneCaptureType | Standard |
SensitivityType | Recommended Exposure Index |
SerialNumber | 213056001889 |
Shadows2012 | +100 |
ShadowTint | 0 |
SharpenDetail | 25 |
SharpenEdgeMasking | 64 |
SharpenRadius | +1.6 |
Sharpness | 86 |
ShutterSpeed | 1/250 |
ShutterSpeedValue | 1/250 |
Software | Adobe Photoshop CC 2019 (Windows) |
SplitToningBalance | 0 |
SplitToningHighlightHue | 0 |
SplitToningHighlightSaturation | 0 |
SplitToningShadowHue | 0 |
SplitToningShadowSaturation | 0 |
Texture | 0 |
Tint | +11 |
ToneCurve | 0, 0, 32, 22, 64, 56, 128, 128, 192, 196, 255, 255 |
ToneCurveBlue | 0, 0, 255, 255 |
ToneCurveGreen | 0, 0, 255, 255 |
ToneCurveName | Medium Contrast |
ToneCurveName2012 | Linear |
ToneCurvePV2012 | 0, 0, 255, 255 |
ToneCurvePV2012Blue | 0, 0, 255, 255 |
ToneCurvePV2012Green | 0, 0, 255, 255 |
ToneCurvePV2012Red | 0, 0, 255, 255 |
ToneCurveRed | 0, 0, 255, 255 |
ToneMapStrength | 0 |
URL_List | |
Version | 11.3 |
Vibrance | -30 |
VignetteAmount | 0 |
VignetteCorrectionAlreadyApplied | True |
WhiteBalance (1) | Custom |
WhiteBalance | Auto |
Whites2012 | 0 |