Felt | Verdi |
AlreadyApplied | True |
Aperture | 8.0 |
ApertureValue | 8.0 |
ApproximateFocusDistance | 4294967295 |
Artist | Igor Kostin |
AutoLateralCA | 0 |
BitsPerSample | 8 |
Blacks2012 | 0 |
BlueHue | 0 |
BlueSaturation | 0 |
By-line | Igor Kostin |
CameraProfile | Embedded |
CircleOfConfusion | 0.009 mm |
Clarity2012 | 0 |
ColorComponents | 3 |
ColorGradeBlending | 50 |
ColorGradeGlobalHue | 0 |
ColorGradeGlobalLum | 0 |
ColorGradeGlobalSat | 0 |
ColorGradeHighlightLum | 0 |
ColorGradeMidtoneHue | 0 |
ColorGradeMidtoneLum | 0 |
ColorGradeMidtoneSat | 0 |
ColorGradeShadowLum | 0 |
ColorNoiseReduction | 0 |
ColorSpace | Uncalibrated |
ColorTransform | YCbCr |
Contrast2012 | 0 |
ConvertToGrayscale | False |
Copyright | All rights reserved |
CopyrightFlag | True |
CopyrightNotice | All rights reserved |
CreateDate (1) | 2021:02:03 22:16:25Z |
CreateDate | 2021:02:03 22:16:25 |
Creator | Igor Kostin |
CreatorCity | Bodø |
CreatorCountry | Norway |
CreatorTool | Adobe Photoshop Lightroom Classic 10.1.1 (Macintosh) |
CropAngle | 0 |
CropBottom | 1 |
CropConstrainToWarp | 0 |
CropLeft | 0 |
CropRight | 1 |
CropTop | 0 |
CustomRendered | Normal |
DateCreated (1) | 2021:02:03 |
DateCreated | 2021:02:03 22:16:25Z |
DateTimeOriginal | 2021:02:03 22:16:25 |
DefringeGreenAmount | 0 |
DefringeGreenHueHi | 60 |
DefringeGreenHueLo | 40 |
DefringePurpleAmount | 0 |
DefringePurpleHueHi | 70 |
DefringePurpleHueLo | 30 |
Dehaze | +17 |
DOF | inf (7.58 m - inf) |
Exposure2012 | 0.00 |
ExposureCompensation | 0 |
ExposureMode | Manual |
ExposureProgram | Manual |
ExposureTime | 30 |
Firmware | 1.7.0 |
Flash | No Flash |
FlashCompensation | 0 |
FNumber | 8.0 |
FocalLength | 24.0 mm |
FocalLength35efl | 24.0 mm (35 mm equivalent: 76.0 mm) |
Format | image/jpeg |
FOV | 26.7 deg |
GrainAmount | 0 |
GreenHue | 0 |
GreenSaturation | 0 |
HasCrop | False |
HasSettings | True |
Highlights2012 | 0 |
HueAdjustmentAqua | 0 |
HueAdjustmentBlue | 0 |
HueAdjustmentGreen | 0 |
HueAdjustmentMagenta | 0 |
HueAdjustmentOrange | 0 |
HueAdjustmentPurple | 0 |
HueAdjustmentRed | 0 |
HueAdjustmentYellow | 0 |
HyperfocalDistance | 7.58 m |
ImageHeight | 1522 |
ImageNumber | 0 |
ImageSize | 2048x1522 |
ImageWidth | 2048 |
IncrementalTemperature | 0 |
IncrementalTint | 0 |
ISO | 100 |
Keywords | 2021, @igorkostin74, Bodø, Canon, CanonEOSR, Digital, Landscape, Natur, Nordland, Norge, Norway, Sørfold, exposure, travel |
LateralChromaticAberrationCorrectionAlreadyApplied | True |
Lens | 24.0 mm |
LensID (1) | 180 |
LensID | Sigma 24mm f/1.4 DG HSM | A or Sigma 24mm f/1.5 FF High-Speed Prime | 017 |
LensInfo | 24mm f/? |
LensManualDistortionAmount | 0 |
LensModel | 24.0 mm |
LensProfileEnable | 0 |
LensSerialNumber | 0000000000 |
LightValue | 1.1 |
LuminanceAdjustmentAqua | 0 |
LuminanceAdjustmentBlue | 0 |
LuminanceAdjustmentGreen | 0 |
LuminanceAdjustmentMagenta | 0 |
LuminanceAdjustmentOrange | 0 |
LuminanceAdjustmentPurple | 0 |
LuminanceAdjustmentRed | -36 |
LuminanceAdjustmentYellow | 0 |
LuminanceSmoothing | 0 |
Make | Canon |
Marked | True |
MaxApertureValue | 1.4 |
Megapixels | 3.1 |
MeteringMode | Spot |
Model | Canon EOS R |
ModifyDate (1) | 2021:03:13 21:02:01+01:00 |
ModifyDate | 2021:03:13 21:02:01 |
OverrideLookVignette | False |
ParametricDarks | 0 |
ParametricHighlights | 0 |
ParametricHighlightSplit | 75 |
ParametricLights | 0 |
ParametricMidtoneSplit | 50 |
ParametricShadows | 0 |
ParametricShadowSplit | 25 |
PerspectiveAspect | 0 |
PerspectiveHorizontal | 0 |
PerspectiveRotate | 0.0 |
PerspectiveScale | 100 |
PerspectiveUpright | 0 |
PerspectiveVertical | 0 |
PerspectiveX | 0.00 |
PerspectiveY | 0.00 |
PostCropVignetteAmount | 0 |
PreservedFileName | _Q3A4088.CR3 |
ProcessVersion | 11.0 |
ProfileDescription | Display P3 |
Rating | 5 |
RawFileName | |
RecommendedExposureIndex | 100 |
RedHue | 0 |
RedSaturation | 0 |
Rights | All rights reserved |
Saturation | 0 |
SaturationAdjustmentAqua | 0 |
SaturationAdjustmentBlue | 0 |
SaturationAdjustmentGreen | 0 |
SaturationAdjustmentMagenta | 0 |
SaturationAdjustmentOrange | 0 |
SaturationAdjustmentPurple | 0 |
SaturationAdjustmentRed | -37 |
SaturationAdjustmentYellow | 0 |
ScaleFactor35efl | 3.2 |
SceneCaptureType | Standard |
SensitivityType | Recommended Exposure Index |
SerialNumber | 032021005303 |
Shadows2012 | +15 |
ShadowTint | 0 |
Sharpness | 0 |
ShutterSpeed | 30 |
ShutterSpeedValue | 30 |
Software | Adobe Photoshop Lightroom Classic 10.1.1 (Macintosh) |
SplitToningBalance | 0 |
SplitToningHighlightHue | 0 |
SplitToningHighlightSaturation | 0 |
SplitToningShadowHue | 0 |
SplitToningShadowSaturation | 0 |
Subject | 2021, @igorkostin74, Bodø, Canon, CanonEOSR, Digital, Landscape, Natur, Nordland, Norge, Norway, Sørfold, exposure, travel |
Texture | 0 |
ToneCurveName2012 | Linear |
ToneCurvePV2012 | 0, 0, 255, 255 |
ToneCurvePV2012Blue | 0, 0, 255, 255 |
ToneCurvePV2012Green | 0, 0, 255, 255 |
ToneCurvePV2012Red | 0, 0, 255, 255 |
UsageTerms | Please contact |
Version | 13.1 |
Vibrance | 0 |
VignetteAmount | 0 |
Virtualpaths | kywd:||CanonEOSR|, kywd:||Canon|, kywd:||Landscape|, kywd:||Norge|, kywd:||exposure|, kywd:||2021|, kywd:||travel|, kywd:||Landskap|, kywd:||Norway|, kywd:||Nordland|, kywd:||Sørfold|, kywd:||Natur|, kywd:||Bodø|, kywd:||Digital|, kywd:||@igorkostin74| |
WhiteBalance (1) | As Shot |
WhiteBalance | Auto |
Whites2012 | 0 |