Felt | Verdi |
AlreadyApplied | True |
Aperture | 2.8 |
ApertureValue | 2.8 |
ApproximateFocusDistance | 3.19 |
Artist | wwww.naturfotografen.com |
AutoLateralCA | 0 |
AutoWhiteVersion | 134348800 |
BitsPerSample (1) | 8 8 8 |
BitsPerSample | 8 |
Blacks2012 | 0 |
BlueHue | 0 |
BlueSaturation | 0 |
By-line | wwww.naturfotografen.com |
CameraProfile | Adobe Standard |
CircleOfConfusion | 0.019 mm |
Clarity2012 | +32 |
ColorComponents | 3 |
ColorMode | RGB |
ColorNoiseReduction | 25 |
ColorNoiseReductionDetail | 50 |
ColorNoiseReductionSmoothness | 50 |
ColorSpace | Uncalibrated |
ColorTemperature | 4800 |
ColorTransform | YCbCr |
Contrast2012 | 0 |
ConvertToGrayscale | False |
Copyright | tlf90168608 |
CopyrightNotice | tlf90168608 |
CreateDate | 2017:07:26 13:05:26 |
Creator | wwww.naturfotografen.com |
CreatorTool | Adobe Photoshop CC 2017 (Windows) |
CustomRendered | Normal |
DateCreated (1) | 2017:07:26 |
DateCreated | 2017:07:26 13:05:26 |
DateTimeOriginal | 2017:07:26 13:05:26 |
DefringeGreenAmount | 0 |
DefringeGreenHueHi | 60 |
DefringeGreenHueLo | 40 |
DefringePurpleAmount | 0 |
DefringePurpleHueHi | 70 |
DefringePurpleHueLo | 30 |
Dehaze | 0 |
DOF | 0.36 m (3.02 - 3.38 m) |
ExifImageHeight | 3456 |
ExifImageWidth | 5184 |
Exposure2012 | 0.00 |
ExposureCompensation | -2/3 |
ExposureMode | Auto |
ExposureProgram | Aperture-priority AE |
ExposureTime | 1/400 |
Firmware | 2.0.0 |
Flash | Off, Did not fire |
FlashCompensation | 0 |
FNumber | 2.8 |
FocalLength | 55.0 mm |
FocalLength35efl | 55.0 mm (35 mm equivalent: 86.4 mm) |
Format | image/jpeg |
FOV | 23.5 deg |
GrainAmount | 0 |
GreenHue | 0 |
GreenSaturation | 0 |
HasCrop | False |
HasExtendedXMP | 3CF4EDE97947B5DE7163A552E9433323 |
HasSettings | True |
Highlights2012 | -51 |
HueAdjustmentAqua | 0 |
HueAdjustmentBlue | 0 |
HueAdjustmentGreen | 0 |
HueAdjustmentMagenta | 0 |
HueAdjustmentOrange | 0 |
HueAdjustmentPurple | 0 |
HueAdjustmentRed | 0 |
HueAdjustmentYellow | 0 |
HyperfocalDistance | 56.46 m |
ICCProfileName | Adobe RGB (1998) |
ImageHeight | 3456 |
ImageNumber | 0 |
ImageSize | 5184x3456 |
ImageWidth | 5184 |
ISO | 400 |
Lens | EF24-70mm f/2.8L USM |
LensID (1) | 230 |
LensID | Canon EF 24-70mm f/2.8L USM |
LensInfo | 24-70mm f/? |
LensManualDistortionAmount | 0 |
LensModel | EF24-70mm f/2.8L USM |
LensProfileEnable | 0 |
LensProfileSetup | LensDefaults |
LightValue | 9.6 |
LuminanceAdjustmentAqua | 0 |
LuminanceAdjustmentBlue | 0 |
LuminanceAdjustmentGreen | 0 |
LuminanceAdjustmentMagenta | 0 |
LuminanceAdjustmentOrange | 0 |
LuminanceAdjustmentPurple | 0 |
LuminanceAdjustmentRed | 0 |
LuminanceAdjustmentYellow | 0 |
LuminanceSmoothing | 0 |
Make | Canon |
MaxApertureValue | 2.8 |
Megapixels | 17.9 |
MeteringMode | Multi-segment |
Model | Canon EOS 7D |
ModifyDate (1) | 2022:02:17 21:47:59+01:00 |
ModifyDate | 2022:02:17 21:47:59 |
Orientation | Horizontal (normal) |
PaintCorrectionActive | true |
PaintCorrectionAmount | 1.000000 |
PaintCorrectionBrightness | 0.000000 |
PaintCorrectionClarity | 0.000000 |
PaintCorrectionClarity2012 (1) | 0.000000 |
PaintCorrectionClarity2012 | 0.700000 |
PaintCorrectionContrast | 0.000000 |
PaintCorrectionContrast2012 | 0.000000 |
PaintCorrectionDefringe | 0.000000 |
PaintCorrectionExposure | 0.000000 |
PaintCorrectionExposure2012 (1) | 1.000000 |
PaintCorrectionExposure2012 (15) | -0.987500 |
PaintCorrectionExposure2012 (17) | 0.462500 |
PaintCorrectionExposure2012 (4) | 0.137500 |
PaintCorrectionExposure2012 (5) | -1.000000 |
PaintCorrectionExposure2012 (9) | -0.537500 |
PaintCorrectionExposure2012 | -0.250000 |
PaintCorrectionHighlights2012 | 0.000000 |
PaintCorrectionHue | 0.000000 |
PaintCorrectionLocalBlacks2012 | 0.000000 |
PaintCorrectionLocalDehaze | 0.000000 |
PaintCorrectionLocalWhites2012 | 0.000000 |
PaintCorrectionLuminanceNoise | 0.000000 |
PaintCorrectionMaskCenterWeight | 0.149306 |
PaintCorrectionMaskFlow (1) | 0.603704 |
PaintCorrectionMaskFlow (10) | 0.778936 |
PaintCorrectionMaskFlow (11) | 0.367371 |
PaintCorrectionMaskFlow (12) | 0.842051 |
PaintCorrectionMaskFlow (13) | 0.846750 |
PaintCorrectionMaskFlow (15) | 0.559880 |
PaintCorrectionMaskFlow (16) | 0.860307 |
PaintCorrectionMaskFlow (17) | 0.773876 |
PaintCorrectionMaskFlow (18) | 0.801851 |
PaintCorrectionMaskFlow (19) | 0.735346 |
PaintCorrectionMaskFlow (2) | 0.864457 |
PaintCorrectionMaskFlow (20) | 0.709386 |
PaintCorrectionMaskFlow (21) | 0.755001 |
PaintCorrectionMaskFlow (22) | 0.687050 |
PaintCorrectionMaskFlow (23) | 0.683896 |
PaintCorrectionMaskFlow (24) | 0.483058 |
PaintCorrectionMaskFlow (25) | 0.000000 |
PaintCorrectionMaskFlow (26) | 0.474752 |
PaintCorrectionMaskFlow (27) | 0.657007 |
PaintCorrectionMaskFlow (28) | 0.717719 |
PaintCorrectionMaskFlow (29) | 0.351177 |
PaintCorrectionMaskFlow (30) | 0.486323 |
PaintCorrectionMaskFlow (31) | 0.420169 |
PaintCorrectionMaskFlow (32) | 0.064988 |
PaintCorrectionMaskFlow (33) | 0.636617 |
PaintCorrectionMaskFlow (35) | 0.847410 |
PaintCorrectionMaskFlow (36) | 0.841368 |
PaintCorrectionMaskFlow (37) | 0.142211 |
PaintCorrectionMaskFlow (38) | 0.042644 |
PaintCorrectionMaskFlow (39) | 0.783373 |
PaintCorrectionMaskFlow (40) | 0.787227 |
PaintCorrectionMaskFlow (41) | 0.771813 |
PaintCorrectionMaskFlow (42) | 0.616536 |
PaintCorrectionMaskFlow (43) | 0.453939 |
PaintCorrectionMaskFlow (44) | 0.620679 |
PaintCorrectionMaskFlow (47) | 0.740292 |
PaintCorrectionMaskFlow (48) | 0.617578 |
PaintCorrectionMaskFlow (49) | 0.051692 |
PaintCorrectionMaskFlow (5) | 0.819707 |
PaintCorrectionMaskFlow (50) | 0.426025 |
PaintCorrectionMaskFlow (51) | 0.648868 |
PaintCorrectionMaskFlow (52) | 0.800972 |
PaintCorrectionMaskFlow (53) | 0.825883 |
PaintCorrectionMaskFlow (54) | 0.699241 |
PaintCorrectionMaskFlow (55) | 0.731557 |
PaintCorrectionMaskFlow (56) | 0.149701 |
PaintCorrectionMaskFlow (57) | 0.785311 |
PaintCorrectionMaskFlow (58) | 0.604797 |
PaintCorrectionMaskFlow (59) | 0.722434 |
PaintCorrectionMaskFlow (6) | 0.847738 |
PaintCorrectionMaskFlow (60) | 0.240847 |
PaintCorrectionMaskFlow (61) | 0.592523 |
PaintCorrectionMaskFlow (62) | 0.675819 |
PaintCorrectionMaskFlow (63) | 0.704372 |
PaintCorrectionMaskFlow (64) | 0.627773 |
PaintCorrectionMaskFlow (65) | 0.246938 |
PaintCorrectionMaskFlow (67) | 0.763864 |
PaintCorrectionMaskFlow (68) | 0.395753 |
PaintCorrectionMaskFlow (69) | 0.692465 |
PaintCorrectionMaskFlow (7) | 0.808300 |
PaintCorrectionMaskFlow (70) | 0.677457 |
PaintCorrectionMaskFlow (72) | 0.633703 |
PaintCorrectionMaskFlow (73) | 0.702918 |
PaintCorrectionMaskFlow (74) | 0.437458 |
PaintCorrectionMaskFlow (75) | 0.533089 |
PaintCorrectionMaskFlow (76) | 0.056160 |
PaintCorrectionMaskFlow (77) | 0.073673 |
PaintCorrectionMaskFlow (78) | 0.683101 |
PaintCorrectionMaskFlow (79) | 0.715666 |
PaintCorrectionMaskFlow (8) | 0.873226 |
PaintCorrectionMaskFlow (80) | 0.479761 |
PaintCorrectionMaskFlow (81) | 0.656116 |
PaintCorrectionMaskFlow (82) | 0.775917 |
PaintCorrectionMaskFlow (9) | 0.811226 |
PaintCorrectionMaskFlow | 0.720426 |
PaintCorrectionMaskRadius (1) | 0.077348 |
PaintCorrectionMaskRadius (46) | 0.032021 |
PaintCorrectionMaskRadius (78) | 0.095478 |
PaintCorrectionMaskRadius | 0.050152 |
PaintCorrectionMaskValue | 0.530000 |
PaintCorrectionMaskWhat | Mask/Paint |
PaintCorrectionMoire | 0.000000 |
PaintCorrectionSaturation | 0.000000 |
PaintCorrectionShadows2012 | 0.330000 |
PaintCorrectionSharpness (3) | 0.000000 |
PaintCorrectionSharpness | 1.000000 |
PaintCorrectionTemperature | 0.000000 |
PaintCorrectionTint | 0.000000 |
PaintCorrectionWhat | Correction |
ParametricDarks | 0 |
ParametricHighlights | 0 |
ParametricHighlightSplit | 75 |
ParametricLights | 0 |
ParametricMidtoneSplit | 50 |
ParametricShadows | 0 |
ParametricShadowSplit | 25 |
PerspectiveAspect | 0 |
PerspectiveHorizontal | 0 |
PerspectiveRotate | 0.0 |
PerspectiveScale | 100 |
PerspectiveUpright | 0 |
PerspectiveVertical | 0 |
PerspectiveX | 0.00 |
PerspectiveY | 0.00 |
PhotometricInterpretation | RGB |
PostCropVignetteAmount | 0 |
ProcessVersion | 6.7 |
ProfileDescription | Adobe RGB (1998) |
Rating | 0 |
RawFileName | _MG_3520.CR2 |
RecommendedExposureIndex | 400 |
RedHue | 0 |
RedSaturation | 0 |
Rights | tlf90168608 |
SamplesPerPixel | 3 |
Saturation | 0 |
SaturationAdjustmentAqua | 0 |
SaturationAdjustmentBlue | 0 |
SaturationAdjustmentGreen | 0 |
SaturationAdjustmentMagenta | 0 |
SaturationAdjustmentOrange | 0 |
SaturationAdjustmentPurple | 0 |
SaturationAdjustmentRed | 0 |
SaturationAdjustmentYellow | 0 |
ScaleFactor35efl | 1.6 |
SceneCaptureType | Standard |
SensitivityType | Recommended Exposure Index |
SerialNumber | 0280111134 |
Shadows2012 | 0 |
ShadowTint | 0 |
SharpenDetail | 25 |
SharpenEdgeMasking | 0 |
SharpenRadius | +1.0 |
Sharpness | 25 |
ShutterSpeed | 1/400 |
ShutterSpeedValue | 1/400 |
Software | Adobe Photoshop 23.1 (Windows) |
SplitToningBalance | 0 |
SplitToningHighlightHue | 0 |
SplitToningHighlightSaturation | 0 |
SplitToningShadowHue | 0 |
SplitToningShadowSaturation | 0 |
Tint | +33 |
ToneCurve | 0, 0, 32, 22, 64, 56, 128, 128, 192, 196, 255, 255 |
ToneCurveBlue | 0, 0, 255, 255 |
ToneCurveGreen | 0, 0, 255, 255 |
ToneCurveName | Medium Contrast |
ToneCurveName2012 | Linear |
ToneCurvePV2012 | 0, 0, 255, 255 |
ToneCurvePV2012Blue | 0, 0, 255, 255 |
ToneCurvePV2012Green | 0, 0, 255, 255 |
ToneCurvePV2012Red | 0, 0, 255, 255 |
ToneCurveRed | 0, 0, 255, 255 |
ToneMapStrength | 0 |
URL_List | |
Version | 9.9 |
Vibrance | 0 |
VignetteAmount | 0 |
WhiteBalance (1) | As Shot |
WhiteBalance | Auto |
Whites2012 | -96 |