Felt | Verdi |
AlreadyApplied | True |
Aperture | 5.6 |
ApertureValue | 5.6 |
ApproximateFocusDistance | 1.97 |
Artist | wwww.naturfotografen.com |
AutoLateralCA | 0 |
BitsPerSample (1) | 8 8 8 |
BitsPerSample | 8 |
Blacks2012 | 0 |
BlueHue | 0 |
BlueSaturation | 0 |
By-line | wwww.naturfotografen.com |
CameraProfile | Adobe Standard |
CircleOfConfusion | 0.019 mm |
Clarity2012 | -23 |
ColorComponents | 3 |
ColorMode | RGB |
ColorNoiseReduction | 25 |
ColorNoiseReductionDetail | 50 |
ColorNoiseReductionSmoothness | 50 |
ColorSpace | Uncalibrated |
ColorTemperature | 4800 |
ColorTransform | YCbCr |
Contrast2012 | 0 |
ConvertToGrayscale | False |
Copyright | tlf90168608 |
CopyrightNotice | tlf90168608 |
CreateDate | 2015:08:08 16:38:10 |
Creator | wwww.naturfotografen.com |
CreatorTool | Adobe Photoshop CC (Windows) |
CustomRendered | Normal |
DateCreated (1) | 2015:08:08 |
DateCreated | 2015:08:08 16:38:10.043 |
DateTimeOriginal | 2015:08:08 16:38:10 |
DefringeGreenAmount | 0 |
DefringeGreenHueHi | 60 |
DefringeGreenHueLo | 40 |
DefringePurpleAmount | 0 |
DefringePurpleHueHi | 70 |
DefringePurpleHueLo | 30 |
Dehaze | 0 |
DOF | 0.11 m (1.92 - 2.03 m) |
ExifImageHeight | 667 |
ExifImageWidth | 1000 |
Exposure2012 | -1.65 |
ExposureCompensation | +1/3 |
ExposureMode | Auto |
ExposureProgram | Aperture-priority AE |
ExposureTime | 1/500 |
Firmware | 2.0.0 |
Flash | Off, Did not fire |
FlashCompensation | 0 |
FNumber | 5.6 |
FocalLength | 85.0 mm |
FocalLength35efl | 85.0 mm (35 mm equivalent: 133.5 mm) |
Format | image/jpeg |
FOV | 15.4 deg |
GrainAmount | 0 |
GreenHue | 0 |
GreenSaturation | 0 |
HasCrop | False |
HasSettings | True |
Highlights2012 | -100 |
HueAdjustmentAqua | 0 |
HueAdjustmentBlue | 0 |
HueAdjustmentGreen | 0 |
HueAdjustmentMagenta | 0 |
HueAdjustmentOrange | 0 |
HueAdjustmentPurple | 0 |
HueAdjustmentRed | 0 |
HueAdjustmentYellow | 0 |
HyperfocalDistance | 67.43 m |
ICCProfileName | Adobe RGB (1998) |
ImageHeight | 667 |
ImageNumber | 0 |
ImageSize | 1000x667 |
ImageWidth | 1000 |
ISO | 200 |
Lens | EF-S17-85mm f/4-5.6 IS USM |
LensID (1) | 234 |
LensID | Canon EF-S 17-85mm f/4-5.6 IS USM |
LensInfo | 17-85mm f/? |
LensManualDistortionAmount | 0 |
LensModel | EF-S17-85mm f/4-5.6 IS USM |
LensProfileEnable | 0 |
LensProfileSetup | LensDefaults |
LightValue | 12.9 |
LuminanceAdjustmentAqua | 0 |
LuminanceAdjustmentBlue | 0 |
LuminanceAdjustmentGreen | 0 |
LuminanceAdjustmentMagenta | 0 |
LuminanceAdjustmentOrange | 0 |
LuminanceAdjustmentPurple | 0 |
LuminanceAdjustmentRed | 0 |
LuminanceAdjustmentYellow | 0 |
LuminanceSmoothing | 0 |
Make | Canon |
MaxApertureValue | 5.7 |
Megapixels | 0.667 |
MeteringMode | Multi-segment |
Model | Canon EOS 7D |
ModifyDate (1) | 2022:03:29 10:18:39+02:00 |
ModifyDate | 2022:03:29 10:18:39 |
Orientation | Horizontal (normal) |
PaintCorrectionActive | true |
PaintCorrectionAmount | 1.000000 |
PaintCorrectionBrightness | 0.000000 |
PaintCorrectionClarity | 0.000000 |
PaintCorrectionClarity2012 | 0.000000 |
PaintCorrectionContrast | 0.000000 |
PaintCorrectionContrast2012 | 0.000000 |
PaintCorrectionDefringe | 0.000000 |
PaintCorrectionExposure | 0.000000 |
PaintCorrectionExposure2012 (1) | 0.250000 |
PaintCorrectionExposure2012 (10) | 0.575000 |
PaintCorrectionExposure2012 (11) | -0.037500 |
PaintCorrectionExposure2012 (12) | 0.637500 |
PaintCorrectionExposure2012 (2) | 1.000000 |
PaintCorrectionExposure2012 (5) | 0.700000 |
PaintCorrectionExposure2012 (8) | -0.450000 |
PaintCorrectionExposure2012 | -0.300000 |
PaintCorrectionHighlights2012 | 0.000000 |
PaintCorrectionHue | 0.000000 |
PaintCorrectionLocalBlacks2012 | 0.000000 |
PaintCorrectionLocalDehaze | 0.000000 |
PaintCorrectionLocalWhites2012 | 0.000000 |
PaintCorrectionLuminanceNoise | 0.000000 |
PaintCorrectionMaskCenterWeight | 0.008337 |
PaintCorrectionMaskFlow (1) | 0.749285 |
PaintCorrectionMaskFlow (10) | 0.727789 |
PaintCorrectionMaskFlow (11) | 0.591616 |
PaintCorrectionMaskFlow (12) | 0.399110 |
PaintCorrectionMaskFlow (13) | 0.644227 |
PaintCorrectionMaskFlow (14) | 0.362667 |
PaintCorrectionMaskFlow (15) | 0.533333 |
PaintCorrectionMaskFlow (16) | 0.634369 |
PaintCorrectionMaskFlow (17) | 0.230709 |
PaintCorrectionMaskFlow (18) | 0.716679 |
PaintCorrectionMaskFlow (2) | 0.628106 |
PaintCorrectionMaskFlow (20) | 0.640481 |
PaintCorrectionMaskFlow (21) | 0.688289 |
PaintCorrectionMaskFlow (22) | 0.369881 |
PaintCorrectionMaskFlow (24) | 0.282353 |
PaintCorrectionMaskFlow (25) | 0.577638 |
PaintCorrectionMaskFlow (26) | 0.432301 |
PaintCorrectionMaskFlow (27) | 0.583313 |
PaintCorrectionMaskFlow (28) | 0.052190 |
PaintCorrectionMaskFlow (29) | 0.045028 |
PaintCorrectionMaskFlow (3) | 0.797640 |
PaintCorrectionMaskFlow (30) | 0.320450 |
PaintCorrectionMaskFlow (31) | 0.457076 |
PaintCorrectionMaskFlow (32) | 0.418446 |
PaintCorrectionMaskFlow (33) | 0.435308 |
PaintCorrectionMaskFlow (34) | 0.580490 |
PaintCorrectionMaskFlow (4) | 0.212952 |
PaintCorrectionMaskFlow (5) | 0.647183 |
PaintCorrectionMaskFlow (6) | 0.617594 |
PaintCorrectionMaskFlow (7) | 0.076538 |
PaintCorrectionMaskFlow (8) | 0.726237 |
PaintCorrectionMaskFlow (9) | 0.766559 |
PaintCorrectionMaskFlow | 0.531103 |
PaintCorrectionMaskRadius (1) | 0.323163 |
PaintCorrectionMaskRadius (4) | 0.192335 |
PaintCorrectionMaskRadius (7) | 0.153086 |
PaintCorrectionMaskRadius | 0.074589 |
PaintCorrectionMaskValue | 1.000000 |
PaintCorrectionMaskWhat | Mask/Paint |
PaintCorrectionMoire | 0.000000 |
PaintCorrectionSaturation (3) | -0.140000 |
PaintCorrectionSaturation | 0.000000 |
PaintCorrectionShadows2012 | 0.000000 |
PaintCorrectionSharpness (1) | 0.900000 |
PaintCorrectionSharpness (4) | 0.000000 |
PaintCorrectionSharpness | 0.260000 |
PaintCorrectionTemperature | 0.000000 |
PaintCorrectionTint | 0.000000 |
PaintCorrectionWhat | Correction |
ParametricDarks | 0 |
ParametricHighlights | 0 |
ParametricHighlightSplit | 75 |
ParametricLights | 0 |
ParametricMidtoneSplit | 50 |
ParametricShadows | 0 |
ParametricShadowSplit | 25 |
PerspectiveAspect | 0 |
PerspectiveHorizontal | 0 |
PerspectiveRotate | 0.0 |
PerspectiveScale | 100 |
PerspectiveUpright | 0 |
PerspectiveVertical | 0 |
PerspectiveX | 0.00 |
PerspectiveY | 0.00 |
PhotometricInterpretation | RGB |
PostCropVignetteAmount | 0 |
ProcessVersion | 10.0 |
ProfileDescription | Adobe RGB (1998) |
Rating | 0 |
RawFileName | _MG_4140.CR2 |
RecommendedExposureIndex | 200 |
RedHue | 0 |
RedSaturation | 0 |
Rights | tlf90168608 |
SamplesPerPixel | 3 |
Saturation | 0 |
SaturationAdjustmentAqua | 0 |
SaturationAdjustmentBlue | 0 |
SaturationAdjustmentGreen | 0 |
SaturationAdjustmentMagenta | 0 |
SaturationAdjustmentOrange | 0 |
SaturationAdjustmentPurple | 0 |
SaturationAdjustmentRed | 0 |
SaturationAdjustmentYellow | 0 |
ScaleFactor35efl | 1.6 |
SceneCaptureType | Standard |
SensitivityType | Recommended Exposure Index |
SerialNumber | 0280111134 |
Shadows2012 | 0 |
ShadowTint | 0 |
SharpenDetail | 25 |
SharpenEdgeMasking | 0 |
SharpenRadius | +1.0 |
Sharpness | 25 |
ShutterSpeed | 1/500 |
ShutterSpeedValue | 1/500 |
Software | Adobe Photoshop 23.2 (Windows) |
SplitToningBalance | 0 |
SplitToningHighlightHue | 0 |
SplitToningHighlightSaturation | 0 |
SplitToningShadowHue | 0 |
SplitToningShadowSaturation | 0 |
Tint | +2 |
ToneCurve | 0, 0, 32, 22, 64, 56, 128, 128, 192, 196, 255, 255 |
ToneCurveBlue | 0, 0, 255, 255 |
ToneCurveGreen | 0, 0, 255, 255 |
ToneCurveName | Medium Contrast |
ToneCurveName2012 | Linear |
ToneCurvePV2012 | 0, 0, 255, 255 |
ToneCurvePV2012Blue | 0, 0, 255, 255 |
ToneCurvePV2012Green | 0, 0, 255, 255 |
ToneCurvePV2012Red | 0, 0, 255, 255 |
ToneCurveRed | 0, 0, 255, 255 |
URL_List | |
Version | 10.0 |
Vibrance | 0 |
VignetteAmount | 0 |
WhiteBalance (1) | As Shot |
WhiteBalance | Auto |
Whites2012 | 0 |