Felt | Verdi |
AlreadyApplied | True |
Aperture | 13.0 |
ApertureValue | 13.0 |
ApproximateFocusDistance | 13.8 |
Artist | Oivind Boge |
AutoLateralCA | 0 |
BitsPerSample | 8 |
Blacks2012 | -49 |
BlueHue | 0 |
BlueSaturation | 0 |
By-line | Oivind Boge |
CameraProfile | Embedded |
CircleOfConfusion | 0.028 mm |
Clarity2012 | -5 |
ColorComponents | 3 |
ColorGradeBlending | 50 |
ColorGradeGlobalHue | 0 |
ColorGradeGlobalLum | 0 |
ColorGradeGlobalSat | 0 |
ColorGradeHighlightLum | 0 |
ColorGradeMidtoneHue | 18 |
ColorGradeMidtoneLum | 0 |
ColorGradeMidtoneSat | 0 |
ColorGradeShadowLum | 0 |
ColorNoiseReduction | 0 |
ColorSpace | sRGB |
ColorTransform | YCbCr |
CompatibleVersion | 234881024 |
Contrast2012 | -74 |
ConvertToGrayscale | False |
Copyright | Copyright Oeivind Boge 2014. bilde@bogefoto.no |
CopyrightNotice | Copyright Oeivind Boge 2014. bilde@bogefoto.no |
CreateDate (1) | 2023:01:28 15:18:02.18+02:00 |
CreateDate | 2023:01:28 15:18:02 |
Creator | Oivind Boge |
CreatorTool | Adobe Photoshop Lightroom Classic 12.0.1 (Windows) |
CropAngle | 0 |
CropBottom | 0.999439 |
CropConstrainToWarp | 0 |
CropLeft | 0.001262 |
CropRight | 1 |
CropTop | 0.111275 |
CustomRendered | Normal |
DateCreated (1) | 2023:01:28 |
DateCreated | 2023:01:28 15:18:02.018+02:00 |
DateTimeOriginal | 2023:01:28 15:18:02 |
DefringeGreenAmount | 0 |
DefringeGreenHueHi | 60 |
DefringeGreenHueLo | 40 |
DefringePurpleAmount | 0 |
DefringePurpleHueHi | 70 |
DefringePurpleHueLo | 30 |
Dehaze | 0 |
DistortionCorrectionAlreadyApplied | True |
DOF | 8.12 m (10.85 - 18.96 m) |
Exposure2012 | 0.00 |
ExposureCompensation | 0 |
ExposureMode | Auto |
ExposureProgram | Aperture-priority AE |
ExposureTime | 2.5 |
Firmware | 1.2.1 |
Flash | Off, Did not fire |
FlashCompensation | 0 |
FNumber | 13.0 |
FocalLength | 135.0 mm |
FocalLength35efl | 135.0 mm (35 mm equivalent: 145.2 mm) |
Format | image/jpeg |
FOV | 14.1 deg |
GPSAltitude (1) | 225.9 m |
GPSAltitude | 225.9 m Above Sea Level |
GPSAltitudeRef | Above Sea Level |
GPSDateStamp | 2023:01:28 |
GPSDateTime | 2023:01:28 13:16:01Z |
GPSDOP | 1.8 |
GPSLatitude (1) | 63 deg 25' 4.68" |
GPSLatitude | 63 deg 25' 4.68" N |
GPSLatitudeRef | North |
GPSLongitude (1) | 10 deg 19' 6.71" |
GPSLongitude | 10 deg 19' 6.71" E |
GPSLongitudeRef | East |
GPSMapDatum | WGS-84 |
GPSMeasureMode | 3-Dimensional Measurement |
GPSPosition | 63 deg 25' 4.68" N, 10 deg 19' 6.71" E |
GPSSatellites | 10 |
GPSStatus | Measurement Active |
GPSTimeStamp | 13:16:01 |
GPSVersionID | 2.3.0.0 |
GrainAmount | 0 |
GreenHue | 0 |
GreenSaturation | 0 |
HasCrop | True |
HasSettings | True |
Highlights2012 | 0 |
HueAdjustmentAqua | 0 |
HueAdjustmentBlue | 0 |
HueAdjustmentGreen | 0 |
HueAdjustmentMagenta | 0 |
HueAdjustmentOrange | 0 |
HueAdjustmentPurple | 0 |
HueAdjustmentRed | 0 |
HueAdjustmentYellow | 0 |
HyperfocalDistance | 50.19 m |
ImageHeight | 3358 |
ImageNumber | 0 |
ImageSize | 6715x3358 |
ImageWidth | 6715 |
IncrementalTemperature | +9 |
IncrementalTint | -4 |
ISO | 100 |
LateralChromaticAberrationCorrectionAlreadyApplied | True |
Lens | EF100-400mm f/4.5-5.6L IS II USM |
LensID (1) | 747 |
LensID | Canon EF 100-400mm f/4.5-5.6L IS II USM |
LensInfo | 100-400mm f/? |
LensManualDistortionAmount | 0 |
LensModel | EF100-400mm f/4.5-5.6L IS II USM |
LensProfileEnable | 0 |
LensSerialNumber | 4810003933 |
LightValue | 6.1 |
LuminanceAdjustmentAqua | 0 |
LuminanceAdjustmentBlue | 0 |
LuminanceAdjustmentGreen | 0 |
LuminanceAdjustmentMagenta | 0 |
LuminanceAdjustmentOrange | 0 |
LuminanceAdjustmentPurple | 0 |
LuminanceAdjustmentRed | 0 |
LuminanceAdjustmentYellow | 0 |
LuminanceSmoothing | 0 |
Make | Canon |
MaxApertureValue | 4.8 |
Megapixels | 22.5 |
MeteringMode | Multi-segment |
Model | Canon EOS 5D Mark IV |
ModifyDate (1) | 2023:01:28 21:13:30+01:00 |
ModifyDate | 2023:01:28 21:13:30 |
OverrideLookVignette | False |
ParametricDarks | 0 |
ParametricHighlights | 0 |
ParametricHighlightSplit | 75 |
ParametricLights | 0 |
ParametricMidtoneSplit | 50 |
ParametricShadows | 0 |
ParametricShadowSplit | 25 |
PerspectiveAspect | 0 |
PerspectiveHorizontal | 0 |
PerspectiveRotate | 0.0 |
PerspectiveScale | 100 |
PerspectiveUpright | 0 |
PerspectiveVertical | 0 |
PerspectiveX | 0.00 |
PerspectiveY | 0.00 |
PostCropVignetteAmount | -14 |
PostCropVignetteFeather | 50 |
PostCropVignetteHighlightContrast | 0 |
PostCropVignetteMidpoint | 50 |
PostCropVignetteRoundness | 0 |
PostCropVignetteStyle | 1 |
PreservedFileName | MS3A7507.CR2 |
ProcessVersion | 11.0 |
ProfileDescription | sRGB IEC61966-2.1 |
RawFileName | MS3A7505-Edit.psd |
RecommendedExposureIndex | 100 |
RedHue | 0 |
RedSaturation | 0 |
Rights | Copyright Oeivind Boge 2014. bilde@bogefoto.no |
Saturation | -12 |
SaturationAdjustmentAqua | 0 |
SaturationAdjustmentBlue | 0 |
SaturationAdjustmentGreen | 0 |
SaturationAdjustmentMagenta | 0 |
SaturationAdjustmentOrange | 0 |
SaturationAdjustmentPurple | 0 |
SaturationAdjustmentRed | 0 |
SaturationAdjustmentYellow | 0 |
ScaleFactor35efl | 1.1 |
SceneCaptureType | Standard |
SensitivityType | Recommended Exposure Index |
SerialNumber | 023021008203 |
Shadows2012 | 0 |
ShadowTint | 0 |
Sharpness | 0 |
ShutterSpeed | 2.5 |
ShutterSpeedValue | 2.5 |
Software | Adobe Photoshop Lightroom Classic 12.0.1 (Windows) |
SplitToningBalance | 0 |
SplitToningHighlightHue | 69 |
SplitToningHighlightSaturation | 16 |
SplitToningShadowHue | 246 |
SplitToningShadowSaturation | 13 |
Texture | 0 |
ToneCurveName2012 | Linear |
ToneCurvePV2012 | 0, 0, 255, 255 |
ToneCurvePV2012Blue | 0, 0, 255, 255 |
ToneCurvePV2012Green | 0, 0, 255, 255 |
ToneCurvePV2012Red | 0, 0, 255, 255 |
Transformation | Perspective |
Version | 15.0 |
Vibrance | +12 |
VignetteAmount | 0 |
VignetteCorrectionAlreadyApplied | True |
VirtualFocalLength | 3.926385 |
VirtualImageXCenter | 0.500223 |
VirtualImageYCenter | 0.281124 |
WhiteBalance (1) | Custom |
WhiteBalance | Auto |
Whites2012 | 0 |