Felt | Verdi |
AlreadyApplied | True |
Aperture | 1.5 |
ApertureValue | 1.5 |
AutoLateralCA | 0 |
BitsPerSample | 8 |
Blacks2012 | -47 |
BlueHue | 0 |
BlueSaturation | 0 |
BrightnessValue | 7.775704613 |
CameraProfile | Embedded |
CircleOfConfusion | 0.007 mm |
Clarity2012 | 0 |
ColorComponents | 3 |
ColorGradeBlending | 50 |
ColorGradeGlobalHue | 0 |
ColorGradeGlobalLum | 0 |
ColorGradeGlobalSat | 0 |
ColorGradeHighlightLum | 0 |
ColorGradeMidtoneHue | 0 |
ColorGradeMidtoneLum | 0 |
ColorGradeMidtoneSat | 0 |
ColorGradeShadowLum | 0 |
ColorNoiseReduction | 0 |
ColorSpace | sRGB |
ColorTransform | YCbCr |
Contrast2012 | +10 |
ConvertToGrayscale | False |
CreateDate | 2023:08:19 21:23:12 |
CreatorTool | Adobe Bridge 2023 |
DateCreated (1) | 2023:08:19 21:23:12 |
DateCreated | 2023:08:19 |
DateTimeOriginal | 2023:08:19 21:23:12 |
DefringeGreenAmount | 0 |
DefringeGreenHueHi | 60 |
DefringeGreenHueLo | 40 |
DefringePurpleAmount | 0 |
DefringePurpleHueHi | 70 |
DefringePurpleHueLo | 30 |
Dehaze | 0 |
ExifImageHeight | 2033 |
ExifImageWidth | 3531 |
Exposure2012 | -0.40 |
ExposureCompensation | 0 |
ExposureMode | Auto |
ExposureProgram | Program AE |
ExposureTime | 1/850 |
Flash | Off, Did not fire |
FNumber | 1.5 |
FocalLength | 5.7 mm |
FocalLength35efl | 5.7 mm (35 mm equivalent: 26.0 mm) |
FocalLengthIn35mmFormat | 26 mm |
Format | image/jpeg |
FOV | 69.4 deg |
GPSAltitude (1) | 12.58649071 m |
GPSAltitude | 12.5 m Above Sea Level |
GPSAltitudeRef | Above Sea Level |
GPSDestBearing | 301.5027008 |
GPSDestBearingRef | Magnetic North |
GPSHPositioningError | 4.655049993 m |
GPSImgDirection | 301.5027008 |
GPSImgDirectionRef | Magnetic North |
GPSLatitude (1) | 63 deg 31' 8.68" |
GPSLatitude | 63 deg 31' 8.68" N |
GPSLatitudeRef | North |
GPSLongitude (1) | 7 deg 57' 3.13" |
GPSLongitude | 7 deg 57' 3.13" E |
GPSLongitudeRef | East |
GPSPosition | 63 deg 31' 8.68" N, 7 deg 57' 3.13" E |
GPSSpeed | 0 |
GPSSpeedRef | km/h |
GrainAmount | 0 |
GreenHue | 0 |
GreenSaturation | 0 |
HasCrop | False |
HasSettings | True |
Highlights2012 | -1 |
HueAdjustmentAqua | 0 |
HueAdjustmentBlue | 0 |
HueAdjustmentGreen | 0 |
HueAdjustmentMagenta | 0 |
HueAdjustmentOrange | 0 |
HueAdjustmentPurple | 0 |
HueAdjustmentRed | 0 |
HueAdjustmentYellow | 0 |
HyperfocalDistance | 3.29 m |
ImageHeight | 2033 |
ImageSize | 3531x2033 |
ImageWidth | 3531 |
IncrementalTemperature | 0 |
IncrementalTint | 0 |
ISO | 50 |
Lens | iPhone 13 Pro Max back triple camera 5.7mm f/1.5 |
LensInfo (1) | 1.57000005246397-9mm f/1.5-2.8 |
LensInfo | 1.570000052-9mm f/1.5-2.8 |
LensMake | Apple |
LensManualDistortionAmount | 0 |
LensModel | iPhone 13 Pro Max back triple camera 5.7mm f/1.5 |
LensProfileEnable | 0 |
LightValue | 11.9 |
LuminanceAdjustmentAqua | 0 |
LuminanceAdjustmentBlue | 0 |
LuminanceAdjustmentGreen | 0 |
LuminanceAdjustmentMagenta | 0 |
LuminanceAdjustmentOrange | 0 |
LuminanceAdjustmentPurple | 0 |
LuminanceAdjustmentRed | 0 |
LuminanceAdjustmentYellow | 0 |
LuminanceSmoothing | 0 |
Make | Apple |
Megapixels | 7.2 |
MeteringMode | Multi-segment |
Model | iPhone 13 Pro Max |
ModifyDate (1) | 2023:11:24 22:49:55+01:00 |
ModifyDate | 2023:11:24 22:49:55 |
Orientation | Horizontal (normal) |
OverrideLookVignette | False |
ParametricDarks | 0 |
ParametricHighlights | 0 |
ParametricHighlightSplit | 75 |
ParametricLights | 0 |
ParametricMidtoneSplit | 50 |
ParametricShadows | 0 |
ParametricShadowSplit | 25 |
PerspectiveAspect | 0 |
PerspectiveHorizontal | 0 |
PerspectiveRotate | 0.0 |
PerspectiveScale | 100 |
PerspectiveUpright | 0 |
PerspectiveVertical | 0 |
PerspectiveX | 0.00 |
PerspectiveY | 0.00 |
PostCropVignetteAmount | 0 |
ProcessVersion | 15.4 |
ProfileDescription | sRGB IEC61966-2.1 |
Rating | 0 |
RedHue | 0 |
RedSaturation | 0 |
Saturation | 0 |
SaturationAdjustmentAqua | 0 |
SaturationAdjustmentBlue | 0 |
SaturationAdjustmentGreen | 0 |
SaturationAdjustmentMagenta | 0 |
SaturationAdjustmentOrange | 0 |
SaturationAdjustmentPurple | 0 |
SaturationAdjustmentRed | 0 |
SaturationAdjustmentYellow | 0 |
ScaleFactor35efl | 4.6 |
SceneType | Directly photographed |
SensingMethod | One-chip color area |
Shadows2012 | +31 |
ShadowTint | 0 |
Sharpness | 0 |
ShutterSpeed | 1/850 |
ShutterSpeedValue | 1/850 |
Software | Adobe Bridge 2023 |
SplitToningBalance | 0 |
SplitToningHighlightHue | 0 |
SplitToningHighlightSaturation | 0 |
SplitToningShadowHue | 0 |
SplitToningShadowSaturation | 0 |
Texture | 0 |
ToneCurveName2012 | Linear |
ToneCurvePV2012 | 0, 0, 255, 255 |
ToneCurvePV2012Blue | 0, 0, 255, 255 |
ToneCurvePV2012Green | 0, 0, 255, 255 |
ToneCurvePV2012Red | 0, 0, 255, 255 |
Version | 15.5 |
Vibrance | +14 |
VignetteAmount | 0 |
WhiteBalance (1) | As Shot |
WhiteBalance | Auto |
Whites2012 | -5 |