Felt | Verdi |
AlreadyApplied | True |
Aperture | 4.0 |
ApertureValue | 4.0 |
BitsPerSample (1) | 8, 8, 8 |
BitsPerSample (2) | 8 8 8 |
BitsPerSample | 8 |
BlueHue | 0 |
BlueSaturation | 0 |
Brightness | +108 |
CameraProfile | ACR 4.2 |
ChromaticAberrationB | 0 |
ChromaticAberrationR | 0 |
CircleOfConfusion | 0.019 mm |
Clarity | 20 |
ColorComponents | 3 |
ColorMode | RGB |
ColorNoiseReduction | 25 |
ColorSpace (1) | Unknown (-1) |
ColorSpace | Uncalibrated |
ColorTemperature | 2700 |
Contrast | +49 |
ConvertToGrayscale | False |
CopyrightFlag | False |
CreateDate (1) | 2008:01:26 13:57:23+01:00 |
CreateDate | 2007:12:02 19:15:05 |
CreatorTool | Adobe Photoshop CS3 Windows |
CustomRendered | Normal |
DateTimeDigitized | 2007:12:02 19:15:05.01+01:00 |
DateTimeOriginal (1) | 2007:12:02 19:15:05.01+01:00 |
DateTimeOriginal | 2007:12:02 19:15:05 |
Defringe | 0 |
ExifImageHeight | 767 |
ExifImageWidth | 805 |
Exposure | +1.30 |
ExposureCompensation | 0 |
ExposureMode | Manual |
ExposureProgram | Manual |
ExposureTime | 1/50 |
FillLight | 0 |
Firmware | 1.0.3 |
Flash | Off, Did not fire |
FlashCompensation | 0 |
FlashFired | False |
FlashFunction | False |
FlashMode | Off |
FlashRedEyeMode | False |
FlashReturn | No return detection |
FNumber | 4.0 |
FocalLength | 81.0 mm |
FocalLength35efl | 81.0 mm (35 mm equivalent: 131.1 mm) |
Format | image/jpeg |
FOV | 15.6 deg |
GreenHue | 0 |
GreenSaturation | 0 |
HasCrop | False |
HasSettings | True |
HighlightRecovery | 0 |
HueAdjustmentAqua | 0 |
HueAdjustmentBlue | 0 |
HueAdjustmentGreen | 0 |
HueAdjustmentMagenta | 0 |
HueAdjustmentOrange | 0 |
HueAdjustmentPurple | 0 |
HueAdjustmentRed | 0 |
HueAdjustmentYellow | 0 |
HyperfocalDistance | 88.37 m |
ICCProfileName | Monitor_12.12.2007_1 |
ImageHeight (2) | 2520 |
ImageHeight | 767 |
ImageNumber | 0 |
ImageSize | 805x767 |
ImageWidth (2) | 2646 |
ImageWidth | 805 |
ISO | 100 |
Lens | EF70-200mm f/4L USM |
LensInfo | 70-200mm f/? |
LightValue | 9.6 |
LuminanceAdjustmentAqua | 0 |
LuminanceAdjustmentBlue | 0 |
LuminanceAdjustmentGreen | 0 |
LuminanceAdjustmentMagenta | 0 |
LuminanceAdjustmentOrange | 0 |
LuminanceAdjustmentPurple | 0 |
LuminanceAdjustmentRed | 0 |
LuminanceAdjustmentYellow | 0 |
LuminanceSmoothing | 0 |
Make | Canon |
MaxApertureValue | 4.0 |
Megapixels | 0.617 |
MeteringMode | Center-weighted average |
Model | Canon EOS 40D |
ModifyDate (1) | 2008:01:26 13:57:23+01:00 |
ModifyDate | 2008:01:26 13:57:23 |
Orientation | Horizontal (normal) |
ParametricDarks | 0 |
ParametricHighlights | +2 |
ParametricHighlightSplit | 75 |
ParametricLights | +1 |
ParametricMidtoneSplit | 50 |
ParametricShadows | 0 |
ParametricShadowSplit | 25 |
PhotometricInterpretation | RGB |
PlanarConfiguration | Chunky |
ProfileDescription | Monitor_12.12.2007_1 |
Rating | 0 |
RawFileName | _MG_8411.CR2 |
RedHue | 0 |
RedSaturation | 0 |
SamplesPerPixel | 3 |
Saturation | 0 |
SaturationAdjustmentAqua | 0 |
SaturationAdjustmentBlue | 0 |
SaturationAdjustmentGreen | 0 |
SaturationAdjustmentMagenta | 0 |
SaturationAdjustmentOrange | 0 |
SaturationAdjustmentPurple | 0 |
SaturationAdjustmentRed | 0 |
SaturationAdjustmentYellow | 0 |
ScaleFactor35efl | 1.6 |
SceneCaptureType | Standard |
SerialNumber | 530128945 |
Shadows | 9 |
ShadowTint | 0 |
SharpenDetail | 25 |
SharpenEdgeMasking | 0 |
SharpenRadius | +1.0 |
Sharpness | 25 |
ShutterSpeed | 1/50 |
ShutterSpeedValue | 1/50 |
SidecarForExtension | CR2 |
Software | Adobe Photoshop CS3 Windows |
SplitToningBalance | 0 |
SplitToningHighlightHue | 0 |
SplitToningHighlightSaturation | 0 |
SplitToningShadowHue | 0 |
SplitToningShadowSaturation | 0 |
Tint | -5 |
ToneCurve | 0, 0, 32, 22, 64, 56, 128, 128, 192, 196, 255, 255 |
ToneCurveName | Medium Contrast |
URL_List | |
Version | 4.2 |
Vibrance | +36 |
VignetteAmount | 0 |
WhiteBalance (2) | Custom |
WhiteBalance | Manual |