Felt | Verdi |
AlreadyApplied | True |
Aperture | 2.8 |
ApertureValue | 2.8 |
Artist | Eric Fagerheim |
BitsPerSample | 8 |
BlueHue | +11 |
BlueSaturation | -70 |
Brightness | +7 |
By-line | Eric Fagerheim |
CameraProfile | ACR 2.4 |
Caption-Abstract | emfphoto |
CFAPattern | [Blue,Green][Green,Red] |
ChromaticAberrationB | 0 |
ChromaticAberrationR | 0 |
CircleOfConfusion | 0.020 mm |
Clarity | 0 |
ColorComponents | 3 |
ColorMode | RGB |
ColorNoiseReduction | 25 |
ColorSpace | sRGB |
ColorTemperature | 12500 |
Contrast (2) | +25 |
Contrast | Normal |
ConvertToGrayscale | False |
Copyright | Eric Fagerheim |
CopyrightFlag | True |
CopyrightNotice | Eric Fagerheim |
CreateDate (1) | 2008:07:16 22:28:06+02:00 |
CreateDate | 2008:07:12 20:27:31 |
Creator | Eric Fagerheim |
CreatorCity | Melhus |
CreatorCountry | Norway |
CreatorPostalCode | 7232 |
CreatorTool | Adobe Photoshop CS3 Windows |
CreatorWorkEmail | mail@emfphoto.no |
CreatorWorkURL | www.emfphoto.no |
CustomRendered | Normal |
DateTimeDigitized | 2008:07:12 20:27:31+02:00 |
DateTimeOriginal (1) | 2008:07:12 20:27:31+02:00 |
DateTimeOriginal | 2008:07:12 20:27:31 |
Defringe | 0 |
DerivedFrom | |
Description | emfphoto |
ExifImageHeight | 532 |
ExifImageWidth | 800 |
Exposure | -2.00 |
ExposureCompensation | +3/2 |
ExposureMode | Manual |
ExposureProgram | Shutter speed priority AE |
ExposureTime | 1/250 |
FillLight | 0 |
Flash | Off, Did not fire |
FlashFired | False |
FlashFunction | False |
FlashMode | Off |
FlashRedEyeMode | False |
FlashReturn | No return detection |
FNumber | 2.8 |
FocalLength | 135.0 mm |
FocalLength35efl | 135.0 mm (35 mm equivalent: 202.0 mm) |
FocalLengthIn35mmFormat | 202 mm |
Format | image/jpeg |
FOV | 10.2 deg |
GreenHue | +11 |
GreenSaturation | +25 |
HasCrop | False |
HasSettings | True |
HierarchicalSubject | bryllup, bryllupsfotograf, choco boco, fashion, fotofashion, fotograf, konfirmasjon, lundamo, modell, stil, style, tfp, trondheim |
HighlightRecovery | 100 |
HueAdjustmentAqua | 0 |
HueAdjustmentBlue | 0 |
HueAdjustmentGreen | 0 |
HueAdjustmentMagenta | 0 |
HueAdjustmentOrange | 0 |
HueAdjustmentPurple | 0 |
HueAdjustmentRed | 0 |
HueAdjustmentYellow | 0 |
HyperfocalDistance | 324.14 m |
ICCProfileName | sRGB IEC61966-2.1 |
ImageDescription | emfphoto |
ImageHeight (1) | 3104 |
ImageHeight | 532 |
ImageSize | 800x532 |
ImageWidth (1) | 4672 |
ImageWidth | 800 |
ISO | 400 |
Keywords | bryllup, bryllupsfotograf, choco boco, fashion, fotofashion, fotograf, konfirmasjon, lundamo, modell, stil, style, tfp, trondheim |
Label | emfphoto |
Lens | smc PENTAX-DA* 50-135mm F2.8 ED [IF] SDM |
LensID (1) | 8 241 |
LensID | smc PENTAX-DA* 50-135mm F2.8 ED [IF] SDM |
LensInfo | 50-135mm f/2.8 |
LightValue | 8.9 |
LuminanceAdjustmentAqua | 0 |
LuminanceAdjustmentBlue | 0 |
LuminanceAdjustmentGreen | 0 |
LuminanceAdjustmentMagenta | 0 |
LuminanceAdjustmentOrange | 0 |
LuminanceAdjustmentPurple | 0 |
LuminanceAdjustmentRed | 0 |
LuminanceAdjustmentYellow | 0 |
LuminanceSmoothing | 0 |
Make | PENTAX |
Marked | True |
Megapixels | 0.426 |
MeteringMode | Center-weighted average |
Model | PENTAX K20D |
ModifyDate (1) | 2008:07:16 22:28:06+02:00 |
ModifyDate | 2008:07:16 22:28:06 |
Orientation | Horizontal (normal) |
ParametricDarks | -3 |
ParametricHighlights | 0 |
ParametricHighlightSplit | 75 |
ParametricLights | 0 |
ParametricMidtoneSplit | 50 |
ParametricShadows | -14 |
ParametricShadowSplit | 25 |
ProfileDescription | sRGB IEC61966-2.1 |
RedHue | +96 |
RedSaturation | +3 |
Rights | Eric Fagerheim |
Saturation (2) | -71 |
Saturation | High |
SaturationAdjustmentAqua | 0 |
SaturationAdjustmentBlue | 0 |
SaturationAdjustmentGreen | 0 |
SaturationAdjustmentMagenta | 0 |
SaturationAdjustmentOrange | 0 |
SaturationAdjustmentPurple | 0 |
SaturationAdjustmentRed | 0 |
SaturationAdjustmentYellow | 0 |
ScaleFactor35efl | 1.5 |
SceneCaptureType | Standard |
SensingMethod | One-chip color area |
Shadows | 63 |
ShadowTint | +8 |
SharpenDetail | 25 |
SharpenEdgeMasking | 0 |
SharpenRadius | +1.0 |
Sharpness (2) | 25 |
Sharpness | Normal |
ShutterSpeed | 1/250 |
ShutterSpeedValue | 1/250 |
Software | Adobe Photoshop CS3 Windows |
SplitToningBalance | 0 |
SplitToningHighlightHue | 0 |
SplitToningHighlightSaturation | 0 |
SplitToningShadowHue | 0 |
SplitToningShadowSaturation | 0 |
Subject | bryllup, bryllupsfotograf, choco boco, fashion, fotofashion, fotograf, konfirmasjon, lundamo, modell, stil, style, tfp, trondheim |
SubjectDistanceRange | Distant |
Tint | +35 |
ToneCurve | 0, 0, 255, 255 |
ToneCurveName | Linear |
URL | www.emfphoto.no |
URL_List | |
Version | 4.4.1 |
Vibrance | 0 |
VignetteAmount | -61 |
VignetteMidpoint | 34 |
WebStatement | www.emfphoto.no |
WhiteBalance (2) | Custom |
WhiteBalance | Auto |