Felt | Verdi |
AlreadyApplied | True |
Aperture | 7.1 |
ApertureValue | 7.1 |
Artist | Heine |
BitsPerSample | 8 |
BlueHue | +60 |
BlueSaturation | +48 |
Brightness | +51 |
By-line | Heine |
CameraProfile | ACR 3.1 |
ChromaticAberrationB | -13 |
ChromaticAberrationR | +11 |
CircleOfConfusion | 0.019 mm |
Clarity | 28 |
ColorComponents | 3 |
ColorMode | RGB |
ColorSpace | sRGB |
ColorTemperature | 2588 |
Contrast | +75 |
ConvertToGrayscale | True |
CopyrightFlag | False |
CreateDate (1) | 2009:01:16 23:25:27+01:00 |
CreateDate | 2008:07:22 12:36:37 |
Creator | Heine |
CreatorTool | Adobe Photoshop CS2 Windows |
CustomRendered | Normal |
DateTimeDigitized | 2008:07:22 12:36:37+02:00 |
DateTimeOriginal (1) | 2008:07:22 12:36:37+02:00 |
DateTimeOriginal | 2008:07:22 12:36:37 |
Defringe | 0 |
ExifImageHeight | 555 |
ExifImageWidth | 820 |
Exposure | +0.52 |
ExposureCompensation | 0 |
ExposureMode | Manual |
ExposureProgram | Manual |
ExposureTime | 1/100 |
FillLight | 0 |
Firmware | 1.0.1 |
Flash | On, Fired |
FlashCompensation | 0 |
FlashFired | True |
FlashFunction | False |
FlashMode | On |
FlashRedEyeMode | False |
FlashReturn | No return detection |
FNumber | 7.1 |
FocalLength | 19.0 mm |
FocalLength35efl | 19.0 mm (35 mm equivalent: 30.8 mm) |
Format | image/jpeg |
FOV | 60.6 deg |
GrayMixerAqua | -51 |
GrayMixerBlue | -20 |
GrayMixerGreen | -20 |
GrayMixerMagenta | +4 |
GrayMixerOrange | +15 |
GrayMixerPurple | -8 |
GrayMixerRed | -51 |
GrayMixerYellow | +98 |
GreenHue | +15 |
GreenSaturation | +34 |
HasCrop | False |
HasSettings | True |
HighlightRecovery | 31 |
HyperfocalDistance | 2.75 m |
ICCProfileName | sRGB IEC61966-2.1 |
ImageHeight (1) | 2304 |
ImageHeight | 555 |
ImageNumber | 207 |
ImageSize | 820x555 |
ImageWidth (1) | 3456 |
ImageWidth | 820 |
ISO | 100 |
Lens | 12.0-24.0 mm |
LensInfo | 12-24mm f/? |
LightValue | 12.3 |
LuminanceSmoothing | 65 |
Make | Canon |
MaxApertureValue | 4.0 |
Megapixels | 0.455 |
MeteringMode | Multi-segment |
Model | Canon EOS 350D DIGITAL |
ModifyDate (1) | 2009:02:02 11:13:23+01:00 |
ModifyDate | 2009:02:02 11:13:23 |
Orientation | Horizontal (normal) |
OwnerName | Heine |
ParametricDarks | -1 |
ParametricHighlights | -72 |
ParametricHighlightSplit | 75 |
ParametricLights | -15 |
ParametricMidtoneSplit | 50 |
ParametricShadows | -34 |
ParametricShadowSplit | 25 |
ProfileDescription | sRGB IEC61966-2.1 |
RedHue | +20 |
RedSaturation | -51 |
ScaleFactor35efl | 1.6 |
SceneCaptureType | Standard |
SerialNumber | 530431202 |
Shadows | 5 |
ShadowTint | +1 |
SharpenDetail | 39 |
SharpenEdgeMasking | 11 |
SharpenRadius | +1.1 |
Sharpness | 104 |
ShutterSpeed | 1/100 |
ShutterSpeedValue | 1/100 |
Software | Adobe Photoshop CS2 Windows |
SplitToningBalance | 0 |
SplitToningHighlightHue | 38 |
SplitToningHighlightSaturation | 0 |
SplitToningShadowHue | 212 |
SplitToningShadowSaturation | 0 |
TimeZoneOffset | 2 1 |
Tint | -55 |
ToneCurve | 0, 0, 32, 22, 64, 56, 128, 128, 192, 196, 255, 255 |
ToneCurveName | Medium Contrast |
URL_List | |
Version | 1.0 |
VignetteAmount | +11 |
VignetteMidpoint | 65 |
WhiteBalance (2) | Custom |
WhiteBalance | Manual |