Felt | Verdi |
AlreadyApplied | True |
Aperture | 19.0 |
ApertureValue | 19.0 |
BitsPerSample | 8 |
BlueHue | 0 |
BlueSaturation | 0 |
Brightness | +109 |
CameraProfile | Adobe Standard |
ChromaticAberrationB | 0 |
ChromaticAberrationR | 0 |
CircleOfConfusion | 0.031 mm |
Clarity | +18 |
ColorComponents | 3 |
ColorMode | RGB |
ColorNoiseReduction | 17 |
ColorSpace | sRGB |
ColorTemperature | 4800 |
Contrast | +9 |
ConvertToGrayscale | False |
CreateDate (1) | 2009:04:18 10:18:01.94+02:00 |
CreateDate | 2009:04:18 10:18:01 |
CustomRendered | Normal |
DateTimeDigitized | 2009:04:18 10:18:01.94+02:00 |
DateTimeOriginal (1) | 2009:04:18 10:18:01.94+02:00 |
DateTimeOriginal | 2009:04:18 10:18:01 |
Defringe | 0 |
ExifImageHeight | 633 |
ExifImageWidth | 950 |
Exposure | -2.05 |
ExposureCompensation | 0 |
ExposureMode | Manual |
ExposureProgram | Manual |
ExposureTime | 1/180 |
FillLight | 1 |
Firmware | 1.0.6 |
Flash | Off, Did not fire |
FlashCompensation | 0 |
FlashFired | False |
FlashFunction | False |
FlashMode | Off |
FlashRedEyeMode | False |
FlashReturn | No return detection |
FNumber | 19.0 |
FocalLength | 105.0 mm |
FocalLength35efl | 105.0 mm (35 mm equivalent: 102.5 mm) |
Format | image/jpeg |
FOV | 19.9 deg |
GreenHue | 0 |
GreenSaturation | 0 |
HasCrop | False |
HasSettings | True |
HighlightRecovery | 0 |
HueAdjustmentAqua | 0 |
HueAdjustmentBlue | 0 |
HueAdjustmentGreen | 0 |
HueAdjustmentMagenta | 0 |
HueAdjustmentOrange | 0 |
HueAdjustmentPurple | 0 |
HueAdjustmentRed | 0 |
HueAdjustmentYellow | 0 |
HyperfocalDistance | 18.85 m |
ICCProfileName | sRGB IEC61966-2.1 |
ImageHeight | 633 |
ImageNumber | 0 |
ImageSize | 950x633 |
ImageWidth | 950 |
ISO | 640 |
Lens | EF24-105mm f/4L IS USM |
LensInfo | 24-105mm f/? |
LightValue | 13.3 |
LuminanceAdjustmentAqua | 0 |
LuminanceAdjustmentBlue | 0 |
LuminanceAdjustmentGreen | 0 |
LuminanceAdjustmentMagenta | 0 |
LuminanceAdjustmentOrange | 0 |
LuminanceAdjustmentPurple | 0 |
LuminanceAdjustmentRed | 0 |
LuminanceAdjustmentYellow | 0 |
LuminanceSmoothing | 14 |
Make | Canon |
MaxApertureValue | 4.0 |
Megapixels | 0.601 |
MeteringMode | Multi-segment |
Model | Canon EOS 5D Mark II |
ModifyDate (1) | 2009:04:19 22:25:24+02:00 |
ModifyDate | 2009:04:19 22:25:24 |
Orientation | Horizontal (normal) |
ParametricDarks | 0 |
ParametricHighlights | 0 |
ParametricHighlightSplit | 75 |
ParametricLights | 0 |
ParametricMidtoneSplit | 50 |
ParametricShadows | 0 |
ParametricShadowSplit | 25 |
PostCropVignetteAmount | 0 |
ProfileDescription | sRGB IEC61966-2.1 |
Rating | 0 |
RawFileName | IMG_4142.CR2 |
RedHue | 0 |
RedSaturation | 0 |
Saturation | +22 |
SaturationAdjustmentAqua | 0 |
SaturationAdjustmentBlue | 0 |
SaturationAdjustmentGreen | 0 |
SaturationAdjustmentMagenta | 0 |
SaturationAdjustmentOrange | 0 |
SaturationAdjustmentPurple | 0 |
SaturationAdjustmentRed | 0 |
SaturationAdjustmentYellow | 0 |
ScaleFactor35efl | 1.0 |
SceneCaptureType | Standard |
SerialNumber | 130100766 |
Shadows | 2 |
ShadowTint | 0 |
SharpenDetail | 25 |
SharpenEdgeMasking | 0 |
SharpenRadius | +1.0 |
Sharpness | 25 |
ShutterSpeed | 1/180 |
ShutterSpeedValue | 1/180 |
SidecarForExtension | CR2 |
Software | Adobe Photoshop CS4 Windows |
SplitToningBalance | 0 |
SplitToningHighlightHue | 0 |
SplitToningHighlightSaturation | 0 |
SplitToningShadowHue | 0 |
SplitToningShadowSaturation | 0 |
Tint | -5 |
ToneCurve | 0, 0, 39, 32, 85, 118, 165, 218, 214, 247, 255, 255 |
ToneCurveName | Custom |
URL_List | |
Version | 5.3 |
Vibrance | +29 |
VignetteAmount | +9 |
VignetteMidpoint | 50 |
WhiteBalance (2) | Custom |
WhiteBalance | Auto |