Felt | Verdi |
AlreadyApplied | True |
Aperture | 6.3 |
ApertureValue | 6.3 |
Artist | Per Tallaksen |
BitsPerSample (1) | 8, 8, 8 |
BitsPerSample | 8 |
BlueHue | 0 |
BlueSaturation | 0 |
Brightness | +64 |
By-line | Per Tallaksen |
CameraProfile | Adobe Standard |
ChromaticAberrationB | 0 |
ChromaticAberrationR | 0 |
CircleOfConfusion | 0.019 mm |
Clarity | 0 |
ColorComponents | 3 |
ColorMode | RGB |
ColorNoiseReduction | 25 |
ColorSpace | Uncalibrated |
ColorTemperature | 4217 |
Contrast | +41 |
ConvertToGrayscale | False |
CreateDate (1) | 2009:07:17 15:15:28.00+02:00 |
CreateDate | 2009:07:17 15:15:28 |
Creator | Per Tallaksen |
CropAngle | 0 |
CropBottom | 1 |
CropLeft | 0 |
CropRight | 1 |
CropTop | 0 |
CustomRendered | Normal |
DateTimeDigitized | 2009:07:17 15:15:28.00+02:00 |
DateTimeOriginal (1) | 2009:07:17 15:15:28.00+02:00 |
DateTimeOriginal | 2009:07:17 15:15:28 |
Defringe | 0 |
ExifImageHeight | 1100 |
ExifImageWidth | 858 |
Exposure | +0.09 |
ExposureCompensation | 0 |
ExposureMode | Auto |
ExposureProgram | Aperture-priority AE |
ExposureTime | 1/400 |
FillLight | 100 |
Firmware | 1.0.8 |
Flash | Off, Did not fire |
FlashCompensation | 0 |
FlashFired | False |
FlashFunction | False |
FlashMode | Off |
FlashRedEyeMode | False |
FlashReturn | No return detection |
FNumber | 6.3 |
FocalLength | 29.0 mm |
FocalLength35efl | 29.0 mm (35 mm equivalent: 46.9 mm) |
Format | image/jpeg |
FOV | 42.0 deg |
GreenHue | 0 |
GreenSaturation | 0 |
HasCrop | True |
HasSettings | True |
HighlightRecovery | 100 |
HueAdjustmentAqua | 0 |
HueAdjustmentBlue | 0 |
HueAdjustmentGreen | -51 |
HueAdjustmentMagenta | 0 |
HueAdjustmentOrange | -26 |
HueAdjustmentPurple | 0 |
HueAdjustmentRed | -22 |
HueAdjustmentYellow | -10 |
HyperfocalDistance | 7.19 m |
ICCProfileName | Adobe RGB (1998) |
ImageHeight (1) | 3515 |
ImageHeight | 1100 |
ImageNumber | 0 |
ImageSize | 858x1100 |
ImageWidth (1) | 2592 |
ImageWidth | 858 |
ISO | 250 |
Lens | EF16-35mm f/2.8L II USM |
LensInfo | 16-35mm f/? |
LightValue | 12.6 |
LuminanceAdjustmentAqua | 0 |
LuminanceAdjustmentBlue | +18 |
LuminanceAdjustmentGreen | 0 |
LuminanceAdjustmentMagenta | 0 |
LuminanceAdjustmentOrange | +38 |
LuminanceAdjustmentPurple | 0 |
LuminanceAdjustmentRed | +38 |
LuminanceAdjustmentYellow | +23 |
LuminanceSmoothing | 0 |
Make | Canon |
MaxApertureValue | 2.8 |
Megapixels | 0.944 |
MeteringMode | Multi-segment |
Model | Canon EOS 40D |
ModifyDate (1) | 2009:08:04 22:36:40+02:00 |
ModifyDate | 2009:08:04 22:36:40 |
Orientation | Horizontal (normal) |
OwnerName | Per Tallaksen |
ParametricDarks | 0 |
ParametricHighlights | 0 |
ParametricHighlightSplit | 75 |
ParametricLights | 0 |
ParametricMidtoneSplit | 50 |
ParametricShadows | 0 |
ParametricShadowSplit | 25 |
PhotometricInterpretation | RGB |
PlanarConfiguration | Chunky |
PostCropVignetteAmount | 0 |
ProfileDescription | Adobe RGB (1998) |
Rating | 1 |
RawFileName | _MG_5732.CR2 |
RedHue | 0 |
RedSaturation | 0 |
SamplesPerPixel | 3 |
Saturation | 0 |
SaturationAdjustmentAqua | 0 |
SaturationAdjustmentBlue | -42 |
SaturationAdjustmentGreen | -88 |
SaturationAdjustmentMagenta | 0 |
SaturationAdjustmentOrange | +34 |
SaturationAdjustmentPurple | 0 |
SaturationAdjustmentRed | +35 |
SaturationAdjustmentYellow | +38 |
ScaleFactor35efl | 1.6 |
SceneCaptureType | Standard |
SerialNumber | 630332826 |
Shadows | 48 |
ShadowTint | 0 |
SharpenDetail | 25 |
SharpenEdgeMasking | 0 |
SharpenRadius | +1.0 |
Sharpness | 25 |
ShutterSpeed | 1/400 |
ShutterSpeedValue | 1/400 |
Software | Adobe Photoshop CS4 Windows |
SplitToningBalance | 0 |
SplitToningHighlightHue | 0 |
SplitToningHighlightSaturation | 0 |
SplitToningShadowHue | 236 |
SplitToningShadowSaturation | 0 |
Tint | -1 |
ToneCurve | 0, 0, 32, 22, 64, 56, 128, 128, 192, 196, 255, 255 |
ToneCurveName | Medium Contrast |
URL_List | |
Version | 5.4 |
Vibrance | 0 |
VignetteAmount | 0 |
WhiteBalance (2) | Custom |
WhiteBalance | Auto |