Felt | Verdi |
AlreadyApplied | True |
Aperture | 8.0 |
ApertureValue | 8.0 |
Artist | Eric Fagerheim |
BitsPerSample | 8 |
BlueHue | 0 |
BlueSaturation | 0 |
Brightness | +32 |
By-line | Eric Fagerheim |
CameraProfile | Embedded |
ChromaticAberrationB | 0 |
ChromaticAberrationR | 0 |
CircleOfConfusion | 0.020 mm |
Clarity | 0 |
ColorComponents | 3 |
ColorNoiseReduction | 0 |
ColorSpace | sRGB |
Contrast (2) | +25 |
Contrast | Normal |
ConvertToGrayscale | True |
Copyright | Eric Fagerheim |
CopyrightFlag | True |
CopyrightNotice | Eric Fagerheim |
CreateDate (1) | 2009:08:17 21:20:15+02:00 |
CreateDate | 2009:08:17 21:20:15 |
Creator | Eric Fagerheim |
CreatorAddress | Gjørtlervegen 1a |
CreatorCountry | Norway |
CreatorPostalCode | 7021 Trondheim |
CreatorTool | Adobe Photoshop Lightroom |
CreatorWorkEmail | mail@fotofashion.no |
CreatorWorkTelephone | +4792440401 |
CreatorWorkURL | www.fotofashion.no |
CropAngle | -0.357455 |
CropBottom | 0.990697 |
CropHeight | 549 |
CropLeft | 0.034021 |
CropRight | 0.997402 |
CropTop | 0.009008 |
CropUnit | pixels |
CropWidth | 800 |
CustomRendered | Normal |
DateTimeDigitized | 2009:08:17 21:20:15+02:00 |
DateTimeOriginal (1) | 2009:08:17 21:20:15+02:00 |
DateTimeOriginal | 2009:08:17 21:20:15 |
Defringe | 0 |
ExifImageHeight | 549 |
ExifImageWidth | 800 |
Exposure | -1.43 |
ExposureCompensation | 0 |
ExposureMode | Manual |
ExposureProgram | Manual |
ExposureTime | 1/30 |
FillLight | 0 |
Flash | Off, Did not fire |
FlashFired | False |
FlashFunction | False |
FlashMode | Off |
FlashRedEyeMode | False |
FlashReturn | No return detection |
FNumber | 8.0 |
FocalLength | 63.0 mm |
FocalLength35efl | 63.0 mm (35 mm equivalent: 94.0 mm) |
FocalLengthIn35mmFormat | 94 mm |
Format | application/vnd.adobe.photoshop |
FOV | 21.7 deg |
GrayMixerAqua | +17 |
GrayMixerBlue | -40 |
GrayMixerGreen | +17 |
GrayMixerMagenta | +67 |
GrayMixerOrange | +40 |
GrayMixerPurple | +14 |
GrayMixerRed | +57 |
GrayMixerYellow | +55 |
GreenHue | 0 |
GreenSaturation | 0 |
HasCrop | True |
HasSettings | True |
HierarchicalSubject | Huyen Luu, barn, brud, bryllup, bryllupsfotograf, familie, familiefotograf, fotofashion, fotograf, fotograf trondheim, portrett, studio, trondheim |
HighlightRecovery | 0 |
HyperfocalDistance | 24.64 m |
ImageHeight | 549 |
ImageSize | 800x549 |
ImageWidth | 800 |
IncrementalTemperature | +8 |
IncrementalTint | -16 |
ISO | 100 |
Keywords | Huyen Luu, barn, brud, bryllup, bryllupsfotograf, familie, familiefotograf, fotofashion, fotograf, fotograf trondheim, portrett, studio, trondheim |
Label | www.fotofashion.no |
Lens | smc PENTAX-DA* 50-135mm F2.8 ED [IF] SDM |
LensID (1) | 8 241 |
LensID | smc PENTAX-DA* 50-135mm F2.8 ED [IF] SDM |
LensInfo | 50-135mm f/2.8 |
LightValue | 10.9 |
LuminanceSmoothing | 0 |
Make | PENTAX |
Marked | True |
Megapixels | 0.439 |
MeteringMode | Multi-segment |
Model | PENTAX K20D |
ModifyDate (1) | 2009:08:18 20:31:51+02:00 |
ModifyDate | 2009:08:18 20:31:51 |
ParametricDarks | -17 |
ParametricHighlights | 0 |
ParametricHighlightSplit | 75 |
ParametricLights | +10 |
ParametricMidtoneSplit | 50 |
ParametricShadows | 0 |
ParametricShadowSplit | 25 |
PostCropVignetteAmount | 0 |
ProfileDescription | sRGB IEC61966-2.1 |
Rating | 1 |
RedHue | 0 |
RedSaturation | 0 |
Rights | Eric Fagerheim |
Saturation | Normal |
ScaleFactor35efl | 1.5 |
SceneCaptureType | Standard |
SensingMethod | One-chip color area |
Shadows | 0 |
ShadowTint | 0 |
SharpenDetail | 25 |
SharpenEdgeMasking | 0 |
SharpenRadius | +1.0 |
Sharpness (2) | 25 |
Sharpness | Hard |
ShutterSpeed | 1/30 |
ShutterSpeedValue | 1/30 |
Software | Adobe Photoshop CS3 Windows |
SplitToningBalance | 0 |
SplitToningHighlightHue | 51 |
SplitToningHighlightSaturation | 11 |
SplitToningShadowHue | 37 |
SplitToningShadowSaturation | 7 |
Subject | Huyen Luu, barn, brud, bryllup, bryllupsfotograf, familie, familiefotograf, fotofashion, fotograf, fotograf trondheim, portrett, studio, trondheim |
SubjectDistanceRange | Distant |
ToneCurve | 0, 0, 32, 22, 64, 56, 128, 128, 192, 196, 255, 255 |
ToneCurveName | Medium Contrast |
URL | www.fotofashion.no |
Version | 5.4 |
VignetteAmount | 0 |
WebStatement | www.fotofashion.no |
WhiteBalance (2) | Custom |
WhiteBalance | Auto |