Felt | Verdi |
AlreadyApplied | True |
Aperture | 5.6 |
ApertureValue | 5.6 |
BitsPerSample | 8 |
BlueHue | -4 |
BlueSaturation | -83 |
Brightness | +55 |
CameraProfile | ACR 4.4 |
ChromaticAberrationB | 0 |
ChromaticAberrationR | 0 |
CircleOfConfusion | 0.019 mm |
Clarity | +100 |
ColorComponents | 3 |
ColorMode | RGB |
ColorNoiseReduction | 25 |
ColorSpace | Uncalibrated |
ColorTemperature | 4400 |
Contrast | +89 |
ConvertToGrayscale | False |
CreateDate (1) | 2009:05:19 19:19:35.00+02:00 |
CreateDate | 2009:05:19 19:19:35 |
CropAngle | 0 |
CropBottom | 1 |
CropLeft | 0.108565 |
CropRight | 1 |
CropTop | 0.007233 |
CustomRendered | Normal |
DateTimeDigitized | 2009:05:19 19:19:35.00+02:00 |
DateTimeOriginal (1) | 2009:05:19 19:19:35.00+02:00 |
DateTimeOriginal | 2009:05:19 19:19:35 |
Defringe | 0 |
ExifImageHeight | 1024 |
ExifImageWidth | 760 |
Exposure | -0.20 |
ExposureCompensation | 0 |
ExposureMode | Manual |
ExposureProgram | Manual |
ExposureTime | 1/6 |
FillLight | 45 |
Firmware | 1.0.8 |
Flash | Off, Did not fire |
FlashCompensation | 0 |
FlashFired | False |
FlashFunction | False |
FlashMode | Off |
FlashRedEyeMode | False |
FlashReturn | No return detection |
FNumber | 5.6 |
FocalLength | 50.0 mm |
FocalLength35efl | 50.0 mm (35 mm equivalent: 80.9 mm) |
Format | image/jpeg |
FOV | 25.1 deg |
GreenHue | +39 |
GreenSaturation | 0 |
HasCrop | True |
HasSettings | True |
HighlightRecovery | 18 |
HueAdjustmentAqua | -4 |
HueAdjustmentBlue | -6 |
HueAdjustmentGreen | -8 |
HueAdjustmentMagenta | 0 |
HueAdjustmentOrange | 0 |
HueAdjustmentPurple | -8 |
HueAdjustmentRed | 0 |
HueAdjustmentYellow | -2 |
HyperfocalDistance | 24.05 m |
ICCProfileName | Adobe RGB (1998) |
ImageHeight (1) | 3466 |
ImageHeight | 1024 |
ImageNumber | 0 |
ImageSize | 760x1024 |
ImageWidth (1) | 2573 |
ImageWidth | 760 |
ISO | 100 |
Lens | 17-50mm |
LensInfo | 17-50mm f/? |
LightValue | 7.6 |
LuminanceAdjustmentAqua | -1 |
LuminanceAdjustmentBlue | -2 |
LuminanceAdjustmentGreen | +56 |
LuminanceAdjustmentMagenta | -2 |
LuminanceAdjustmentOrange | +1 |
LuminanceAdjustmentPurple | 0 |
LuminanceAdjustmentRed | -1 |
LuminanceAdjustmentYellow | 0 |
LuminanceSmoothing | 0 |
Make | Canon |
MaxApertureValue | 2.8 |
Megapixels | 0.778 |
MeteringMode | Spot |
Model | Canon EOS 40D |
ModifyDate (1) | 2009:10:09 20:23:36+02:00 |
ModifyDate | 2009:10:09 20:23:36 |
Orientation | Horizontal (normal) |
ParametricDarks | 0 |
ParametricHighlights | 0 |
ParametricHighlightSplit | 75 |
ParametricLights | 0 |
ParametricMidtoneSplit | 50 |
ParametricShadows | 0 |
ParametricShadowSplit | 25 |
PostCropVignetteAmount | -19 |
PostCropVignetteFeather | 50 |
PostCropVignetteMidpoint | 100 |
PostCropVignetteRoundness | +71 |
ProfileDescription | Adobe RGB (1998) |
RawFileName | IMG_3255.CR2 |
RedHue | 0 |
RedSaturation | -30 |
Saturation | -52 |
SaturationAdjustmentAqua | -1 |
SaturationAdjustmentBlue | 0 |
SaturationAdjustmentGreen | +10 |
SaturationAdjustmentMagenta | +4 |
SaturationAdjustmentOrange | 0 |
SaturationAdjustmentPurple | +6 |
SaturationAdjustmentRed | 0 |
SaturationAdjustmentYellow | 0 |
ScaleFactor35efl | 1.6 |
SceneCaptureType | Standard |
SerialNumber | 1230735049 |
Shadows | 100 |
ShadowTint | +40 |
SharpenDetail | 25 |
SharpenEdgeMasking | 0 |
SharpenRadius | +1.0 |
Sharpness | 25 |
ShutterSpeed | 1/6 |
ShutterSpeedValue | 1/6 |
Software | Adobe Photoshop CS4 Windows |
SplitToningBalance | 0 |
SplitToningHighlightHue | 0 |
SplitToningHighlightSaturation | 0 |
SplitToningShadowHue | 0 |
SplitToningShadowSaturation | 0 |
Tint | +22 |
ToneCurve | 0, 0, 32, 22, 64, 56, 128, 128, 192, 196, 255, 255 |
ToneCurveName | Medium Contrast |
URL_List | |
Version | 5.0 |
Vibrance | +45 |
VignetteAmount | -53 |
VignetteMidpoint | 45 |
WhiteBalance (2) | Custom |
WhiteBalance | Auto |