Felt | Verdi |
AlreadyApplied | True |
Aperture | 5.6 |
ApertureValue | 5.6 |
Artist | Eric Fagerheim |
AuthorsPosition | photographer |
BitsPerSample | 8 |
BlueHue | -5 |
BlueSaturation | -26 |
Brightness | +29 |
By-line | Eric Fagerheim |
By-lineTitle | photographer |
CameraProfile | Embedded |
Caption-Abstract | Eric Fagerheim |
ChromaticAberrationB | 0 |
ChromaticAberrationR | 0 |
CircleOfConfusion | 0.020 mm |
Clarity | 0 |
ColorComponents | 3 |
ColorNoiseReduction | 25 |
ColorSpace | sRGB |
Contrast (2) | +52 |
Contrast | Normal |
ConvertToGrayscale | False |
Copyright | Eric Fagerheim |
CopyrightFlag | True |
CopyrightNotice | Eric Fagerheim |
CreateDate (1) | 2009:11:15 19:36:46+01:00 |
CreateDate | 2009:11:15 19:36:46 |
Creator | Eric Fagerheim |
CreatorCity | Trondheim |
CreatorCountry | Norway |
CreatorTool | Adobe Photoshop Lightroom |
CreatorWorkTelephone | +92440401 |
CreatorWorkURL | http://www.fotofashon.no |
CustomRendered | Normal |
DateTimeDigitized | 2009:11:15 19:36:46+01:00 |
DateTimeOriginal (1) | 2009:11:15 19:36:46+01:00 |
DateTimeOriginal | 2009:11:15 19:36:46 |
Defringe | 0 |
Description | Eric Fagerheim |
ExifImageHeight | 800 |
ExifImageWidth | 530 |
Exposure | -0.76 |
ExposureCompensation | 0 |
ExposureMode | Manual |
ExposureProgram | Manual |
ExposureTime | 1/180 |
FillLight | 0 |
Flash | Off, Did not fire |
FlashFired | False |
FlashFunction | False |
FlashMode | Off |
FlashRedEyeMode | False |
FlashReturn | No return detection |
FNumber | 5.6 |
FocalLength | 18.0 mm |
FocalLength35efl | 18.0 mm (35 mm equivalent: 27.0 mm) |
FocalLengthIn35mmFormat | 27 mm |
Format | application/vnd.adobe.photoshop |
FOV | 67.4 deg |
GreenHue | +2 |
GreenSaturation | +14 |
HasCrop | False |
HasSettings | True |
HighlightRecovery | 0 |
HueAdjustmentAqua | 0 |
HueAdjustmentBlue | 0 |
HueAdjustmentGreen | 0 |
HueAdjustmentMagenta | 0 |
HueAdjustmentOrange | 0 |
HueAdjustmentPurple | 0 |
HueAdjustmentRed | 0 |
HueAdjustmentYellow | 0 |
HyperfocalDistance | 2.89 m |
ImageDescription | Eric Fagerheim |
ImageHeight | 800 |
ImageSize | 530x800 |
ImageWidth | 530 |
IncrementalTemperature | -2 |
IncrementalTint | -4 |
ISO | 200 |
Keywords | baby, barn, barne fotograf, beauty, bilde, bilder, bridal, brud, bryllup, bryllupsfotograf, eric fagerheim, fashion, flink fotograf, foto, fotofashion, fotograf trondheim, konfirmasjon, lokasjon, meråker, modell, modell fotograf, prortrett, studio, topp fotograf, ute |
Label | fotofashion |
Lens | smc PENTAX-DA* 16-50mm F2.8 ED AL [IF] SDM |
LensID (1) | 8 242 |
LensID | smc PENTAX-DA* 16-50mm F2.8 ED AL [IF] SDM |
LensInfo | 16-50mm f/2.8 |
LightValue | 11.5 |
LuminanceAdjustmentAqua | 0 |
LuminanceAdjustmentBlue | 0 |
LuminanceAdjustmentGreen | 0 |
LuminanceAdjustmentMagenta | 0 |
LuminanceAdjustmentOrange | 0 |
LuminanceAdjustmentPurple | 0 |
LuminanceAdjustmentRed | 0 |
LuminanceAdjustmentYellow | 0 |
LuminanceSmoothing | 0 |
Make | PENTAX |
Marked | True |
Megapixels | 0.424 |
MeteringMode | Multi-segment |
Model | PENTAX K20D |
ModifyDate (1) | 2009:11:16 17:32:46+01:00 |
ModifyDate | 2009:11:16 17:32:46 |
ParametricDarks | -3 |
ParametricHighlights | 0 |
ParametricHighlightSplit | 75 |
ParametricLights | 0 |
ParametricMidtoneSplit | 50 |
ParametricShadows | -14 |
ParametricShadowSplit | 25 |
PostCropVignetteAmount | 0 |
ProfileDescription | sRGB IEC61966-2.1 |
Rating | 1 |
RedHue | +50 |
RedSaturation | -12 |
Rights | Eric Fagerheim |
Saturation (2) | -57 |
Saturation | Normal |
SaturationAdjustmentAqua | 0 |
SaturationAdjustmentBlue | 0 |
SaturationAdjustmentGreen | 0 |
SaturationAdjustmentMagenta | 0 |
SaturationAdjustmentOrange | 0 |
SaturationAdjustmentPurple | 0 |
SaturationAdjustmentRed | 0 |
SaturationAdjustmentYellow | 0 |
ScaleFactor35efl | 1.5 |
SceneCaptureType | Standard |
SensingMethod | One-chip color area |
Shadows | 2 |
ShadowTint | +100 |
SharpenDetail | 50 |
SharpenEdgeMasking | 0 |
SharpenRadius | +1.0 |
Sharpness (2) | 25 |
Sharpness | Hard |
ShutterSpeed | 1/180 |
ShutterSpeedValue | 1/180 |
Software | Adobe Photoshop Lightroom |
SplitToningBalance | 0 |
SplitToningHighlightHue | 226 |
SplitToningHighlightSaturation | 11 |
SplitToningShadowHue | 220 |
SplitToningShadowSaturation | 21 |
Subject | baby, barn, barne fotograf, beauty, bilde, bilder, bridal, brud, bryllup, bryllupsfotograf, eric fagerheim, fashion, flink fotograf, foto, fotofashion, fotograf trondheim, konfirmasjon, lokasjon, meråker, modell, modell fotograf, prortrett, studio, topp fotograf, ute |
SubjectDistanceRange | Close |
ToneCurve | 0, 0, 255, 255 |
ToneCurveName | Linear |
URL | http://www.fotofashion.no |
Version | 5.4 |
Vibrance | 0 |
VignetteAmount | -61 |
VignetteMidpoint | 34 |
WebStatement | http://www.fotofashion.no |
WhiteBalance (2) | Custom |
WhiteBalance | Auto |