Felt | Verdi |
AlreadyApplied | True |
Aperture | 3.5 |
ApertureValue | 3.5 |
BitsPerSample | 8 |
BlueHue | 0 |
BlueSaturation | 0 |
Brightness | 0 |
CameraProfile | Embedded |
CFAPattern | [Red,Green][Green,Blue] |
ChromaticAberrationB | 0 |
ChromaticAberrationR | 0 |
CircleOfConfusion | 0.021 mm |
Clarity | +10 |
ColorComponents | 3 |
ColorNoiseReduction | 0 |
ColorSpace | Uncalibrated |
Contrast (2) | +5 |
Contrast | Normal |
ConvertToGrayscale | False |
CreateDate (1) | 2010:01:11 20:17:53.41+01:00 |
CreateDate | 2010:01:11 20:17:53 |
CreatorTool | Adobe Photoshop Lightroom |
CustomRendered | Normal |
DateTimeDigitized | 2010:01:11 20:17:53.41+01:00 |
DateTimeOriginal (1) | 2010:01:11 20:17:53.41+01:00 |
DateTimeOriginal | 2010:01:11 20:17:53 |
Defringe | 0 |
DigitalZoomRatio | 1 |
DOF | inf (1.67 m - inf) |
ExifImageHeight | 680 |
ExifImageWidth | 1024 |
Exposure | 0.00 |
ExposureCompensation | 0 |
ExposureMode | Manual |
ExposureProgram | Manual |
ExposureTime | 30 |
FillLight | 10 |
Flash | No Flash |
FlashFired | False |
FlashFunction | False |
FlashMode | Unknown |
FlashRedEyeMode | False |
FlashReturn | No return detection |
FNumber | 3.5 |
FocalLength | 11.0 mm |
FocalLength35efl | 11.0 mm (35 mm equivalent: 16.0 mm) |
FocalLengthIn35mmFormat | 16 mm |
Format | image/tiff |
FOV | 96.7 deg |
GainControl | Low gain up |
GradientBasedCorrActive | true |
GradientBasedCorrAmount | 1.000000 |
GradientBasedCorrBrightness | 0.000000 |
GradientBasedCorrClarity | 0.000000 |
GradientBasedCorrContrast | 0.609195 |
GradientBasedCorrExposure | 0.241379 |
GradientBasedCorrHue | 226.000000 |
GradientBasedCorrMaskFullX | 0.899764 |
GradientBasedCorrMaskFullY | 1.019540 |
GradientBasedCorrMaskValue | 1.000000 |
GradientBasedCorrMaskWhat | Mask/Gradient |
GradientBasedCorrMaskZeroX | 0.673897 |
GradientBasedCorrMaskZeroY | 0.151062 |
GradientBasedCorrSaturation (1) | -0.954023 |
GradientBasedCorrSaturation | 0.890000 |
GradientBasedCorrSharpness | 0.000000 |
GradientBasedCorrWhat | Correction |
GreenHue | 0 |
GreenSaturation | 0 |
HasCrop | False |
HasSettings | True |
HighlightRecovery | 0 |
HueAdjustmentAqua | 0 |
HueAdjustmentBlue | 0 |
HueAdjustmentGreen | 0 |
HueAdjustmentMagenta | 0 |
HueAdjustmentOrange | 0 |
HueAdjustmentPurple | 0 |
HueAdjustmentRed | 0 |
HueAdjustmentYellow | 0 |
HyperfocalDistance | 1.67 m |
ImageHeight | 680 |
ImageNumber | 10871 |
ImageSize | 1024x680 |
ImageWidth | 1024 |
IncrementalTemperature | -30 |
IncrementalTint | -25 |
ISO | 800 |
Lens | 10.0-24.0 mm f/3.5-4.5 |
LensID (1) | 161 |
LensID | AF-S DX Nikkor 10-24mm f/3.5-4.5G ED |
LensInfo | 10-24mm f/3.5-4.5 |
LightSource | Unknown |
LightValue | -4.3 |
LuminanceAdjustmentAqua | 0 |
LuminanceAdjustmentBlue | 0 |
LuminanceAdjustmentGreen | 0 |
LuminanceAdjustmentMagenta | 0 |
LuminanceAdjustmentOrange | 0 |
LuminanceAdjustmentPurple | 0 |
LuminanceAdjustmentRed | 0 |
LuminanceAdjustmentYellow | 0 |
LuminanceSmoothing | 64 |
Make | NIKON CORPORATION |
MaxApertureValue | 3.6 |
Megapixels | 0.696 |
MeteringMode | Multi-segment |
Model | NIKON D300 |
ModifyDate (1) | 2010:01:12 18:15:19+01:00 |
ModifyDate | 2010:01:12 18:15:19 |
ParametricDarks | -15 |
ParametricHighlights | 0 |
ParametricHighlightSplit | 75 |
ParametricLights | 0 |
ParametricMidtoneSplit | 50 |
ParametricShadows | -25 |
ParametricShadowSplit | 25 |
PostCropVignetteAmount | 0 |
ProfileDescription | sRGB IEC61966-2.1 |
RedHue | 0 |
RedSaturation | 0 |
Saturation (2) | -25 |
Saturation | Normal |
SaturationAdjustmentAqua | 0 |
SaturationAdjustmentBlue | 0 |
SaturationAdjustmentGreen | 0 |
SaturationAdjustmentMagenta | -58 |
SaturationAdjustmentOrange | -98 |
SaturationAdjustmentPurple | -60 |
SaturationAdjustmentRed | -100 |
SaturationAdjustmentYellow | -96 |
ScaleFactor35efl | 1.5 |
SceneCaptureType | Standard |
SceneType | Directly photographed |
SensingMethod | One-chip color area |
SerialNumber | 4086657 |
Shadows | 4 |
ShadowTint | 0 |
SharpenDetail | 32 |
SharpenEdgeMasking | 26 |
SharpenRadius | +1.0 |
Sharpness (2) | 22 |
Sharpness | Normal |
ShutterSpeed | 30 |
ShutterSpeedValue | 30 |
SidecarForExtension | NEF |
Software | Ver.1.10 |
SplitToningBalance | 0 |
SplitToningHighlightHue | 0 |
SplitToningHighlightSaturation | 0 |
SplitToningShadowHue | 0 |
SplitToningShadowSaturation | 0 |
SubjectDistance | 4294967295 m |
SubjectDistanceRange | Unknown |
ToneCurve | 0, 0, 255, 255 |
ToneCurveName | Linear |
Version | 5.6 |
Vibrance | +42 |
VignetteAmount | 0 |
WhiteBalance (2) | Custom |
WhiteBalance | Auto |