Felt | Verdi |
AlreadyApplied | True |
Aperture | 14.0 |
ApertureValue | 14.0 |
BitsPerSample | 8 |
BlueHue | 0 |
BlueSaturation | 0 |
Brightness | 0 |
CameraProfile | Embedded |
ChromaticAberrationB | 0 |
ChromaticAberrationR | 0 |
CircleOfConfusion | 0.019 mm |
Clarity | 0 |
ColorComponents | 3 |
ColorNoiseReduction | 0 |
ColorSpace | sRGB |
Contrast | +20 |
ConvertToGrayscale | True |
CreateDate (1) | 2010:01:25 23:14:31+01:00 |
CreateDate | 2010:01:25 20:10:32 |
CreatorTool | Adobe Photoshop Lightroom |
CropAngle | -1.79046 |
CropBottom | 0.967652 |
CropHeight | 1000 |
CropLeft | 0 |
CropRight | 1 |
CropTop | 0.032348 |
CropUnit | pixels |
CropWidth | 667 |
CustomRendered | Normal |
DateTimeDigitized | 2010:01:25 20:10:32.00+01:00 |
DateTimeOriginal (1) | 2010:01:25 20:10:32.00+01:00 |
DateTimeOriginal | 2010:01:25 20:10:32 |
Defringe | 0 |
DerivedFrom | |
ExifImageHeight | 1000 |
ExifImageWidth | 667 |
Exposure | 0.00 |
ExposureCompensation | 0 |
ExposureMode | Manual |
ExposureProgram | Manual |
ExposureTime | 1/125 |
FillLight | 34 |
Firmware | 1.0.4 |
Flash | Off, Did not fire |
FlashCompensation | 0 |
FlashFired | False |
FlashFunction | False |
FlashMode | Off |
FlashRedEyeMode | False |
FlashReturn | No return detection |
FNumber | 14.0 |
FocalLength | 121.0 mm |
FocalLength35efl | 121.0 mm (35 mm equivalent: 195.9 mm) |
Format | application/vnd.adobe.photoshop |
FOV | 10.5 deg |
GrayMixerAqua | -19 |
GrayMixerBlue | +8 |
GrayMixerGreen | -25 |
GrayMixerMagenta | +3 |
GrayMixerOrange | +15 |
GrayMixerPurple | +14 |
GrayMixerRed | +8 |
GrayMixerYellow | +10 |
GreenHue | 0 |
GreenSaturation | 0 |
HasCrop | True |
HasSettings | True |
HighlightRecovery | 0 |
HyperfocalDistance | 56.34 m |
ImageHeight | 1000 |
ImageNumber | 0 |
ImageSize | 667x1000 |
ImageWidth | 667 |
IncrementalTemperature | -2 |
IncrementalTint | +10 |
ISO | 100 |
Lens | EF70-200mm f/4L IS USM |
LensInfo | 70-200mm f/? |
LightValue | 14.6 |
LuminanceSmoothing | 0 |
Make | Canon |
MaxApertureValue | 4.0 |
Megapixels | 0.667 |
MeteringMode | Multi-segment |
Model | Canon EOS 40D |
ModifyDate (1) | 2010:01:26 20:11:45+01:00 |
ModifyDate | 2010:01:26 20:11:45 |
PaintCorrectionActive | true |
PaintCorrectionAmount | 1.000000 |
PaintCorrectionBrightness (1) | 0.000000 |
PaintCorrectionBrightness | 0.080460 |
PaintCorrectionClarity (1) | -0.563218 |
PaintCorrectionClarity | -0.793103 |
PaintCorrectionContrast (1) | 0.011494 |
PaintCorrectionContrast | -0.908046 |
PaintCorrectionExposure (1) | 0.149425 |
PaintCorrectionExposure | 0.034483 |
PaintCorrectionHue (1) | 230.000000 |
PaintCorrectionHue | 242.000000 |
PaintCorrectionMaskCenterWeight (1) | 0.101338 |
PaintCorrectionMaskCenterWeight (26) | 0.000000 |
PaintCorrectionMaskCenterWeight | 0.271982 |
PaintCorrectionMaskFlow (21) | 0.988621 |
PaintCorrectionMaskFlow | 1.000000 |
PaintCorrectionMaskRadius (1) | 0.333262 |
PaintCorrectionMaskRadius (18) | 0.344888 |
PaintCorrectionMaskRadius (6) | 0.120002 |
PaintCorrectionMaskRadius | 0.114688 |
PaintCorrectionMaskValue (24) | 0.000000 |
PaintCorrectionMaskValue | 1.000000 |
PaintCorrectionMaskWhat | Mask/Paint |
PaintCorrectionSaturation (3) | -0.931034 |
PaintCorrectionSaturation | 0.000000 |
PaintCorrectionSharpness | 0.000000 |
PaintCorrectionWhat | Correction |
ParametricDarks | 0 |
ParametricHighlights | 0 |
ParametricHighlightSplit | 75 |
ParametricLights | 0 |
ParametricMidtoneSplit | 50 |
ParametricShadows | 0 |
ParametricShadowSplit | 25 |
PostCropVignetteAmount | 0 |
ProfileDescription | sRGB IEC61966-2.1 |
RedHue | 0 |
RedSaturation | 0 |
ScaleFactor35efl | 1.6 |
SceneCaptureType | Standard |
SerialNumber | 630446683 |
Shadows | 0 |
ShadowTint | 0 |
SharpenDetail | 25 |
SharpenEdgeMasking | 0 |
SharpenRadius | +1.0 |
Sharpness | 0 |
ShutterSpeed | 1/125 |
ShutterSpeedValue | 1/125 |
Software | Adobe Photoshop CS3 Macintosh |
SplitToningBalance | 0 |
SplitToningHighlightHue | 60 |
SplitToningHighlightSaturation | 14 |
SplitToningShadowHue | 199 |
SplitToningShadowSaturation | 4 |
ToneCurve | 0, 0, 255, 255 |
ToneCurveName | Linear |
Version | 5.5 |
VignetteAmount | 0 |
WhiteBalance (2) | Custom |
WhiteBalance | Auto |