Felt | Verdi |
AlreadyApplied | True |
Aperture | 10.0 |
ApertureValue | 10.0 |
BitsPerSample | 8 |
BlueHue | 0 |
BlueSaturation | 0 |
Brightness | +69 |
By-line | Thomas Geiner Tellefsen |
CameraProfile | Adobe Standard |
ChromaticAberrationB | 0 |
ChromaticAberrationR | 0 |
Clarity | -52 |
ColorComponents | 3 |
ColorNoiseReduction | 39 |
ColorTemperature | 6300 |
Contrast | +64 |
ConvertToGrayscale | False |
Copyright | Thomas Geiner Tellefsen |
CopyrightFlag | True |
CopyrightNotice | Thomas Geiner Tellefsen |
CreateDate (1) | 2010:04:30 16:22:44+02:00 |
CreateDate | 2010:04:30 16:22:44 |
Creator | Thomas Geiner Tellefsen |
CreatorAddress | Buskerudveien 254 |
CreatorCity | Solbergleva |
CreatorCountry | Norway |
CreatorPostalCode | 3057 |
CreatorRegion | Buskerud |
CreatorTool | Adobe Photoshop Lightroom |
CreatorWorkEmail | thomas@thomis.net |
CreatorWorkURL | www.thomis.net |
CropAngle | -0.886062 |
CropBottom | 0.786256 |
CropHeight | 2027 |
CropLeft | 0.032721 |
CropRight | 0.941439 |
CropTop | 0.129172 |
CropUnit | pixels |
CropWidth | 3604 |
DateTimeDigitized | 2010:04:30 16:22:44+02:00 |
DateTimeOriginal (1) | 2010:04:30 16:22:44+02:00 |
DateTimeOriginal | 2010:04:30 16:22:44 |
Defringe | 0 |
ExifImageHeight | 2027 |
ExifImageWidth | 3604 |
Exposure | -0.10 |
ExposureCompensation | +0.66 |
ExposureProgram | Aperture-priority AE |
ExposureTime | 1/30 |
FillLight | 15 |
Flash | On, Fired |
FlashFired | True |
FlashFunction | False |
FlashMode | On |
FlashRedEyeMode | False |
FlashReturn | No return detection |
FNumber | 10.0 |
FocalLength | 41.0 mm |
FocalLength35efl | 41.0 mm |
GreenHue | 0 |
GreenSaturation | 0 |
HasCrop | True |
HasSettings | True |
HighlightRecovery | 51 |
HueAdjustmentAqua | 0 |
HueAdjustmentBlue | 0 |
HueAdjustmentGreen | 0 |
HueAdjustmentMagenta | 0 |
HueAdjustmentOrange | 0 |
HueAdjustmentPurple | 0 |
HueAdjustmentRed | 0 |
HueAdjustmentYellow | 0 |
ImageHeight | 2027 |
ImageSize | 3604x2027 |
ImageWidth | 3604 |
ISO | 400 |
Lens | LUMIX G VARIO 14-140/F4.0-5.8 |
LensSerialNumber | 09100092441 |
LightValue | 9.6 |
LuminanceAdjustmentAqua | 0 |
LuminanceAdjustmentBlue | 0 |
LuminanceAdjustmentGreen | 0 |
LuminanceAdjustmentMagenta | 0 |
LuminanceAdjustmentOrange | 0 |
LuminanceAdjustmentPurple | 0 |
LuminanceAdjustmentRed | 0 |
LuminanceAdjustmentYellow | 0 |
LuminanceSmoothing | 57 |
Make | Panasonic |
Marked | True |
MaxApertureValue | 5.3 |
Megapixels | 7.3 |
MeteringMode | Multi-segment |
Model | DMC-GH1 |
ModifyDate (1) | 2010:05:27 09:14:00+02:00 |
ModifyDate | 2010:05:27 09:14:00 |
PaintCorrectionActive | true |
PaintCorrectionAmount | 1.000000 |
PaintCorrectionBrightness | 0.000000 |
PaintCorrectionClarity | 0.000000 |
PaintCorrectionContrast | 0.000000 |
PaintCorrectionExposure | -1.000000 |
PaintCorrectionHue | 0.000000 |
PaintCorrectionMaskCenterWeight | 0.251968 |
PaintCorrectionMaskFlow | 1.000000 |
PaintCorrectionMaskRadius (15) | 0.031543 |
PaintCorrectionMaskRadius (5) | 0.080698 |
PaintCorrectionMaskRadius | 0.143163 |
PaintCorrectionMaskValue | 0.550000 |
PaintCorrectionMaskWhat | Mask/Paint |
PaintCorrectionSaturation | 0.000000 |
PaintCorrectionSharpness | 0.000000 |
PaintCorrectionWhat | Correction |
ParametricDarks | -43 |
ParametricHighlights | +38 |
ParametricHighlightSplit | 75 |
ParametricLights | -71 |
ParametricMidtoneSplit | 50 |
ParametricShadows | -36 |
ParametricShadowSplit | 25 |
PostCropVignetteAmount | -64 |
PostCropVignetteFeather | 50 |
PostCropVignetteMidpoint | 50 |
PostCropVignetteRoundness | 0 |
ProfileDescription | sRGB IEC61966-2.1 |
RedHue | 0 |
RedSaturation | 0 |
Rights | Thomas Geiner Tellefsen |
Saturation | -50 |
SaturationAdjustmentAqua | 0 |
SaturationAdjustmentBlue | 0 |
SaturationAdjustmentGreen | 0 |
SaturationAdjustmentMagenta | 0 |
SaturationAdjustmentOrange | 0 |
SaturationAdjustmentPurple | 0 |
SaturationAdjustmentRed | 0 |
SaturationAdjustmentYellow | 0 |
Shadows | 0 |
ShadowTint | 0 |
SharpenDetail | 25 |
SharpenEdgeMasking | 21 |
SharpenRadius | +0.8 |
Sharpness | 52 |
ShutterSpeed | 1/30 |
ShutterSpeedValue | 1/30 |
SplitToningBalance | 0 |
SplitToningHighlightHue | 0 |
SplitToningHighlightSaturation | 0 |
SplitToningShadowHue | 0 |
SplitToningShadowSaturation | 0 |
Tint | -12 |
ToneCurve | 0, 0, 32, 22, 64, 56, 128, 128, 192, 196, 255, 255 |
ToneCurveName | Medium Contrast |
Version | 5.7 |
Vibrance | -14 |
VignetteAmount | -69 |
VignetteMidpoint | 10 |
WhiteBalance | Custom |