Felt | Verdi |
AlreadyApplied | True |
Aperture | 2.8 |
ApertureValue | 2.8 |
BitsPerSample | 8 |
BlueHue | -15 |
BlueSaturation | -29 |
Brightness | +69 |
CameraProfile | Adobe Standard |
ChromaticAberrationB | 0 |
ChromaticAberrationR | 0 |
CircleOfConfusion | 0.031 mm |
Clarity | +19 |
ColorComponents | 3 |
ColorMode | RGB |
ColorNoiseReduction | 89 |
ColorSpace | sRGB |
ColorTemperature | 5542 |
Contrast | +22 |
ConvertToGrayscale | False |
CopyrightFlag | False |
CreateDate (1) | 2010:06:17 02:55:45+02:00 |
CreateDate | 2010:06:16 18:27:10 |
CreatorTool | Adobe Photoshop CS3 Macintosh |
CropAngle | -0.908976 |
CropBottom | 0.875442 |
CropHeight | 1790 |
CropLeft | 0.125771 |
CropRight | 0.957901 |
CropTop | 0.199816 |
CropUnit | pixels |
CropWidth | 3184 |
CustomRendered | Normal |
DateTimeDigitized | 2010:06:16 18:27:10.94+02:00 |
DateTimeOriginal (1) | 2010:06:16 18:27:10.94+02:00 |
DateTimeOriginal | 2010:06:16 18:27:10 |
Defringe | 0 |
DerivedFrom | |
ExifImageHeight | 1790 |
ExifImageWidth | 3184 |
Exposure | -1.00 |
ExposureCompensation | -1/3 |
ExposureMode | Auto |
ExposureProgram | Aperture-priority AE |
ExposureTime | 1/60 |
FillLight | 60 |
Firmware | 2.0.4 |
Flash | Off, Did not fire |
FlashCompensation | 0 |
FlashFired | False |
FlashFunction | False |
FlashMode | Off |
FlashRedEyeMode | False |
FlashReturn | No return detection |
FNumber | 2.8 |
FocalLength | 29.0 mm |
FocalLength35efl | 29.0 mm (35 mm equivalent: 28.3 mm) |
Format | image/jpeg |
FOV | 64.9 deg |
GreenHue | +40 |
GreenSaturation | +21 |
HasCrop | True |
HasSettings | True |
HighlightRecovery | 0 |
HueAdjustmentAqua | 0 |
HueAdjustmentBlue | 0 |
HueAdjustmentGreen | -15 |
HueAdjustmentMagenta | 0 |
HueAdjustmentOrange | 0 |
HueAdjustmentPurple | 0 |
HueAdjustmentRed | 0 |
HueAdjustmentYellow | 0 |
HyperfocalDistance | 9.76 m |
ICCProfileName | sRGB IEC61966-2.1 |
ImageHeight | 1790 |
ImageNumber | 0 |
ImageSize | 3184x1790 |
ImageWidth | 3184 |
ISO | 200 |
Lens | EF16-35mm f/2.8L II USM |
LensInfo | 16-35mm f/? |
LightValue | 7.9 |
LuminanceAdjustmentAqua | 0 |
LuminanceAdjustmentBlue | 0 |
LuminanceAdjustmentGreen | +44 |
LuminanceAdjustmentMagenta | +17 |
LuminanceAdjustmentOrange | 0 |
LuminanceAdjustmentPurple | 0 |
LuminanceAdjustmentRed | 0 |
LuminanceAdjustmentYellow | 0 |
LuminanceSmoothing | 76 |
Make | Canon |
MaxApertureValue | 2.8 |
Megapixels | 5.7 |
MeteringMode | Spot |
Model | Canon EOS 5D Mark II |
ModifyDate (1) | 2010:06:17 02:55:45+02:00 |
ModifyDate | 2010:06:17 02:55:45 |
Orientation | Horizontal (normal) |
ParametricDarks | +79 |
ParametricHighlights | +100 |
ParametricHighlightSplit | 75 |
ParametricLights | +31 |
ParametricMidtoneSplit | 50 |
ParametricShadows | -50 |
ParametricShadowSplit | 25 |
PostCropVignetteAmount | 0 |
ProfileDescription | sRGB IEC61966-2.1 |
RedHue | -6 |
RedSaturation | +23 |
Saturation | -100 |
SaturationAdjustmentAqua | 0 |
SaturationAdjustmentBlue | 0 |
SaturationAdjustmentGreen | 0 |
SaturationAdjustmentMagenta | 0 |
SaturationAdjustmentOrange | 0 |
SaturationAdjustmentPurple | 0 |
SaturationAdjustmentRed | 0 |
SaturationAdjustmentYellow | 0 |
ScaleFactor35efl | 1.0 |
SceneCaptureType | Standard |
SerialNumber | 1430912317 |
Shadows | 8 |
ShadowTint | +10 |
SharpenDetail | 48 |
SharpenEdgeMasking | 36 |
SharpenRadius | +0.9 |
Sharpness | 98 |
ShutterSpeed | 1/60 |
ShutterSpeedValue | 1/60 |
Software | Adobe Photoshop CS3 Macintosh |
SplitToningBalance | +27 |
SplitToningHighlightHue | 49 |
SplitToningHighlightSaturation | 46 |
SplitToningShadowHue | 206 |
SplitToningShadowSaturation | 26 |
Tint | -25 |
ToneCurve | 0, 0, 32, 22, 64, 56, 128, 128, 192, 196, 255, 255 |
ToneCurveName | Medium Contrast |
URL_List | |
Version | 5.5 |
Vibrance | -71 |
VignetteAmount | 0 |
WhiteBalance (2) | Custom |
WhiteBalance | Manual |