Felt | Verdi |
AlreadyApplied | True |
Aperture | 5.6 |
ApertureValue | 5.6 |
Artist | Venche Jensen |
BitsPerSample | 8 |
BlueHue | 0 |
BlueSaturation | 0 |
Brightness | +37 |
By-line | Venche Jensen |
CameraProfile | Adobe Standard |
CFAPattern | [Red,Green][Green,Blue] |
ChromaticAberrationB | 0 |
ChromaticAberrationR | 0 |
CircleOfConfusion | 0.020 mm |
Clarity | +50 |
ColorComponents | 3 |
ColorMode | RGB |
ColorNoiseReduction | 25 |
ColorNoiseReductionDetail | 50 |
ColorSpace | sRGB |
ColorTemperature | 4950 |
Contrast (1) | +21 |
Contrast | Normal |
ConvertToGrayscale | False |
Copyright | 2010 - Venche Jensen |
CopyrightNotice | 2010 - Venche Jensen |
CreateDate (1) | 2010:07:04 16:56:47.00+02:00 |
CreateDate | 2010:07:04 16:56:47 |
Creator | Venche Jensen, Venche Jensen |
CreatorTool | Adobe Photoshop CS5 Macintosh |
CropAngle | 0 |
CropBottom | 0.962382 |
CropConstrainToWarp | 1 |
CropLeft | 0.01769 |
CropRight | 0.746098 |
CropTop | 0.001567 |
CustomRendered | Normal |
DateCreated (1) | 2010:07:04 |
DateCreated | 2010:07:04 16:56:47 |
DateTimeOriginal | 2010:07:04 16:56:47 |
Defringe | 0 |
DigitalZoomRatio | 1 |
DOF | 0.020 m (1.180 - 1.200 m) |
ExifImageHeight | 840 |
ExifImageWidth | 959 |
Exposure | +0.25 |
ExposureCompensation | -1/2 |
ExposureMode | Auto |
ExposureProgram | Aperture-priority AE |
ExposureTime | 1/1000 |
FillLight | 46 |
Flash | No Flash |
FNumber | 5.6 |
FocalLength | 120.0 mm |
FocalLength35efl | 120.0 mm (35 mm equivalent: 180.0 mm) |
FocalLengthIn35mmFormat | 180 mm |
Format | image/jpeg |
FOV | 11.4 deg |
GainControl | None |
GrainAmount | 0 |
GreenHue | 0 |
GreenSaturation | 0 |
HasCrop | True |
HasSettings | True |
HighlightRecovery | 0 |
HueAdjustmentAqua | 0 |
HueAdjustmentBlue | 0 |
HueAdjustmentGreen | 0 |
HueAdjustmentMagenta | 0 |
HueAdjustmentOrange | 0 |
HueAdjustmentPurple | 0 |
HueAdjustmentRed | 0 |
HueAdjustmentYellow | 0 |
HyperfocalDistance | 128.37 m |
ICCProfileName | sRGB IEC61966-2.1 |
ImageHeight (1) | 2736 |
ImageHeight | 840 |
ImageNumber | 10312 |
ImageSize | 959x840 |
ImageWidth (1) | 3123 |
ImageWidth | 959 |
ISO | 200 |
Lens | 24.0-120.0 mm f/3.5-5.6 |
LensID (1) | 120 |
LensID | AF-S VR Zoom-Nikkor 24-120mm f/3.5-5.6G IF-ED |
LensInfo | 24-120mm f/3.5-5.6 |
LensManualDistortionAmount | 0 |
LensProfileEnable | 0 |
LensProfileSetup | LensDefaults |
LightSource | Unknown |
LightValue | 13.9 |
LuminanceAdjustmentAqua | 0 |
LuminanceAdjustmentBlue | 0 |
LuminanceAdjustmentGreen | 0 |
LuminanceAdjustmentMagenta | 0 |
LuminanceAdjustmentOrange | 0 |
LuminanceAdjustmentPurple | 0 |
LuminanceAdjustmentRed | 0 |
LuminanceAdjustmentYellow | 0 |
LuminanceSmoothing | 0 |
Make | NIKON CORPORATION |
MaxApertureValue | 5.7 |
Megapixels | 0.806 |
MeteringMode | Multi-segment |
Model | NIKON D300S |
ModifyDate (1) | 2010:07:04 18:02:41+02:00 |
ModifyDate | 2010:07:04 18:02:41 |
Orientation | Horizontal (normal) |
ParametricDarks | 0 |
ParametricHighlights | 0 |
ParametricHighlightSplit | 75 |
ParametricLights | 0 |
ParametricMidtoneSplit | 50 |
ParametricShadows | 0 |
ParametricShadowSplit | 25 |
PerspectiveHorizontal | 0 |
PerspectiveRotate | 0.0 |
PerspectiveScale | 100 |
PerspectiveVertical | 0 |
PostCropVignetteAmount | -83 |
PostCropVignetteFeather | 65 |
PostCropVignetteHighlightContrast | 47 |
PostCropVignetteMidpoint | 37 |
PostCropVignetteRoundness | +100 |
PostCropVignetteStyle | 2 |
ProcessVersion | 5.7 |
ProfileDescription | sRGB IEC61966-2.1 |
Rating | 1 |
RawFileName | _VEJ0246.NEF |
RedHue | 0 |
RedSaturation | 0 |
Rights | 2010 - Venche Jensen |
Saturation (1) | 0 |
Saturation | Normal |
SaturationAdjustmentAqua | 0 |
SaturationAdjustmentBlue | 0 |
SaturationAdjustmentGreen | 0 |
SaturationAdjustmentMagenta | 0 |
SaturationAdjustmentOrange | 0 |
SaturationAdjustmentPurple | 0 |
SaturationAdjustmentRed | 0 |
SaturationAdjustmentYellow | 0 |
ScaleFactor35efl | 1.5 |
SceneCaptureType | Standard |
SceneType | Directly photographed |
SensingMethod | One-chip color area |
SerialNumber | 6018751 |
Shadows | 0 |
ShadowTint | 0 |
SharpenDetail | 25 |
SharpenEdgeMasking | 0 |
SharpenRadius | +1.0 |
Sharpness (1) | 25 |
Sharpness | Normal |
ShutterSpeed | 1/1000 |
ShutterSpeedValue | 1/1000 |
Software | Adobe Photoshop CS5 Macintosh |
SplitToningBalance | 0 |
SplitToningHighlightHue | 0 |
SplitToningHighlightSaturation | 0 |
SplitToningShadowHue | 0 |
SplitToningShadowSaturation | 0 |
SubjectDistance | 1.19 m |
SubjectDistanceRange | Unknown |
Tint | +3 |
ToneCurve | 0, 0, 32, 22, 64, 56, 128, 128, 192, 196, 255, 255 |
ToneCurveName | Medium Contrast |
URL_List | |
Version | 6.1 |
Vibrance | +23 |
VignetteAmount | 0 |
WhiteBalance (1) | Custom |
WhiteBalance | Manual |