Felt | Verdi |
AlreadyApplied | True |
BitsPerSample | 8 |
BlueHue | 0 |
BlueSaturation | 0 |
Brightness | 0 |
By-line | KNUT SIGURD RAABERG |
CameraProfile | Embedded |
Caption-Abstract | COPYRIGHT - KNUT SIGURD RAABERG |
ChromaticAberrationB | 0 |
ChromaticAberrationR | 0 |
Clarity | +27 |
ColorComponents | 1 |
ColorNoiseReduction | 0 |
Contrast | +34 |
ConvertToGrayscale | False |
Copyright | ALL RIGHTS RESERVED - KNUT SIGURD RAABERG |
CopyrightFlag | True |
CopyrightNotice | ALL RIGHTS RESERVED - KNUT SIGURD RAABERG |
CreateDate | 2010:08:25 17:54:00 |
Creator | KNUT SIGURD RAABERG |
CreatorAddress | ULLINSV 48B |
CreatorCity | TRONDHEIM |
CreatorCountry | NORWAY |
CreatorPostalCode | N-7033 |
CreatorTool | Adobe Photoshop Lightroom |
CreatorWorkEmail | knutta@gmail.com |
CreatorWorkTelephone | (+47) 952 89 433 |
DateTimeDigitized | 2010:08:25 17:54:00+02:00 |
Defringe | 0 |
Description | COPYRIGHT - KNUT SIGURD RAABERG |
ExifImageHeight | 1920 |
ExifImageWidth | 1280 |
Exposure | 0.00 |
FillLight | 0 |
GreenHue | 0 |
GreenSaturation | 0 |
HasCrop | False |
HasSettings | True |
Headline | ALL RIGHTS RESERVED KNUT SIGURD RAABERG |
HighlightRecovery | 0 |
HueAdjustmentAqua | 0 |
HueAdjustmentBlue | 0 |
HueAdjustmentGreen | 0 |
HueAdjustmentMagenta | 0 |
HueAdjustmentOrange | 0 |
HueAdjustmentPurple | 0 |
HueAdjustmentRed | 0 |
HueAdjustmentYellow | 0 |
ImageDescription | COPYRIGHT - KNUT SIGURD RAABERG |
ImageHeight | 1920 |
ImageSize | 1280x1920 |
ImageWidth | 1280 |
IncrementalTemperature | 0 |
IncrementalTint | 0 |
Keywords | ARKITEKTUR, fadderuker, trondheim |
LuminanceAdjustmentAqua | 0 |
LuminanceAdjustmentBlue | 0 |
LuminanceAdjustmentGreen | 0 |
LuminanceAdjustmentMagenta | 0 |
LuminanceAdjustmentOrange | 0 |
LuminanceAdjustmentPurple | 0 |
LuminanceAdjustmentRed | 0 |
LuminanceAdjustmentYellow | 0 |
LuminanceSmoothing | 0 |
Make | FUJI PHOTO FILM CO., LTD. |
Marked | True |
Megapixels | 2.5 |
Model | SP-2000 |
ModifyDate (1) | 2010:08:25 21:59:50+02:00 |
ModifyDate | 2010:08:25 21:59:50 |
ParametricDarks | -42 |
ParametricHighlights | -29 |
ParametricHighlightSplit | 75 |
ParametricLights | 0 |
ParametricMidtoneSplit | 50 |
ParametricShadows | -50 |
ParametricShadowSplit | 25 |
PostCropVignetteAmount | 0 |
ProfileDescription | sRGB IEC61966-2.1 |
RedHue | 0 |
RedSaturation | 0 |
Rights | ALL RIGHTS RESERVED - KNUT SIGURD RAABERG |
Saturation | -100 |
SaturationAdjustmentAqua | 0 |
SaturationAdjustmentBlue | 0 |
SaturationAdjustmentGreen | 0 |
SaturationAdjustmentMagenta | 0 |
SaturationAdjustmentOrange | 0 |
SaturationAdjustmentPurple | 0 |
SaturationAdjustmentRed | 0 |
SaturationAdjustmentYellow | 0 |
SceneType | Directly photographed |
Shadows | 0 |
ShadowTint | 0 |
SharpenDetail | 25 |
SharpenEdgeMasking | 0 |
SharpenRadius | +1.0 |
Sharpness | 0 |
Software | FUJI PHOTO FILM CO., LTD. FE FDi Service Software / FRONTIER350/370-7.7-0E-060 |
SplitToningBalance | 0 |
SplitToningHighlightHue | 0 |
SplitToningHighlightSaturation | 0 |
SplitToningShadowHue | 0 |
SplitToningShadowSaturation | 0 |
Subject | ARKITEKTUR, fadderuker, trondheim |
SubjectCode | ALL RIGHTS RESERVED - VIOLATION WILL BE PROSECUTED TO THE LETTER OF THE LAW |
ToneCurve | 0, 0, 255, 255 |
ToneCurveName | Linear |
UsageTerms | PUBLICATION, ALTERING AND/OR ALL OTHERWISE USE IS STRICTLY PROHIBITED WITHOUT WRITTEN EXPLICIT PERMISSION FROM THE COPYRIGHT HOLDER |
Version | 5.6 |
Vibrance | -100 |
VignetteAmount | 0 |
WhiteBalance | As Shot |