Felt | Verdi |
AlreadyApplied | True |
Aperture | 22.0 |
ApertureValue | 22.0 |
BitsPerSample | 8 |
BlueHue | 0 |
BlueSaturation | 0 |
Brightness | +50 |
By-line | KNUT SIGURD RAABERG |
CameraProfile | Adobe Standard |
Caption-Abstract | COPYRIGHT - KNUT SIGURD RAABERG |
CFAPattern | [Green,Blue][Red,Green] |
ChromaticAberrationB | +15 |
ChromaticAberrationR | +2 |
CircleOfConfusion | 0.020 mm |
Clarity | +54 |
ColorComponents | 3 |
ColorNoiseReduction | 25 |
ColorTemperature | 2300 |
Contrast (2) | -8 |
Contrast | Normal |
ConvertToGrayscale | False |
Copyright | ALL RIGHTS RESERVED - KNUT SIGURD RAABERG |
CopyrightFlag | True |
CopyrightNotice | ALL RIGHTS RESERVED - KNUT SIGURD RAABERG |
CreateDate (1) | 2010:08:29 22:05:57.60+02:00 |
CreateDate | 2010:08:29 22:05:57 |
Creator | KNUT SIGURD RAABERG |
CreatorAddress | ULLINSV 48B |
CreatorCity | TRONDHEIM |
CreatorCountry | NORWAY |
CreatorPostalCode | N-7033 |
CreatorTool | Adobe Photoshop Lightroom |
CreatorWorkEmail | knutta@gmail.com |
CreatorWorkTelephone | (+47) 952 89 433 |
CropAngle | 0 |
CropBottom | 0.675057 |
CropHeight | 390 |
CropLeft | 0 |
CropRight | 1 |
CropTop | 0.21968 |
CropUnit | pixels |
CropWidth | 1280 |
CustomRendered | Normal |
DateTimeDigitized | 2010:08:29 22:05:57.60+02:00 |
DateTimeOriginal (1) | 2010:08:29 22:05:57.60+02:00 |
DateTimeOriginal | 2010:08:29 22:05:57 |
Defringe | 0 |
Description | COPYRIGHT - KNUT SIGURD RAABERG |
DigitalZoomRatio | 1 |
DOF | inf (0.23 m - inf) |
ExifImageHeight | 390 |
ExifImageWidth | 1280 |
Exposure | +0.30 |
ExposureCompensation | 0 |
ExposureMode | Manual |
ExposureProgram | Manual |
ExposureTime | 30 |
FillLight | 22 |
Flash | No Flash |
FlashFired | False |
FlashFunction | False |
FlashMode | Unknown |
FlashRedEyeMode | False |
FlashReturn | No return detection |
FNumber | 22.0 |
FocalLength | 10.0 mm |
FocalLength35efl | 10.0 mm (35 mm equivalent: 15.0 mm) |
FocalLengthIn35mmFormat | 15 mm |
FOV | 100.4 deg |
GainControl | None |
GreenHue | 0 |
GreenSaturation | 0 |
HasCrop | True |
HasSettings | True |
Headline | ALL RIGHTS RESERVED KNUT SIGURD RAABERG |
HighlightRecovery | 18 |
HueAdjustmentAqua | 0 |
HueAdjustmentBlue | 0 |
HueAdjustmentGreen | 0 |
HueAdjustmentMagenta | 0 |
HueAdjustmentOrange | 0 |
HueAdjustmentPurple | 0 |
HueAdjustmentRed | 0 |
HueAdjustmentYellow | 0 |
HyperfocalDistance | 0.23 m |
ImageDescription | COPYRIGHT - KNUT SIGURD RAABERG |
ImageHeight | 390 |
ImageNumber | 10319 |
ImageSize | 1280x390 |
ImageWidth | 1280 |
ISO | 100 |
Keywords | ARKITEKTUR, gatefoto, nattfoto |
Lens | 10.0-24.0 mm f/3.5-4.5 |
LensID (1) | 246 |
LensID | Tamron SP AF 10-24mm f/3.5-4.5 Di II LD Aspherical (IF) (B001) |
LensInfo | 10-24mm f/3.5-4.5 |
LightSource | Unknown |
LightValue | 4.0 |
LuminanceAdjustmentAqua | 0 |
LuminanceAdjustmentBlue | 0 |
LuminanceAdjustmentGreen | 0 |
LuminanceAdjustmentMagenta | 0 |
LuminanceAdjustmentOrange | 0 |
LuminanceAdjustmentPurple | 0 |
LuminanceAdjustmentRed | 0 |
LuminanceAdjustmentYellow | 0 |
LuminanceSmoothing | 0 |
Make | NIKON CORPORATION |
Marked | True |
MaxApertureValue | 3.5 |
Megapixels | 0.499 |
MeteringMode | Multi-segment |
Model | NIKON D80 |
ModifyDate (1) | 2010:09:01 03:50:48+02:00 |
ModifyDate | 2010:09:01 03:50:48 |
ParametricDarks | -2 |
ParametricHighlights | +31 |
ParametricHighlightSplit | 75 |
ParametricLights | +46 |
ParametricMidtoneSplit | 50 |
ParametricShadows | -21 |
ParametricShadowSplit | 25 |
PostCropVignetteAmount | 0 |
ProfileDescription | sRGB IEC61966-2.1 |
RedHue | 0 |
RedSaturation | 0 |
Rights | ALL RIGHTS RESERVED - KNUT SIGURD RAABERG |
Saturation (2) | +31 |
Saturation | Normal |
SaturationAdjustmentAqua | +44 |
SaturationAdjustmentBlue | -81 |
SaturationAdjustmentGreen | +15 |
SaturationAdjustmentMagenta | -65 |
SaturationAdjustmentOrange | -17 |
SaturationAdjustmentPurple | -77 |
SaturationAdjustmentRed | +100 |
SaturationAdjustmentYellow | -38 |
ScaleFactor35efl | 1.5 |
SceneCaptureType | Standard |
SceneType | Directly photographed |
SensingMethod | One-chip color area |
SerialNumber | 4455452 |
Shadows | 10 |
ShadowTint | 0 |
SharpenDetail | 25 |
SharpenEdgeMasking | 0 |
SharpenRadius | +1.0 |
Sharpness (2) | 25 |
Sharpness | Normal |
ShutterSpeed | 30 |
ShutterSpeedValue | 30 |
Software | Ver.1.10 |
SplitToningBalance | 0 |
SplitToningHighlightHue | 0 |
SplitToningHighlightSaturation | 0 |
SplitToningShadowHue | 0 |
SplitToningShadowSaturation | 0 |
Subject | ARKITEKTUR, gatefoto, nattfoto |
SubjectCode | ALL RIGHTS RESERVED - VIOLATION WILL BE PROSECUTED TO THE LETTER OF THE LAW |
SubjectDistance | 4294967295 m |
SubjectDistanceRange | Unknown |
Tint | +2 |
ToneCurve | 0, 0, 32, 22, 64, 56, 128, 128, 192, 196, 255, 255 |
ToneCurveName | Medium Contrast |
UsageTerms | PUBLICATION, ALTERING AND/OR ALL OTHERWISE USE IS STRICTLY PROHIBITED WITHOUT WRITTEN EXPLICIT PERMISSION FROM THE COPYRIGHT HOLDER |
Version | 5.6 |
Vibrance | +25 |
VignetteAmount | +15 |
VignetteMidpoint | 26 |
WhiteBalance (2) | Custom |
WhiteBalance | Auto |