Felt | Verdi |
AlreadyApplied | True |
Aperture | 9.0 |
ApertureValue | 9.0 |
Artist | unknown |
BitsPerSample | 8 |
BlueHue | 0 |
BlueSaturation | 0 |
Brightness | +50 |
By-line | unknown |
CameraProfile | ACR 4.4 |
ChromaticAberrationB | 0 |
ChromaticAberrationR | 0 |
CircleOfConfusion | 0.019 mm |
Clarity | +24 |
ColorComponents | 3 |
ColorNoiseReduction | 61 |
ColorTemperature | 5800 |
Contrast | +25 |
ConvertToGrayscale | False |
CreateDate (1) | 2010:09:05 19:22:27+02:00 |
CreateDate | 2010:09:05 19:22:27 |
Creator | unknown |
CreatorTool | Adobe Photoshop Lightroom |
CustomRendered | Normal |
DateTimeDigitized | 2010:09:05 19:22:27+02:00 |
DateTimeOriginal (1) | 2010:09:05 19:22:27+02:00 |
DateTimeOriginal | 2010:09:05 19:22:27 |
Defringe | 0 |
ExifImageHeight | 733 |
ExifImageWidth | 1100 |
Exposure | 0.00 |
ExposureCompensation | -1 |
ExposureMode | Auto |
ExposureProgram | Aperture-priority AE |
ExposureTime | 0.6 |
FillLight | 0 |
Firmware | 1.1.1 |
Flash | Off, Did not fire |
FlashCompensation | 0 |
FlashFired | False |
FlashFunction | False |
FlashMode | Off |
FlashRedEyeMode | False |
FlashReturn | No return detection |
FNumber | 9.0 |
FocalLength | 38.0 mm |
FocalLength35efl | 38.0 mm (35 mm equivalent: 61.5 mm) |
FOV | 32.6 deg |
GreenHue | 0 |
GreenSaturation | 0 |
HasCrop | False |
HasSettings | True |
HighlightRecovery | 0 |
HueAdjustmentAqua | 0 |
HueAdjustmentBlue | 0 |
HueAdjustmentGreen | 0 |
HueAdjustmentMagenta | 0 |
HueAdjustmentOrange | 0 |
HueAdjustmentPurple | 0 |
HueAdjustmentRed | 0 |
HueAdjustmentYellow | 0 |
HyperfocalDistance | 8.64 m |
ImageHeight | 733 |
ImageNumber | 224 |
ImageSize | 1100x733 |
ImageWidth | 1100 |
ISO | 100 |
Lens | EF-S18-55mm f/3.5-5.6 |
LensInfo | 18-55mm f/? |
LightValue | 7.1 |
LuminanceAdjustmentAqua | 0 |
LuminanceAdjustmentBlue | 0 |
LuminanceAdjustmentGreen | 0 |
LuminanceAdjustmentMagenta | 0 |
LuminanceAdjustmentOrange | 0 |
LuminanceAdjustmentPurple | 0 |
LuminanceAdjustmentRed | 0 |
LuminanceAdjustmentYellow | 0 |
LuminanceSmoothing | 62 |
Make | Canon |
MaxApertureValue | 4.5 |
Megapixels | 0.806 |
MeteringMode | Multi-segment |
Model | Canon EOS 400D DIGITAL |
ModifyDate (1) | 2010:09:06 16:33:12+02:00 |
ModifyDate | 2010:09:06 16:33:12 |
OwnerName | unknown |
ParametricDarks | -10 |
ParametricHighlights | 0 |
ParametricHighlightSplit | 75 |
ParametricLights | 0 |
ParametricMidtoneSplit | 50 |
ParametricShadows | 0 |
ParametricShadowSplit | 25 |
PostCropVignetteAmount | 0 |
ProfileDescription | sRGB IEC61966-2.1 |
RedHue | 0 |
RedSaturation | 0 |
Saturation | +5 |
SaturationAdjustmentAqua | 0 |
SaturationAdjustmentBlue | 0 |
SaturationAdjustmentGreen | 0 |
SaturationAdjustmentMagenta | 0 |
SaturationAdjustmentOrange | 0 |
SaturationAdjustmentPurple | 0 |
SaturationAdjustmentRed | 0 |
SaturationAdjustmentYellow | 0 |
ScaleFactor35efl | 1.6 |
SceneCaptureType | Standard |
SerialNumber | 1981146775 |
Shadows | 5 |
ShadowTint | 0 |
SharpenDetail | 25 |
SharpenEdgeMasking | 64 |
SharpenRadius | +1.1 |
Sharpness | 75 |
ShutterSpeed | 0.6 |
ShutterSpeedValue | 0.6 |
SplitToningBalance | 0 |
SplitToningHighlightHue | 0 |
SplitToningHighlightSaturation | 0 |
SplitToningShadowHue | 0 |
SplitToningShadowSaturation | 0 |
Tint | +9 |
ToneCurve | 0, 0, 32, 22, 64, 56, 128, 128, 192, 196, 255, 255 |
ToneCurveName | Medium Contrast |
Version | 5.5 |
Vibrance | +7 |
VignetteAmount | 0 |
WhiteBalance (2) | As Shot |
WhiteBalance | Manual |