Felt | Verdi |
AddOriginalDecisionData | Off |
AEBBracketValue | 0 |
AFAreaHeights | 172 172 172 117 221 117 172 172 172 |
AFAreaMode | Single-point AF |
AFAreaWidths | 129 129 129 181 222 181 129 129 129 |
AFAreaXPositions | -1363 -819 -819 0 0 0 819 819 1363 |
AFAreaYPositions | 0 387 -387 729 0 -729 387 -387 0 |
AFAssistBeam | Emits |
AFImageHeight | 3456 |
AFImageWidth | 5184 |
AFPointsInFocus | 4 |
AFPointsSelected | 4 |
AlreadyApplied | False |
Aperture | 8.0 |
ApertureValue | 8.0 |
Artist | Kent Rune Haugen |
AutoExposureBracketing | Off |
AutoISO | 100 |
AutoLightingOptimizer | Standard |
AverageBlackLevel | 2048 2048 2048 2048 |
BaseISO | 100 |
BitsPerSample (1) | 8, 8, 8 |
BitsPerSample | 8 |
BlackMaskBottomBorder | 0 |
BlackMaskLeftBorder | 0 |
BlackMaskRightBorder | 0 |
BlackMaskTopBorder | 0 |
BlueBalance | 1.68457 |
BlueHue | 0 |
BlueSaturation | 0 |
BracketMode | Off |
BracketShotNumber | 0 |
BracketValue | 0 |
Brightness | 0 |
BulbDuration | 0 |
By-line | Kent Rune Haugen |
CameraISO | Auto |
CameraOrientation | Horizontal (normal) |
CameraProfile | Embedded |
CameraTemperature | 30 C |
CameraType | EOS High-end |
CanonExposureMode | Aperture-priority AE |
CanonFirmwareVersion | Firmware Version 1.0.6 |
CanonFlashMode | Off |
CanonImageHeight | 3456 |
CanonImageSize | Large |
CanonImageType | Canon EOS 550D |
CanonImageWidth | 5184 |
CanonModelID | EOS Rebel T2i / 550D / Kiss X4 |
ChromaticAberrationB | 0 |
ChromaticAberrationCorr | Off |
ChromaticAberrationR | 0 |
CircleOfConfusion | 0.019 mm |
Clarity | 0 |
ColorComponents | 3 |
ColorDataVersion | 7 (500D/550D/7D/1DmkIV) |
ColorMode | RGB |
ColorNoiseReduction | 0 |
ColorSpace | sRGB |
ColorTempAsShot | 4804 |
ColorTempAuto | 4804 |
ColorTempCloudy | 6000 |
ColorTempDaylight | 5200 |
ColorTemperature | 5200 |
ColorTempFlash | 6222 |
ColorTempFluorescent | 3763 |
ColorTempKelvin | 5212 |
ColorTempMeasured | 3835 |
ColorTempShade | 7000 |
ColorTempTungsten | 3200 |
ColorTone | Normal |
ColorToneFaithful | 0 |
ColorToneLandscape | 0 |
ColorToneNeutral | 0 |
ColorTonePortrait | 0 |
ColorToneStandard | 0 |
ColorToneUserDef1 | 0 |
ColorToneUserDef2 | 0 |
ColorToneUserDef3 | 0 |
ContinuousDrive | Single |
Contrast (1) | +10 |
Contrast | Normal |
ContrastFaithful | 0 |
ContrastLandscape | 0 |
ContrastMonochrome | 0 |
ContrastNeutral | 0 |
ContrastPortrait | 0 |
ContrastStandard | 0 |
ContrastUserDef1 | 0 |
ContrastUserDef2 | 0 |
ContrastUserDef3 | 0 |
ControlMode | Camera Local Control |
ConvertToGrayscale | False |
Copyright | Kent Rune Haugen vm2000@online.no |
CopyrightNotice | Kent Rune Haugen vm2000@online.no |
CreateDate (1) | 2010:09:04 16:47:47.00+02:00 |
CreateDate | 2010:09:04 16:47:47 |
Creator | Kent Rune Haugen |
CropBottomMargin | 0 |
CropLeftMargin | 0 |
CropRightMargin | 0 |
CropTopMargin | 0 |
CustomPictureStyleFileName | |
CustomRendered | Normal |
DateTimeDigitized | 2010:09:04 16:47:47.00+02:00 |
DateTimeOriginal (1) | 2010:09:04 16:47:47.00+02:00 |
DateTimeOriginal | 2010:09:04 16:47:47 |
Defringe | 0 |
DigitalGain | 0 |
DigitalZoom | None |
DistortionCorrection | Off |
DistortionCorrectionValue | 0 |
DOF | 0.03 m (0.65 - 0.69 m) |
DriveMode | Single-frame Shooting |
EasyMode | Manual |
ExifImageHeight | 3456 |
ExifImageWidth | 5184 |
Exposure | 0.00 |
ExposureCompensation | 0 |
ExposureLevelIncrements | 1/3 Stop |
ExposureMode | Auto |
ExposureProgram | Aperture-priority AE |
ExposureTime (1) | 1/279 |
ExposureTime (2) | 1/256 |
ExposureTime | 1/250 |
FileIndex | 6344 |
FileNumber | 100-6344 |
FillLight | 0 |
FilterEffectMonochrome | None |
FilterEffectUserDef1 | None |
FilterEffectUserDef2 | None |
FilterEffectUserDef3 | None |
Firmware | 1.0.6 |
FirmwareVersion | 1.0.6 |
Flash | Off, Did not fire |
FlashActivity | 0 |
FlashBits | (none) |
FlashCompensation | 0 |
FlashExposureComp | 0 |
FlashExposureLock | Off |
FlashFired | False |
FlashFunction | False |
FlashGuideNumber | 0 |
FlashMeteringMode | Off |
FlashMode | Off |
FlashRedEyeMode | False |
FlashReturn | No return detection |
FlashSyncSpeedAv | Auto |
FNumber (2) | 8 |
FNumber | 8.0 |
FocalLength (1) | 63 mm |
FocalLength | 63.0 mm |
FocalLength35efl | 63.0 mm (35 mm equivalent: 99.1 mm) |
FocalUnits | 1/mm |
FocusDistanceLower | 0.64 m |
FocusDistanceUpper | 0.73 m |
FocusMode | One-shot AF |
FocusRange | Not Known |
FOV | 20.6 deg |
GrainAmount | 0 |
GreenHue | 0 |
GreenSaturation | 0 |
HasCrop | False |
HasSettings | True |
HighISONoiseReduction | Standard |
HighlightRecovery | 0 |
HighlightTonePriority (1) | Off |
HighlightTonePriority | Disable |
HueAdjustmentAqua | 0 |
HueAdjustmentBlue | 0 |
HueAdjustmentGreen | 0 |
HueAdjustmentMagenta | 0 |
HueAdjustmentOrange | 0 |
HueAdjustmentPurple | 0 |
HueAdjustmentRed | 0 |
HueAdjustmentYellow | 0 |
HyperfocalDistance | 25.97 m |
ICCProfileName | sRGB IEC61966-2.1 |
ImageHeight | 3456 |
ImageNumber | 0 |
ImageSize | 5184x3456 |
ImageWidth | 5184 |
IncrementalTemperature | 0 |
IncrementalTint | 0 |
InternalSerialNumber | VA0575293 |
ISO | 100 |
ISOExpansion | Off |
LCDDisplayAtPowerOn | Display |
Lens (1) | 18-250mm |
Lens | 18.0 - 250.0 mm |
Lens35efl | 18.0 - 250.0 mm (35 mm equivalent: 28.3 - 393.2 mm) |
LensID (1) | 137 |
LensID | Sigma 18-250mm f/3.5-6.3 DC OS HSM |
LensInfo | 18-250mm f/? |
LensModel | 18-250mm |
LensType | Canon EF 85mm f/1.2L USM or Sigma or Tamron Lens |
LightValue | 14.0 |
LinearityUpperMargin | 10000 |
LiveViewShooting | Off |
LongExposureNoiseReduction | Off |
LongExposureNoiseReduction2 | Off |
LuminanceAdjustmentAqua | 0 |
LuminanceAdjustmentBlue | 0 |
LuminanceAdjustmentGreen | 0 |
LuminanceAdjustmentMagenta | 0 |
LuminanceAdjustmentOrange | 0 |
LuminanceAdjustmentPurple | 0 |
LuminanceAdjustmentRed | 0 |
LuminanceAdjustmentYellow | 0 |
LuminanceSmoothing | 0 |
MacroMode | Normal |
Make | Canon |
ManualFlashOutput | n/a |
MaxAperture | 5.2 |
MaxApertureValue | 5.2 |
MaxFocalLength | 250 mm |
MeasuredEV | 14.12 |
MeasuredEV2 | 14.25 |
MeasuredRGGB | 719 1024 1024 167 |
Megapixels | 17.9 |
MeteringMode (1) | Multi-segment |
MeteringMode | Evaluative |
MinAperture | 33 |
MinFocalLength | 18 mm |
MirrorLockup | Disable |
Model | Canon EOS 550D |
ModifyDate (1) | 2010:09:04 16:47:47.00+02:00 |
ModifyDate | 2010:09:04 16:47:47 |
NDFilter | n/a |
NumAFPoints | 9 |
OpticalZoomCode | n/a |
Orientation | Horizontal (normal) |
OriginalDecisionDataOffset | 0 |
OriginalImageHeight | 3456 |
OriginalImageWidth | 5184 |
OwnerName | |
ParametricDarks | -15 |
ParametricHighlights | +8 |
ParametricHighlightSplit | 75 |
ParametricLights | +8 |
ParametricMidtoneSplit | 50 |
ParametricShadows | -7 |
ParametricShadowSplit | 25 |
PerChannelBlackLevel | 2047 2047 2048 2048 |
PeripheralIlluminationCorr | Off |
PeripheralLighting | Off |
PeripheralLightingSetting | Off |
PeripheralLightingValue | 35 |
PhotometricInterpretation | RGB |
PictureStyle | Standard |
PictureStylePC | None; None; None |
PictureStyleUserDef | Standard; Standard; Standard |
PostCropVignetteAmount | 0 |
ProcessVersion | 5.7 |
Quality | Fine |
Rating | 4 |
RawFileName | IMG_6344.JPG |
RawJpgSize | Large |
RawMeasuredRGGB | 770206 1104075 1107893 170243 |
RecordMode | JPEG |
RedBalance | 2.188477 |
RedHue | 0 |
RedSaturation | 0 |
Rights | Kent Rune Haugen vm2000@online.no |
SamplesPerPixel | 3 |
Saturation (1) | 0 |
Saturation | Normal |
SaturationAdjustmentAqua | 0 |
SaturationAdjustmentBlue | 0 |
SaturationAdjustmentGreen | 0 |
SaturationAdjustmentMagenta | 0 |
SaturationAdjustmentOrange | 0 |
SaturationAdjustmentPurple | 0 |
SaturationAdjustmentRed | 0 |
SaturationAdjustmentYellow | 0 |
SaturationFaithful | 0 |
SaturationLandscape | 0 |
SaturationNeutral | 0 |
SaturationPortrait | 0 |
SaturationStandard | 0 |
SaturationUserDef1 | 0 |
SaturationUserDef2 | 0 |
SaturationUserDef3 | 0 |
ScaleFactor35efl | 1.6 |
SceneCaptureType | Standard |
SelfTimer | Off |
SensorBlueLevel | 0 |
SensorBottomBorder | 3511 |
SensorHeight | 3516 |
SensorLeftBorder | 152 |
SensorRedLevel | 0 |
SensorRightBorder | 5335 |
SensorTopBorder | 56 |
SensorWidth | 5344 |
SequenceNumber | 0 |
SerialNumber (1) | 732203190 |
SerialNumber | 0732203190 |
SerialNumberFormat | Format 2 |
SetButtonWhenShooting | Normal (disabled) |
Shadows | 4 |
ShadowTint | 0 |
SharpenDetail | 25 |
SharpenEdgeMasking | 0 |
SharpenRadius | +1.0 |
Sharpness (1) | 0 |
Sharpness | 3 |
SharpnessFaithful | 0 |
SharpnessFrequency | n/a |
SharpnessLandscape | 4 |
SharpnessMonochrome | 3 |
SharpnessNeutral | 0 |
SharpnessPortrait | 2 |
SharpnessStandard | 3 |
SharpnessUserDef1 | 3 |
SharpnessUserDef2 | 3 |
SharpnessUserDef3 | 3 |
ShootingMode | Aperture-priority AE |
Shutter-AELock | AF/AE lock |
ShutterSpeed | 1/250 |
ShutterSpeedValue (1) | 1/250 |
ShutterSpeedValue | 1/256 |
SlowShutter | None |
SpecularWhiteLevel | 12279 |
SplitToningBalance | 0 |
SplitToningHighlightHue | 0 |
SplitToningHighlightSaturation | 0 |
SplitToningShadowHue | 0 |
SplitToningShadowSaturation | 0 |
SubjectDistance | 0.67 m |
TargetAperture | 8 |
TargetExposureTime | 1/256 |
ToneCurve (1) | Standard |
ToneCurve | 0, 0, 255, 255 |
ToneCurveName | Linear |
ToningEffectMonochrome | None |
ToningEffectUserDef1 | None |
ToningEffectUserDef2 | None |
ToningEffectUserDef3 | None |
UserComment | |
UserDef1PictureStyle | Standard |
UserDef2PictureStyle | Standard |
UserDef3PictureStyle | Standard |
ValidAFPoints | 9 |
Version | 6.0 |
Vibrance | 0 |
VignetteAmount | 0 |
VignettingCorrVersion | 0 |
VRDOffset | 0 |
WB_RGGBLevels | 2241 1024 1024 1725 |
WB_RGGBLevelsAsShot | 2241 1024 1024 1725 |
WB_RGGBLevelsAuto | 2241 1024 1024 1725 |
WB_RGGBLevelsCloudy | 2439 1024 1024 1442 |
WB_RGGBLevelsDaylight | 2250 1024 1024 1567 |
WB_RGGBLevelsFlash | 2509 1024 1024 1431 |
WB_RGGBLevelsFluorescent | 1986 1024 1024 2245 |
WB_RGGBLevelsKelvin | 2250 1024 1024 1567 |
WB_RGGBLevelsMeasured | 1926 1024 1023 2087 |
WB_RGGBLevelsShade | 2615 1024 1024 1332 |
WB_RGGBLevelsTungsten | 1589 1024 1024 2372 |
WBBracketMode | Off |
WBBracketValueAB | 0 |
WBBracketValueGM | 0 |
WBShiftAB | 0 |
WBShiftGM | 0 |
WhiteBalance (4) | As Shot |
WhiteBalance | Auto |
WhiteBalanceBlue | 0 |
WhiteBalanceRed | 0 |
ZoomSourceWidth | 0 |
ZoomTargetWidth | 0 |