Felt | Verdi |
AlreadyApplied | True |
Aperture | 4.8 |
ApertureValue | 4.8 |
ApproximateFocusDistance | 24.2 |
Artist | Geir A Granviken |
BitsPerSample | 8 |
BlueHue | 0 |
BlueSaturation | 0 |
Brightness | 0 |
By-line | Geir A Granviken |
CameraProfile | Adobe Standard |
Caption-Abstract | Barn i solnedgang |
ChromaticAberrationB | 0 |
ChromaticAberrationR | 0 |
CircleOfConfusion | 0.006 mm |
City | La Oliva |
Clarity | +24 |
ColorComponents | 3 |
ColorNoiseReduction | 25 |
ColorNoiseReductionDetail | 50 |
ColorSpace | sRGB |
ColorTemperature | 5500 |
CompressedBitsPerPixel | 3 |
Contrast | +44 |
ConvertToGrayscale | False |
Copyright | © 2010 Geir A Granviken |
CopyrightNotice | © 2010 Geir A Granviken |
Country | Spain |
Country-PrimaryLocationCode | ESP |
Country-PrimaryLocationName | Spain |
CountryCode | ESP |
CreateDate (1) | 2010:11:12 17:56:07.0+1:00 |
CreateDate | 2010:11:12 19:56:07 |
Creator | Geir A Granviken |
CreatorTool | Adobe Photoshop Lightroom |
CropAngle | 0 |
CropBottom | 0.952381 |
CropConstrainToWarp | 0 |
CropHeight | 636 |
CropLeft | 0.047619 |
CropRight | 1 |
CropTop | 0 |
CropUnit | pixels |
CropWidth | 848 |
CustomRendered | Normal |
DateTimeDigitized | 2010:11:12 19:56:07.0+1:00 |
DateTimeOriginal (1) | 2010:11:12 17:56:07.0+1:00 |
DateTimeOriginal | 2010:11:12 17:56:07 |
Defringe | 0 |
Description | Barn i solnedgang |
DigitalZoomRatio | 1 |
DOF | 21.33 m (17.56 - 38.90 m) |
ExifImageHeight | 636 |
ExifImageWidth | 848 |
Exposure | -0.10 |
ExposureCompensation | 0 |
ExposureMode | Auto |
ExposureTime | 1/500 |
FillLight | 0 |
Firmware | 1.00 |
Flash | Off, Did not fire |
FlashCompensation | 0 |
FlashFired | False |
FlashFunction | False |
FlashMode | Off |
FlashRedEyeMode | False |
FlashReturn | No return detection |
FNumber | 4.8 |
FocalLength | 44.4 mm |
FocalLength35efl | 44.4 mm (35 mm equivalent: 207.7 mm) |
FOV | 9.9 deg |
GPSDateStamp | 2010:11:12 |
GPSDateTime (1) | 2010:11:12 18:56:07+1:00 |
GPSDateTime | 2010:11:12 18:56:07Z |
GPSLatitude (2) | 28 deg 40' 18.62" |
GPSLatitude | 28 deg 40' 18.62" N |
GPSLatitudeRef | North |
GPSLongitude (2) | 13 deg 50' 5.60" |
GPSLongitude | 13 deg 50' 5.60" W |
GPSLongitudeRef | West |
GPSMapDatum | WGS-84 |
GPSPosition | 28 deg 40' 18.62" N, 13 deg 50' 5.60" W |
GPSTimeStamp | 18:56:07 |
GPSVersionID | 2.2.0.0 |
GrainAmount | 0 |
GreenHue | 0 |
GreenSaturation | 0 |
HasCrop | True |
HasSettings | True |
HighlightRecovery | 21 |
HueAdjustmentAqua | 0 |
HueAdjustmentBlue | 0 |
HueAdjustmentGreen | 0 |
HueAdjustmentMagenta | 0 |
HueAdjustmentOrange | 0 |
HueAdjustmentPurple | 0 |
HueAdjustmentRed | 0 |
HueAdjustmentYellow | 0 |
HyperfocalDistance | 63.93 m |
ImageDescription | Barn i solnedgang |
ImageHeight | 636 |
ImageSize | 848x636 |
ImageWidth | 848 |
ISO | 100 |
Keywords | barn, canarias, children, desert, fuerteventura, silhouette, silhuett, solnedgang, sunset, ørken |
Label | Green |
Lens | 7.4-44.4 mm |
LensInfo | 7.4-44.4mm f/? |
LensManualDistortionAmount | 0 |
LensProfileEnable | 0 |
LensProfileSetup | LensDefaults |
LightValue | 13.5 |
Location | Dunas de Corralejo |
LuminanceAdjustmentAqua | 0 |
LuminanceAdjustmentBlue | 0 |
LuminanceAdjustmentGreen | 0 |
LuminanceAdjustmentMagenta | 0 |
LuminanceAdjustmentOrange | 0 |
LuminanceAdjustmentPurple | 0 |
LuminanceAdjustmentRed | 0 |
LuminanceAdjustmentYellow | 0 |
LuminanceNoiseReductionContrast | 0 |
LuminanceNoiseReductionDetail | 50 |
LuminanceSmoothing | 10 |
Make | Canon |
MaxApertureValue | 4.8 |
Megapixels | 0.539 |
MeteringMode | Multi-segment |
Model | Canon PowerShot G9 |
ModifyDate (1) | 2010:11:18 09:41:39.0+1:00 |
ModifyDate | 2010:11:18 09:41:39 |
ObjectName | |
OwnerName | G A Granviken |
ParametricDarks | -37 |
ParametricHighlights | 0 |
ParametricHighlightSplit | 75 |
ParametricLights | +12 |
ParametricMidtoneSplit | 50 |
ParametricShadows | 0 |
ParametricShadowSplit | 25 |
PerspectiveHorizontal | 0 |
PerspectiveRotate | 0.0 |
PerspectiveScale | 100 |
PerspectiveVertical | 0 |
PostCropVignetteAmount | 0 |
ProcessVersion | 5.7 |
ProfileDescription | sRGB IEC61966-2.1 |
Province-State | Canarias - Fuerteventura |
RedHue | 0 |
RedSaturation | 0 |
Rights | © 2010 Geir A Granviken |
Saturation | +15 |
SaturationAdjustmentAqua | 0 |
SaturationAdjustmentBlue | +32 |
SaturationAdjustmentGreen | 0 |
SaturationAdjustmentMagenta | 0 |
SaturationAdjustmentOrange | 0 |
SaturationAdjustmentPurple | 0 |
SaturationAdjustmentRed | 0 |
SaturationAdjustmentYellow | 0 |
ScaleFactor35efl | 4.7 |
SceneCaptureType | Standard |
SensingMethod | One-chip color area |
Shadows | 6 |
ShadowTint | 0 |
SharpenDetail | 25 |
SharpenEdgeMasking | 67 |
SharpenRadius | +1.0 |
Sharpness | 35 |
ShutterSpeed | 1/500 |
ShutterSpeedValue | 1/500 |
Software | Adobe Photoshop Lightroom |
SplitToningBalance | 0 |
SplitToningHighlightHue | 0 |
SplitToningHighlightSaturation | 0 |
SplitToningShadowHue | 0 |
SplitToningShadowSaturation | 0 |
State | Canarias - Fuerteventura |
Sub-location | Dunas de Corralejo |
Subject | barn, canarias, children, desert, fuerteventura, silhouette, silhuett, solnedgang, sunset, ørken |
SubjectDistance | 24.2 m |
Tint | -5 |
Title | |
ToneCurve | 0, 0, 32, 22, 64, 56, 128, 128, 192, 196, 255, 255 |
ToneCurveName | Medium Contrast |
Version | 6.2 |
Vibrance | +25 |
VignetteAmount | 0 |
WhiteBalance (2) | Custom |
WhiteBalance | Auto |