Felt | Verdi |
AlreadyApplied | True |
Aperture | 14.0 |
ApertureValue | 14.0 |
BitsPerSample | 8 |
BlackClip | 0.223800 |
BlueHue | 0 |
BlueSaturation | 0 |
Brightness | 0 |
CameraProfile | Embedded |
ChromaticAberrationB | 0 |
ChromaticAberrationR | 0 |
Clarity | 0 |
ColorComponents | 3 |
ColorNoiseReduction | 0 |
ColorSaturation | 50.0 |
ColorTemperature | 5.3 |
Contrast | 0 |
ConvertToGrayscale | False |
CreateDate | 2010:12:29 15:14:34+01:00 |
CreatorTool | Adobe Photoshop Lightroom 3.3 |
CropAngle | -0.9404 |
CropBottom | 0.976921 |
CropConstrainToWarp | 0 |
CropHeight | 3382 |
CropLeft | 0.071571 |
CropRight | 0.953918 |
CropTop | 0.022452 |
CropUnit | pixels |
CropWidth | 4535 |
DateTimeOriginal (1) | 2010:12:29 15:14:34+01:00 |
DateTimeOriginal | 2010:12:29 15:14:34 |
Defringe | 0 |
ExifImageHeight | 3382 |
ExifImageWidth | 4535 |
Exposure | 0.00 |
ExposureTime | 32 |
FillLight | 0 |
FNumber | 14.0 |
FocalLength | 10.0 mm |
FocalLength35efl | 10.0 mm |
Gamma | 1.1 |
GrainAmount | 0 |
GreenHue | 0 |
GreenSaturation | 0 |
HasCrop | True |
HasSettings | True |
HighlightRecovery | 0 |
HighlightsSmoothing | 18.0 |
HueAdjustmentAqua | 0 |
HueAdjustmentBlue | 0 |
HueAdjustmentGreen | 0 |
HueAdjustmentMagenta | 0 |
HueAdjustmentOrange | 0 |
HueAdjustmentPurple | 0 |
HueAdjustmentRed | 0 |
HueAdjustmentYellow | 0 |
ImageHeight | 3382 |
ImageSize | 4535x3382 |
ImageWidth | 4535 |
IncrementalTemperature | 0 |
IncrementalTint | -20 |
ISO | 100 |
LensManualDistortionAmount | 0 |
LensProfileEnable | 0 |
LensProfileSetup | LensDefaults |
LightValue | 2.6 |
LuminanceAdjustmentAqua | 0 |
LuminanceAdjustmentBlue | 0 |
LuminanceAdjustmentGreen | 0 |
LuminanceAdjustmentMagenta | 0 |
LuminanceAdjustmentOrange | 0 |
LuminanceAdjustmentPurple | 0 |
LuminanceAdjustmentRed | 0 |
LuminanceAdjustmentYellow | 0 |
LuminanceSmoothing | 0 |
Luminosity | 6.0 |
Megapixels | 15.3 |
Method | Details Enhancer |
Microcontrast | 0.0 |
Microsmoothing | 16.9 |
Model | Canon EOS 7D |
ModifyDate (1) | 2010:12:30 00:10:14+01:00 |
ModifyDate | 2010:12:30 00:10:14 |
ParametricDarks | -13 |
ParametricHighlights | +18 |
ParametricHighlightSplit | 75 |
ParametricLights | +45 |
ParametricMidtoneSplit | 50 |
ParametricShadows | -18 |
ParametricShadowSplit | 25 |
PerspectiveHorizontal | 0 |
PerspectiveRotate | 0.0 |
PerspectiveScale | 100 |
PerspectiveVertical | 0 |
PostCropVignetteAmount | 0 |
ProcessVersion | 5.7 |
ProfileDescription | sRGB IEC61966-2.1 |
Rating | 5 |
RedHue | 0 |
RedSaturation | 0 |
Saturation | 0 |
SaturationAdjustmentAqua | 0 |
SaturationAdjustmentBlue | 0 |
SaturationAdjustmentGreen | 0 |
SaturationAdjustmentMagenta | 0 |
SaturationAdjustmentOrange | 0 |
SaturationAdjustmentPurple | 0 |
SaturationAdjustmentRed | 0 |
SaturationAdjustmentYellow | 0 |
SaturationHighlights | 0.0 |
SaturationShadows | 0.0 |
SensitivityType | Unknown |
Shadows | 0 |
ShadowsClipping | 15.0 |
ShadowsSmoothing | 10.0 |
ShadowTint | 0 |
SharpenDetail | 44 |
SharpenEdgeMasking | 67 |
SharpenRadius | +0.8 |
Sharpness | 69 |
ShutterSpeed | 32 |
ShutterSpeedValue | 32 |
Smoothing | Medium |
SplitToningBalance | 0 |
SplitToningHighlightHue | 0 |
SplitToningHighlightSaturation | 0 |
SplitToningShadowHue | 0 |
SplitToningShadowSaturation | 0 |
Strength | 100.0 |
ToneCurve | 0, 0, 255, 255 |
ToneCurveName | Linear |
Version (1) | 3.2 |
Version | 6.3 |
Vibrance | 0 |
VignetteAmount | 0 |
WhiteBalance | Custom |
WhiteClip | 0.092450 |