Felt | Verdi |
AlreadyApplied | True |
Aperture | 10.0 |
ApertureValue | 10.0 |
Artist | Birgitta Sjöstedt |
BitsPerSample | 8 |
BlueHue | 0 |
BlueSaturation | 0 |
Brightness | +70 |
By-line | Birgitta Sjöstedt |
CameraProfile | Adobe Standard |
ChromaticAberrationB | 0 |
ChromaticAberrationR | 0 |
CircleOfConfusion | 0.019 mm |
Clarity | +11 |
ColorComponents | 3 |
ColorMode | RGB |
ColorNoiseReduction | 1 |
ColorNoiseReductionDetail | 50 |
ColorSpace | sRGB |
ColorTemperature | 5211 |
Contrast | +50 |
ConvertToGrayscale | False |
Copyright | Copyright Birgitta Sjöstedt 2010 |
CopyrightFlag | True |
CopyrightNotice | Copyright Birgitta Sjöstedt 2010 |
CreateDate | 2011:02:26 12:25:09 |
Creator | Birgitta Sjöstedt |
CreatorAddress | Smedvägen 4 |
CreatorCity | Handen |
CreatorCountry | Sverige |
CreatorPostalCode | 136 46 |
CreatorTool | Adobe Photoshop Lightroom |
CreatorWorkEmail | sjostedt.birgitta@telia.com |
CreatorWorkTelephone | 073-7071565 |
CustomRendered | Normal |
DateAcquired | 2011:03:01 18:39:56 |
DateCreated | 2011:02:26 |
DateTimeDigitized | 2011:02:26 12:25:09.56+01:00 |
DateTimeOriginal | 2011:02:26 12:25:09 |
Defringe | 0 |
DOF | 0.19 m (1.39 - 1.58 m) |
ExifImageHeight | 591 |
ExifImageWidth | 900 |
Exposure | +1.73 |
ExposureCompensation | -1/3 |
ExposureMode | Auto |
ExposureProgram | Aperture-priority AE |
ExposureTime | 1/200 |
FillLight | 0 |
Firmware | 1.0.5 |
Flash | Off, Did not fire |
FlashCompensation | 0 |
FlashFired | False |
FlashFunction | False |
FlashMode | Off |
FlashRedEyeMode | False |
FlashReturn | No return detection |
FNumber | 10.0 |
FocalLength | 65.0 mm |
FocalLength35efl | 65.0 mm (35 mm equivalent: 103.0 mm) |
Format | image/jpeg |
FOV | 19.8 deg |
GrainAmount | 0 |
GreenHue | 0 |
GreenSaturation | 0 |
HasCrop | False |
HasSettings | True |
HighlightRecovery | 0 |
HueAdjustmentAqua | 0 |
HueAdjustmentBlue | 0 |
HueAdjustmentGreen | 0 |
HueAdjustmentMagenta | 0 |
HueAdjustmentOrange | 0 |
HueAdjustmentPurple | 0 |
HueAdjustmentRed | 0 |
HueAdjustmentYellow | 0 |
HyperfocalDistance | 22.28 m |
ICCProfileName | sRGB IEC61966-2.1 |
ImageHeight (1) | 3168 |
ImageHeight | 591 |
ImageNumber | 0 |
ImageSize | 900x591 |
ImageWidth (1) | 4752 |
ImageWidth | 900 |
ISO | 100 |
Keywords | Bakgrunder |
Lens | EF24-105mm f/4L IS USM |
LensID (1) | 237 |
LensID | Canon EF 24-105mm f/4L IS USM |
LensInfo | 24-105mm f/? |
LensManualDistortionAmount | 0 |
LensProfileEnable | 0 |
LensProfileSetup | LensDefaults |
LightValue | 14.3 |
LuminanceAdjustmentAqua | 0 |
LuminanceAdjustmentBlue | 0 |
LuminanceAdjustmentGreen | 0 |
LuminanceAdjustmentMagenta | 0 |
LuminanceAdjustmentOrange | 0 |
LuminanceAdjustmentPurple | 0 |
LuminanceAdjustmentRed | 0 |
LuminanceAdjustmentYellow | 0 |
LuminanceNoiseReductionContrast | 50 |
LuminanceNoiseReductionDetail | 53 |
LuminanceSmoothing | 32 |
Make | Canon |
Marked | True |
MaxApertureValue | 4.0 |
Megapixels | 0.532 |
MeteringMode | Partial |
Model | Canon EOS 50D |
ModifyDate (1) | 2011:03:01 13:21:48+01:00 |
ModifyDate | 2011:03:01 13:21:48 |
Orientation | Horizontal (normal) |
ParametricDarks | 0 |
ParametricHighlights | 0 |
ParametricHighlightSplit | 75 |
ParametricLights | 0 |
ParametricMidtoneSplit | 50 |
ParametricShadows | 0 |
ParametricShadowSplit | 25 |
PerspectiveHorizontal | 0 |
PerspectiveRotate | 0.0 |
PerspectiveScale | 100 |
PerspectiveVertical | 0 |
PostCropVignetteAmount | 0 |
ProcessVersion | 5.7 |
ProfileDescription | sRGB IEC61966-2.1 |
Rating | 3 |
RedHue | 0 |
RedSaturation | 0 |
Rights | Copyright Birgitta Sjöstedt 2010 |
Saturation | 0 |
SaturationAdjustmentAqua | 0 |
SaturationAdjustmentBlue | 0 |
SaturationAdjustmentGreen | +6 |
SaturationAdjustmentMagenta | 0 |
SaturationAdjustmentOrange | 0 |
SaturationAdjustmentPurple | 0 |
SaturationAdjustmentRed | 0 |
SaturationAdjustmentYellow | 0 |
ScaleFactor35efl | 1.6 |
SceneCaptureType | Standard |
SerialNumber | 730400804 |
Shadows | 24 |
ShadowTint | 0 |
SharpenDetail | 0 |
SharpenEdgeMasking | 15 |
SharpenRadius | +0.7 |
Sharpness | 50 |
ShutterSpeed | 1/200 |
ShutterSpeedValue | 1/200 |
Software | Adobe Photoshop Elements 8.0 Windows |
SplitToningBalance | 0 |
SplitToningHighlightHue | 99 |
SplitToningHighlightSaturation | 24 |
SplitToningShadowHue | 146 |
SplitToningShadowSaturation | 26 |
Subject | Bakgrunder |
SubjectDistance | 1.48 m |
Tint | +12 |
ToneCurve | 0, 0, 32, 22, 64, 56, 128, 128, 192, 196, 255, 255 |
ToneCurveName | Medium Contrast |
URL_List | |
UsageTerms | Ingen användning av något slag utan tillstånd av upprättsinnehavaren |
Version | 6.1 |
Vibrance | +11 |
VignetteAmount | 0 |
WhiteBalance (2) | Custom |
WhiteBalance | Auto |