Felt | Verdi |
AlreadyApplied | True |
Aperture | 4.0 |
ApertureValue | 4.0 |
Artist | Oeyvind Andreassen |
BitsPerSample | 8 |
BlueHue | 0 |
BlueSaturation | 0 |
Brightness | +50 |
By-line | Oeyvind Andreassen |
CameraProfile | Adobe Standard |
CFAPattern | [Red,Green][Green,Blue] |
ChromaticAberrationB | 0 |
ChromaticAberrationR | 0 |
CircleOfConfusion | 0.020 mm |
Clarity | +40 |
ColorComponents | 3 |
ColorNoiseReduction | 10 |
ColorNoiseReductionDetail | 50 |
ColorTemperature | 5750 |
Contrast (2) | 0 |
Contrast | Normal |
ConvertToGrayscale | False |
Copyright | Oeyvind Andreassen |
CopyrightNotice | Oeyvind Andreassen |
CreateDate (1) | 2011:03:19 17:34:58.68+01:00 |
CreateDate | 2011:03:19 17:34:58 |
Creator | Oeyvind Andreassen |
CreatorTool | Adobe Photoshop Lightroom |
CropAngle | 0 |
CropBottom | 0.754704 |
CropConstrainToWarp | 0 |
CropHeight | 2037 |
CropLeft | 0.099068 |
CropRight | 0.814424 |
CropTop | 0.039348 |
CropUnit | pixels |
CropWidth | 3067 |
CustomRendered | Normal |
DateTimeDigitized | 2011:03:19 17:34:58.68+01:00 |
DateTimeOriginal (1) | 2011:03:19 17:34:58.68+01:00 |
DateTimeOriginal | 2011:03:19 17:34:58 |
Defringe | 0 |
DigitalZoomRatio | 1 |
DOF | 0.17 m (9.91 - 10.09 m) |
ExifImageHeight | 2037 |
ExifImageWidth | 3067 |
Exposure | -0.60 |
ExposureCompensation | +2/3 |
ExposureMode | Auto |
ExposureProgram | Aperture-priority AE |
ExposureTime | 1/1000 |
FillLight | 0 |
Flash | No Flash |
FlashFired | False |
FlashFunction | False |
FlashMode | Unknown |
FlashRedEyeMode | False |
FlashReturn | No return detection |
FNumber | 4.0 |
FocalLength | 300.0 mm |
FocalLength35efl | 300.0 mm (35 mm equivalent: 450.0 mm) |
FocalLengthIn35mmFormat | 450 mm |
FOV | 4.6 deg |
GainControl | Low gain up |
GrainAmount | 0 |
GreenHue | 0 |
GreenSaturation | 0 |
HasCrop | True |
HasSettings | True |
HighlightRecovery | 0 |
HueAdjustmentAqua | 0 |
HueAdjustmentBlue | 0 |
HueAdjustmentGreen | 0 |
HueAdjustmentMagenta | 0 |
HueAdjustmentOrange | 0 |
HueAdjustmentPurple | 0 |
HueAdjustmentRed | 0 |
HueAdjustmentYellow | 0 |
HyperfocalDistance | 1123.27 m |
ImageHeight | 2037 |
ImageNumber | 10774 |
ImageSize | 3067x2037 |
ImageWidth | 3067 |
ISO | 800 |
Lens | 300.0 mm f/2.8 |
LensID (1) | 72 |
LensID | AF-S Nikkor 300mm f/2.8D IF-ED or Sigma APO 300mm F2.8 EX DG HSM or AF-S Nikkor 300mm f/2.8D IF-ED + TC-14E or AF-S Nikkor 300mm f/2.8D IF-ED + TC-20E or AF-S Nikkor 300mm f/2.8D IF-ED + TC-17E |
LensInfo | 300mm f/2.8 |
LensManualDistortionAmount | 0 |
LensProfileEnable | 0 |
LensProfileSetup | LensDefaults |
LightSource | Unknown |
LightValue | 11.0 |
LuminanceAdjustmentAqua | 0 |
LuminanceAdjustmentBlue | 0 |
LuminanceAdjustmentGreen | 0 |
LuminanceAdjustmentMagenta | 0 |
LuminanceAdjustmentOrange | 0 |
LuminanceAdjustmentPurple | 0 |
LuminanceAdjustmentRed | 0 |
LuminanceAdjustmentYellow | 0 |
LuminanceSmoothing | 0 |
Make | NIKON CORPORATION |
MaxApertureValue | 2.8 |
Megapixels | 6.2 |
MeteringMode | Multi-segment |
Model | NIKON D300 |
ModifyDate (1) | 2011:03:27 20:27:39+02:00 |
ModifyDate | 2011:03:27 20:27:39 |
ParametricDarks | -12 |
ParametricHighlights | 0 |
ParametricHighlightSplit | 75 |
ParametricLights | +22 |
ParametricMidtoneSplit | 50 |
ParametricShadows | 0 |
ParametricShadowSplit | 25 |
PerspectiveHorizontal | 0 |
PerspectiveRotate | 0.0 |
PerspectiveScale | 100 |
PerspectiveVertical | 0 |
PostCropVignetteAmount | 0 |
ProcessVersion | 5.7 |
ProfileDescription | sRGB IEC61966-2.1 |
RedHue | 0 |
RedSaturation | 0 |
Rights | Oeyvind Andreassen |
Saturation (2) | 0 |
Saturation | Normal |
SaturationAdjustmentAqua | 0 |
SaturationAdjustmentBlue | 0 |
SaturationAdjustmentGreen | 0 |
SaturationAdjustmentMagenta | 0 |
SaturationAdjustmentOrange | 0 |
SaturationAdjustmentPurple | 0 |
SaturationAdjustmentRed | 0 |
SaturationAdjustmentYellow | 0 |
ScaleFactor35efl | 1.5 |
SceneCaptureType | Standard |
SceneType | Directly photographed |
SensingMethod | One-chip color area |
SerialNumber | 4010129 |
Shadows | 0 |
ShadowTint | 0 |
SharpenDetail | 60 |
SharpenEdgeMasking | 60 |
SharpenRadius | +0.7 |
Sharpness (2) | 75 |
Sharpness | Normal |
ShutterSpeed | 1/1000 |
ShutterSpeedValue | 1/1000 |
Software | Ver.1.10 |
SplitToningBalance | 0 |
SplitToningHighlightHue | 0 |
SplitToningHighlightSaturation | 0 |
SplitToningShadowHue | 0 |
SplitToningShadowSaturation | 0 |
SubjectDistance | 10 m |
SubjectDistanceRange | Unknown |
Tint | -2 |
ToneCurve | 0, 0, 32, 22, 64, 56, 128, 128, 192, 196, 255, 255 |
ToneCurveName | Medium Contrast |
Version | 6.1 |
Vibrance | +38 |
VignetteAmount | 0 |
WhiteBalance (2) | As Shot |
WhiteBalance | Auto |