Felt | Verdi |
AlreadyApplied | True |
Aperture | 4.5 |
ApertureValue | 4.5 |
ApproximateFocusDistance | 0.5 |
Artist | ODBERG |
BitsPerSample | 8 |
BlueHue | 0 |
BlueSaturation | +63 |
Brightness | +57 |
By-line | ODBERG |
CameraProfile | Adobe Standard |
CFAPattern | [Red,Green][Green,Blue] |
ChromaticAberrationB | 0 |
ChromaticAberrationR | 0 |
CircleOfConfusion | 0.020 mm |
Clarity | +43 |
ColorComponents | 3 |
ColorNoiseReduction | 25 |
ColorNoiseReductionDetail | 50 |
ColorTemperature | 6800 |
Contrast (1) | +50 |
Contrast | Normal |
ConvertToGrayscale | True |
Copyright | ISTIANODBERGKR |
CopyrightNotice | ISTIANODBERGKR |
CreateDate (1) | 2011:10:07 18:59:19.70 |
CreateDate | 2011:10:07 18:59:19 |
Creator | ODBERG |
CreatorTool | Adobe Photoshop Lightroom 3.5 (Windows) |
CropAngle | 0 |
CropBottom | 0.930348 |
CropConstrainToWarp | 0 |
CropHeight | 819 |
CropLeft | 0.082372 |
CropRight | 1 |
CropTop | 0 |
CropUnit | pixels |
CropWidth | 1220 |
CustomRendered | Normal |
DateCreated (1) | 2011:10:07 |
DateCreated | 2011:10:07 18:59:19.70 |
DateTimeOriginal | 2011:10:07 18:59:19 |
Defringe | 0 |
DigitalZoomRatio | 1 |
DOF | 0.03 m (0.48 - 0.52 m) |
Exposure | +0.70 |
ExposureCompensation | 0 |
ExposureMode | Manual |
ExposureProgram | Manual |
ExposureTime | 1/100 |
FillLight | 0 |
Flash | Off, Did not fire |
FNumber | 4.5 |
FocalLength | 35.0 mm |
FocalLength35efl | 35.0 mm (35 mm equivalent: 52.0 mm) |
FocalLengthIn35mmFormat | 52 mm |
FOV | 38.2 deg |
GainControl | None |
GrainAmount | 0 |
GrayMixerAqua | -25 |
GrayMixerBlue | -3 |
GrayMixerGreen | -18 |
GrayMixerMagenta | +16 |
GrayMixerOrange | +2 |
GrayMixerPurple | +13 |
GrayMixerRed | +13 |
GrayMixerYellow | -5 |
GreenHue | 0 |
GreenSaturation | 0 |
HasCrop | True |
HasSettings | True |
HighlightRecovery | 0 |
HyperfocalDistance | 13.46 m |
ImageHeight | 819 |
ImageNumber | 1630 |
ImageSize | 1220x819 |
ImageWidth | 1220 |
ISO | 200 |
Lens | 17.0-50.0 mm f/2.8 |
LensID (1) | 251 |
LensID | Tamron SP AF 17-50mm f/2.8 XR Di II LD Aspherical (IF) (A16NII) |
LensInfo | 17-50mm f/2.8 |
LensManualDistortionAmount | 0 |
LensModel | 17.0-50.0 mm f/2.8 |
LensProfileEnable | 0 |
LensProfileSetup | LensDefaults |
LightSource | Unknown |
LightValue | 10.0 |
LuminanceSmoothing | 0 |
Make | NIKON CORPORATION |
MaxApertureValue | 2.8 |
Megapixels | 0.999 |
MeteringMode | Multi-segment |
Model | NIKON D7000 |
ModifyDate (1) | 2011:10:07 19:10:51+02:00 |
ModifyDate | 2011:10:07 19:10:51 |
ParametricDarks | -2 |
ParametricHighlights | 0 |
ParametricHighlightSplit | 75 |
ParametricLights | +2 |
ParametricMidtoneSplit | 50 |
ParametricShadows | -20 |
ParametricShadowSplit | 25 |
PerspectiveHorizontal | 0 |
PerspectiveRotate | 0.0 |
PerspectiveScale | 100 |
PerspectiveVertical | 0 |
PostCropVignetteAmount | -22 |
PostCropVignetteFeather | 50 |
PostCropVignetteHighlightContrast | 0 |
PostCropVignetteMidpoint | 50 |
PostCropVignetteRoundness | 0 |
PostCropVignetteStyle | 1 |
ProcessVersion | 5.7 |
ProfileDescription | sRGB IEC61966-2.1 |
RedHue | 0 |
RedSaturation | -34 |
Rights | ISTIANODBERGKR |
Saturation | Normal |
ScaleFactor35efl | 1.5 |
SceneCaptureType | Portrait |
SceneType | Directly photographed |
SensingMethod | One-chip color area |
SensitivityType | Recommended Exposure Index |
SerialNumber | 6213865 |
Shadows | 8 |
ShadowTint | 0 |
SharpenDetail | 25 |
SharpenEdgeMasking | 0 |
SharpenRadius | +1.0 |
Sharpness (1) | 64 |
Sharpness | Normal |
ShutterSpeed | 1/100 |
ShutterSpeedValue | 1/100 |
Software | Adobe Photoshop Lightroom 3.5 (Windows) |
SplitToningBalance | 0 |
SplitToningHighlightHue | 50 |
SplitToningHighlightSaturation | 66 |
SplitToningShadowHue | 30 |
SplitToningShadowSaturation | 28 |
SubjectDistance | 0.5 m |
SubjectDistanceRange | Unknown |
Tint | +63 |
ToneCurve | 0, 0, 255, 255 |
ToneCurveName | Linear |
Version | 6.5 |
VignetteAmount | -41 |
VignetteMidpoint | 48 |
WhiteBalance (1) | Custom |
WhiteBalance | Auto |