Felt | Verdi |
AlreadyApplied | True |
Aperture | 9.0 |
ApertureValue | 9.0 |
ApproximateFocusDistance | 4294967295 |
Artist | Kenneth Solfjeld |
BitsPerSample (1) | 16, 16, 16 |
BitsPerSample (2) | 16 16 16 |
BitsPerSample | 8 |
BlueHue | +11 |
BlueSaturation | -70 |
Brightness | +57 |
By-line | Kenneth Solfjeld |
CameraProfile | Adobe Standard |
CFAPattern | [Red,Green][Green,Blue] |
ChromaticAberrationB | 0 |
ChromaticAberrationR | 0 |
CircleOfConfusion | 0.020 mm |
Clarity | 0 |
ColorComponents | 3 |
ColorMode | RGB |
ColorNoiseReduction | 25 |
ColorNoiseReductionDetail | 50 |
ColorSpace | sRGB |
ColorTemperature | 12500 |
Contrast (1) | +25 |
Contrast | Normal |
ConvertToGrayscale | False |
Copyright | Kenneth Solfjeld |
CopyrightFlag | False |
CopyrightNotice | Kenneth Solfjeld |
CreateDate (1) | 2011:10:08 23:56:04+02:00 |
CreateDate | 2011:10:08 17:06:05 |
Creator | Kenneth Solfjeld |
CreatorTool | Adobe Photoshop CS3 Windows |
CropAngle | 0.4 |
CropBottom | 1 |
CropConstrainToWarp | 0 |
CropHeight | 3230 |
CropLeft | 0.007503 |
CropRight | 0.992497 |
CropTop | 0 |
CropUnit | pixels |
CropWidth | 4877 |
CustomRendered | Normal |
DateCreated | 2011:10:08 |
DateTimeDigitized | 2011:10:08 17:06:05+02:00 |
DateTimeOriginal (1) | 2011:10:08 17:06:05+02:00 |
DateTimeOriginal | 2011:10:08 17:06:05 |
Defringe | 0 |
DigitalZoomRatio | 1 |
DOF | inf (3.20 m - inf) |
ExifImageHeight | 848 |
ExifImageWidth | 1280 |
Exposure | +0.75 |
ExposureCompensation | 0 |
ExposureMode | Manual |
ExposureProgram | Manual |
ExposureTime | 1/100 |
FillLight | 0 |
Flash | Off, Did not fire |
FlashFired | False |
FlashFunction | False |
FlashMode | Off |
FlashRedEyeMode | False |
FlashReturn | No return detection |
FNumber | 9.0 |
FocalLength | 24.0 mm |
FocalLength35efl | 24.0 mm (35 mm equivalent: 36.0 mm) |
FocalLengthIn35mmFormat | 36 mm |
Format | image/jpeg |
FOV | 53.1 deg |
GainControl | Low gain up |
GrainAmount | 0 |
GreenHue | +11 |
GreenSaturation | +25 |
HasCrop | True |
HasSettings | True |
HighlightRecovery | 0 |
HueAdjustmentAqua | 0 |
HueAdjustmentBlue | 0 |
HueAdjustmentGreen | 0 |
HueAdjustmentMagenta | 0 |
HueAdjustmentOrange | 0 |
HueAdjustmentPurple | 0 |
HueAdjustmentRed | 0 |
HueAdjustmentYellow | 0 |
HyperfocalDistance | 3.20 m |
ICCProfileName | sRGB IEC61966-2.1 |
ImageHeight (1) | 3230 |
ImageHeight | 848 |
ImageNumber | 26634 |
ImageSize | 1280x848 |
ImageWidth (1) | 4877 |
ImageWidth | 1280 |
ISO | 400 |
Lens | 24.0 mm f/1.4 |
LensID (1) | 164 |
LensID | AF-S Nikkor 24mm f/1.4G ED |
LensInfo | 24mm f/1.4 |
LensManualDistortionAmount | 0 |
LensModel | 24.0 mm f/1.4 |
LensProfileChromaticAberrationScale | 100 |
LensProfileDistortionScale | 100 |
LensProfileEnable | 1 |
LensProfileFilename | NIKON D3X (Nikon AF-S NIKKOR 24mm f1.4G ED) - RAW.lcp |
LensProfileName | Adobe (Nikon AF-S NIKKOR 24mm f/1.4G ED) |
LensProfileSetup | LensDefaults |
LensProfileVignettingScale | 100 |
LightSource | Unknown |
LightValue | 11.0 |
LuminanceAdjustmentAqua | 0 |
LuminanceAdjustmentBlue | 0 |
LuminanceAdjustmentGreen | 0 |
LuminanceAdjustmentMagenta | 0 |
LuminanceAdjustmentOrange | 0 |
LuminanceAdjustmentPurple | 0 |
LuminanceAdjustmentRed | 0 |
LuminanceAdjustmentYellow | 0 |
LuminanceSmoothing | 0 |
Make | NIKON CORPORATION |
MaxApertureValue | 1.4 |
Megapixels | 1.1 |
MeteringMode | Spot |
Model | NIKON D7000 |
ModifyDate (1) | 2011:10:08 23:56:04+02:00 |
ModifyDate | 2011:10:08 23:56:04 |
Orientation | Horizontal (normal) |
PaintCorrectionActive | true |
PaintCorrectionAmount | 1.000000 |
PaintCorrectionBrightness | 0.000000 |
PaintCorrectionClarity | 0.000000 |
PaintCorrectionContrast | 0.000000 |
PaintCorrectionExposure (1) | 0.425000 |
PaintCorrectionExposure | -0.081750 |
PaintCorrectionHue | 0.000000 |
PaintCorrectionMaskCenterWeight (4) | 0.270771 |
PaintCorrectionMaskCenterWeight | 0.000000 |
PaintCorrectionMaskFlow | 1.000000 |
PaintCorrectionMaskRadius (1) | 0.165919 |
PaintCorrectionMaskRadius (2) | 0.165564 |
PaintCorrectionMaskRadius (3) | 0.165796 |
PaintCorrectionMaskRadius (4) | 0.042875 |
PaintCorrectionMaskRadius (5) | 0.082028 |
PaintCorrectionMaskRadius (6) | 0.165729 |
PaintCorrectionMaskRadius (7) | 0.165653 |
PaintCorrectionMaskRadius (8) | 0.184479 |
PaintCorrectionMaskRadius | 0.183922 |
PaintCorrectionMaskValue (5) | 0.000000 |
PaintCorrectionMaskValue | 1.000000 |
PaintCorrectionMaskWhat | Mask/Paint |
PaintCorrectionSaturation | 0.000000 |
PaintCorrectionSharpness | 0.000000 |
PaintCorrectionWhat | Correction |
ParametricDarks | -3 |
ParametricHighlights | 0 |
ParametricHighlightSplit | 75 |
ParametricLights | 0 |
ParametricMidtoneSplit | 50 |
ParametricShadows | -14 |
ParametricShadowSplit | 25 |
PerspectiveHorizontal | 0 |
PerspectiveRotate | 0.0 |
PerspectiveScale | 100 |
PerspectiveVertical | 0 |
PhotometricInterpretation | RGB |
PlanarConfiguration | Chunky |
PostCropVignetteAmount | 0 |
ProcessVersion | 5.7 |
ProfileDescription | sRGB IEC61966-2.1 |
RedHue | +96 |
RedSaturation | +3 |
Rights | Kenneth Solfjeld |
SamplesPerPixel | 3 |
Saturation (1) | -72 |
Saturation | Normal |
SaturationAdjustmentAqua | 0 |
SaturationAdjustmentBlue | 0 |
SaturationAdjustmentGreen | 0 |
SaturationAdjustmentMagenta | 0 |
SaturationAdjustmentOrange | 0 |
SaturationAdjustmentPurple | 0 |
SaturationAdjustmentRed | 0 |
SaturationAdjustmentYellow | 0 |
ScaleFactor35efl | 1.5 |
SceneCaptureType | Standard |
SceneType | Directly photographed |
SensingMethod | One-chip color area |
SensitivityType | Recommended Exposure Index |
SerialNumber | 6059753 |
Shadows | 11 |
ShadowTint | +8 |
SharpenDetail | 25 |
SharpenEdgeMasking | 0 |
SharpenRadius | +1.0 |
Sharpness (1) | 0 |
Sharpness | Normal |
ShutterSpeed | 1/100 |
ShutterSpeedValue | 1/100 |
Software | Adobe Photoshop CS3 Windows |
SplitToningBalance | 0 |
SplitToningHighlightHue | 0 |
SplitToningHighlightSaturation | 0 |
SplitToningShadowHue | 0 |
SplitToningShadowSaturation | 0 |
SubjectDistance | 4294967295 m |
SubjectDistanceRange | Unknown |
Tint | +35 |
ToneCurve | 0, 0, 255, 255 |
ToneCurveName | Linear |
URL_List | |
Version | 6.5 |
Vibrance | 0 |
VignetteAmount | -61 |
VignetteMidpoint | 34 |
WhiteBalance (1) | Custom |
WhiteBalance | Auto |