Felt | Verdi |
AlreadyApplied | True |
Aperture | 2.0 |
ApertureValue | 2.0 |
ApproximateFocusDistance | 0.38 |
Artist | JON MAXIMILIAN VAGA SANDBU |
BitsPerSample | 8 |
BlueHue | 0 |
BlueSaturation | 0 |
Brightness | 0 |
By-line | JON MAXIMILIAN VAGA SANDBU |
CameraProfile | Embedded |
CFAPattern | [Red,Green][Green,Blue] |
ChromaticAberrationB | 0 |
ChromaticAberrationR | 0 |
CircleOfConfusion | 0.020 mm |
Clarity | 0 |
ColorComponents | 3 |
ColorNoiseReduction | 0 |
Contrast (1) | 0 |
Contrast | Normal |
ConvertToGrayscale | False |
Copyright | JON MAXIMILIAN VAGA SANDBU |
CopyrightNotice | JON MAXIMILIAN VAGA SANDBU |
CreateDate (1) | 2011:11:13 09:02:01.91 |
CreateDate | 2011:11:13 09:02:01 |
Creator | JON MAXIMILIAN VAGA SANDBU |
CreatorTool | Adobe Photoshop Lightroom 3.4.1 |
CustomRendered | Normal |
DateCreated (1) | 2011:11:13 |
DateCreated | 2011:11:13 09:02:01.091 |
DateTimeOriginal | 2011:11:13 09:02:01 |
Defringe | 0 |
DigitalZoomRatio | 1 |
DOF | 0.009 m (0.376 - 0.384 m) |
Exposure | 0.00 |
ExposureCompensation | 0 |
ExposureMode | Manual |
ExposureProgram | Manual |
ExposureTime | 1/60 |
FillLight | 0 |
Flash | On, Return detected |
FNumber | 2.0 |
FocalLength | 35.0 mm |
FocalLength35efl | 35.0 mm (35 mm equivalent: 52.0 mm) |
FocalLengthIn35mmFormat | 52 mm |
Format | application/vnd.adobe.photoshop |
FOV | 38.2 deg |
GainControl | Low gain up |
GradientBasedCorrActive | true |
GradientBasedCorrAmount | 1.000000 |
GradientBasedCorrBrightness | 0.000000 |
GradientBasedCorrClarity | 0.035294 |
GradientBasedCorrContrast | 0.000000 |
GradientBasedCorrExposure (1) | 0.082353 |
GradientBasedCorrExposure | 0.035294 |
GradientBasedCorrHue | 240.000000 |
GradientBasedCorrMaskFullX (1) | 1.130070 |
GradientBasedCorrMaskFullX | 1.008120 |
GradientBasedCorrMaskFullY (1) | 0.293779 |
GradientBasedCorrMaskFullY | 0.382456 |
GradientBasedCorrMaskValue | 1.000000 |
GradientBasedCorrMaskWhat | Mask/Gradient |
GradientBasedCorrMaskZeroX (1) | 0.564858 |
GradientBasedCorrMaskZeroX | 0.583032 |
GradientBasedCorrMaskZeroY (1) | 0.431193 |
GradientBasedCorrMaskZeroY | 0.405263 |
GradientBasedCorrSaturation (1) | 0.247059 |
GradientBasedCorrSaturation (3) | 1.000000 |
GradientBasedCorrSaturation | 0.000000 |
GradientBasedCorrSharpness | 0.250000 |
GradientBasedCorrWhat | Correction |
GrainAmount | 0 |
GreenHue | 0 |
GreenSaturation | 0 |
HasCrop | False |
HasSettings | True |
HighlightRecovery | 0 |
HueAdjustmentAqua | 0 |
HueAdjustmentBlue | 0 |
HueAdjustmentGreen | 0 |
HueAdjustmentMagenta | 0 |
HueAdjustmentOrange | 0 |
HueAdjustmentPurple | 0 |
HueAdjustmentRed | 0 |
HueAdjustmentYellow | 0 |
HyperfocalDistance | 30.29 m |
ImageHeight | 515 |
ImageNumber | 52539 |
ImageSize | 1000x515 |
ImageWidth | 1000 |
IncrementalTemperature | 0 |
IncrementalTint | 0 |
ISO | 500 |
Keywords | AAse |
Lens | 35.0 mm f/1.8 |
LensID (1) | 159 |
LensID | AF-S DX Nikkor 35mm f/1.8G |
LensInfo | 35mm f/1.8 |
LensManualDistortionAmount | 0 |
LensModel | 35.0 mm f/1.8 |
LensProfileEnable | 0 |
LensProfileSetup | LensDefaults |
LightSource | Unknown |
LightValue | 5.6 |
LuminanceAdjustmentAqua | 0 |
LuminanceAdjustmentBlue | 0 |
LuminanceAdjustmentGreen | 0 |
LuminanceAdjustmentMagenta | 0 |
LuminanceAdjustmentOrange | 0 |
LuminanceAdjustmentPurple | 0 |
LuminanceAdjustmentRed | 0 |
LuminanceAdjustmentYellow | 0 |
LuminanceSmoothing | 0 |
Make | NIKON CORPORATION |
MaxApertureValue | 1.7 |
Megapixels | 0.515 |
MeteringMode | Center-weighted average |
Model | NIKON D300 |
ModifyDate (1) | 2011:11:14 11:12:17+01:00 |
ModifyDate | 2011:11:14 11:12:17 |
PaintCorrectionActive | true |
PaintCorrectionAmount | 1.000000 |
PaintCorrectionBrightness | 0.000000 |
PaintCorrectionClarity | -0.341176 |
PaintCorrectionContrast | 0.000000 |
PaintCorrectionExposure | 0.000000 |
PaintCorrectionHue | 240.000000 |
PaintCorrectionMaskCenterWeight | 0.000000 |
PaintCorrectionMaskFlow | 1.000000 |
PaintCorrectionMaskRadius | 0.028049 |
PaintCorrectionMaskValue | 1.000000 |
PaintCorrectionMaskWhat | Mask/Paint |
PaintCorrectionSaturation (1) | 0.411765 |
PaintCorrectionSaturation | 0.000000 |
PaintCorrectionSharpness | 0.250000 |
PaintCorrectionWhat | Correction |
ParametricDarks | 0 |
ParametricHighlights | 0 |
ParametricHighlightSplit | 75 |
ParametricLights | 0 |
ParametricMidtoneSplit | 50 |
ParametricShadows | 0 |
ParametricShadowSplit | 25 |
PerspectiveHorizontal | 0 |
PerspectiveRotate | 0.0 |
PerspectiveScale | 100 |
PerspectiveVertical | 0 |
PostCropVignetteAmount | 0 |
ProcessVersion | 5.7 |
ProfileDescription | sRGB IEC61966-2.1 |
RedHue | 0 |
RedSaturation | 0 |
Rights | JON MAXIMILIAN VAGA SANDBU |
Saturation (1) | 0 |
Saturation | Normal |
SaturationAdjustmentAqua | -100 |
SaturationAdjustmentBlue | -96 |
SaturationAdjustmentGreen | 0 |
SaturationAdjustmentMagenta | -94 |
SaturationAdjustmentOrange | +2 |
SaturationAdjustmentPurple | -94 |
SaturationAdjustmentRed | +25 |
SaturationAdjustmentYellow | 0 |
ScaleFactor35efl | 1.5 |
SceneCaptureType | Standard |
SceneType | Directly photographed |
SensingMethod | One-chip color area |
SerialNumber | 4157558 |
Shadows | 0 |
ShadowTint | 0 |
SharpenDetail | 25 |
SharpenEdgeMasking | 0 |
SharpenRadius | +1.0 |
Sharpness (1) | 0 |
Sharpness | Normal |
ShutterSpeed | 1/60 |
ShutterSpeedValue | 1/60 |
Software | Adobe Photoshop Lightroom 3.4.1 |
SplitToningBalance | 0 |
SplitToningHighlightHue | 0 |
SplitToningHighlightSaturation | 0 |
SplitToningShadowHue | 0 |
SplitToningShadowSaturation | 0 |
Subject | AAse |
SubjectDistance | 0.38 m |
SubjectDistanceRange | Unknown |
ToneCurve | 0, 0, 255, 255 |
ToneCurveName | Linear |
Version | 6.4.1 |
Vibrance | 0 |
VignetteAmount | 0 |
WhiteBalance (1) | As Shot |
WhiteBalance | Auto |