Felt | Verdi |
AlreadyApplied | True |
Aperture | 11.0 |
ApertureValue | 11.0 |
ApproximateFocusDistance | 3.74 |
Artist | Geir A Granviken |
BitsPerSample | 8 |
BlueHue | 0 |
BlueSaturation | 0 |
Brightness | +50 |
By-line | Geir A Granviken |
CameraProfile | Adobe Standard |
Caption-Abstract | Snø, Hyggenstranda, Drammensfjorden |
ChromaticAberrationB | 0 |
ChromaticAberrationR | 0 |
CircleOfConfusion | 0.019 mm |
City | Røyken |
Clarity | 0 |
ColorComponents | 3 |
ColorNoiseReduction | 25 |
ColorNoiseReductionDetail | 50 |
ColorSpace | Uncalibrated |
ColorTemperature | 6850 |
Contrast | +25 |
ConvertToGrayscale | False |
Copyright | © 2011 Geir A Granviken |
CopyrightFlag | True |
CopyrightNotice | © 2011 Geir A Granviken |
Country | Norway |
Country-PrimaryLocationCode | NOR |
Country-PrimaryLocationName | Norway |
CountryCode | NOR |
CreateDate (1) | 2011:12:08 14:09:45.86 |
CreateDate | 2011:12:08 14:09:45 |
Creator | Geir A Granviken |
CreatorTool | Adobe Photoshop Lightroom 3.4.1 |
CropAngle | 0.3 |
CropBottom | 1 |
CropConstrainToWarp | 0 |
CropHeight | 565 |
CropLeft | 0.005628 |
CropRight | 0.994372 |
CropTop | 0 |
CropUnit | pixels |
CropWidth | 848 |
CustomRendered | Normal |
DateCreated (1) | 2011:12:08 |
DateCreated | 2011:12:08 14:09:45.86 |
DateTimeOriginal | 2011:12:08 14:09:45 |
Defringe | 0 |
Description | Snø, Hyggenstranda, Drammensfjorden |
DOF | 4.77 m (2.52 - 7.29 m) |
Exposure | 0.00 |
ExposureCompensation | +2 |
ExposureMode | Auto |
ExposureProgram | Aperture-priority AE |
ExposureTime | 1/25 |
FillLight | 0 |
Firmware | 1.1.0 |
Flash | Off, Did not fire |
FlashCompensation | 0 |
FNumber | 11.0 |
FocalLength | 40.0 mm |
FocalLength35efl | 40.0 mm (35 mm equivalent: 62.8 mm) |
FOV | 32.0 deg |
GPSDateStamp | 2011:12:08 |
GPSDateTime | 2011:12:08 14:09:45Z |
GPSLatitude | |
GPSLatitudeRef | North |
GPSLongitude | |
GPSLongitudeRef | East |
GPSMapDatum | WGS-84 |
GPSTimeStamp | 14:09:45 |
GPSVersionID | 2.2.0.0 |
GradientBasedCorrActive | true |
GradientBasedCorrAmount | 1.000000 |
GradientBasedCorrBrightness | 0.000000 |
GradientBasedCorrClarity | 0.000000 |
GradientBasedCorrContrast | 0.000000 |
GradientBasedCorrExposure | -0.082500 |
GradientBasedCorrHue | 0.000000 |
GradientBasedCorrMaskFullX | 0.493300 |
GradientBasedCorrMaskFullY | 0.998663 |
GradientBasedCorrMaskValue | 1.000000 |
GradientBasedCorrMaskWhat | Mask/Gradient |
GradientBasedCorrMaskZeroX | 0.494289 |
GradientBasedCorrMaskZeroY | 0.729719 |
GradientBasedCorrSaturation | 0.000000 |
GradientBasedCorrSharpness | 0.000000 |
GradientBasedCorrWhat | Correction |
GrainAmount | 0 |
GreenHue | 0 |
GreenSaturation | 0 |
HasCrop | True |
HasSettings | True |
HighlightRecovery | 0 |
HueAdjustmentAqua | 0 |
HueAdjustmentBlue | 0 |
HueAdjustmentGreen | 0 |
HueAdjustmentMagenta | 0 |
HueAdjustmentOrange | 0 |
HueAdjustmentPurple | 0 |
HueAdjustmentRed | 0 |
HueAdjustmentYellow | 0 |
HyperfocalDistance | 7.60 m |
ImageDescription | Snø, Hyggenstranda, Drammensfjorden |
ImageHeight | 565 |
ImageNumber | 0 |
ImageSize | 848x565 |
ImageWidth | 848 |
ISO | 400 |
Keywords | beach, fjord, minimalism, minimalistisk, snow, snø, strand, vinter, winter |
Label | Blue |
Lens | EF-S17-55mm f/2.8 IS USM |
LensID (1) | 240 |
LensID | Canon EF-S 17-55mm f/2.8 IS USM |
LensInfo | 17-55mm f/? |
LensManualDistortionAmount | 0 |
LensModel | EF-S17-55mm f/2.8 IS USM |
LensProfileChromaticAberrationScale | 100 |
LensProfileDistortionScale | 100 |
LensProfileEnable | 1 |
LensProfileFilename | Canon EOS 50D (Canon EF-S 17-55mm f2.8 IS USM) - RAW.lcp |
LensProfileName | Canon EOS 50D - Canon EF-S 17-55mm f/2.8 IS USM |
LensProfileSetup | LensDefaults |
LensProfileVignettingScale | 100 |
LightValue | 9.6 |
Location | Hyggen |
LuminanceAdjustmentAqua | 0 |
LuminanceAdjustmentBlue | 0 |
LuminanceAdjustmentGreen | 0 |
LuminanceAdjustmentMagenta | 0 |
LuminanceAdjustmentOrange | 0 |
LuminanceAdjustmentPurple | 0 |
LuminanceAdjustmentRed | 0 |
LuminanceAdjustmentYellow | 0 |
LuminanceSmoothing | 0 |
Make | Canon |
Marked | True |
MaxApertureValue | 2.8 |
Megapixels | 0.479 |
MeteringMode | Multi-segment |
Model | Canon EOS 7D |
ModifyDate (1) | 2011:12:08 19:25:31+01:00 |
ModifyDate | 2011:12:08 19:25:31 |
ObjectName | Drammensfjorden II |
OwnerName | Geir A Granviken |
ParametricDarks | -22 |
ParametricHighlights | +5 |
ParametricHighlightSplit | 75 |
ParametricLights | -22 |
ParametricMidtoneSplit | 50 |
ParametricShadows | 0 |
ParametricShadowSplit | 25 |
PerspectiveHorizontal | 0 |
PerspectiveRotate | 0.0 |
PerspectiveScale | 100 |
PerspectiveVertical | 0 |
PostCropVignetteAmount | 0 |
ProcessVersion | 5.7 |
ProfileDescription | sRGB IEC61966-2.1 |
Province-State | Buskerud |
RedHue | 0 |
RedSaturation | 0 |
Rights | © 2011 Geir A Granviken |
Saturation | 0 |
SaturationAdjustmentAqua | 0 |
SaturationAdjustmentBlue | 0 |
SaturationAdjustmentGreen | 0 |
SaturationAdjustmentMagenta | 0 |
SaturationAdjustmentOrange | 0 |
SaturationAdjustmentPurple | 0 |
SaturationAdjustmentRed | 0 |
SaturationAdjustmentYellow | 0 |
ScaleFactor35efl | 1.6 |
SceneCaptureType | Standard |
SerialNumber | 330426024 |
Shadows | 45 |
ShadowTint | 0 |
SharpenDetail | 25 |
SharpenEdgeMasking | 67 |
SharpenRadius | +0.5 |
Sharpness | 35 |
ShutterSpeed | 1/25 |
ShutterSpeedValue | 1/25 |
Software | Adobe Photoshop Lightroom 3.4.1 |
SplitToningBalance | 0 |
SplitToningHighlightHue | 0 |
SplitToningHighlightSaturation | 0 |
SplitToningShadowHue | 0 |
SplitToningShadowSaturation | 0 |
State | Buskerud |
Sub-location | Hyggen |
Subject | beach, fjord, minimalism, minimalistisk, snow, snø, strand, vinter, winter |
SubjectDistance | 3.74 m |
Tint | +13 |
Title | Drammensfjorden II |
ToneCurve | 0, 0, 32, 22, 64, 56, 128, 128, 192, 196, 255, 255 |
ToneCurveName | Medium Contrast |
URL | www.ggranvik.no |
Version | 6.4.1 |
Vibrance | +25 |
VignetteAmount | 0 |
WebStatement | www.ggranvik.no |
WhiteBalance (1) | As Shot |
WhiteBalance | Auto |