Felt | Verdi |
AlreadyApplied | True |
Aperture | 5.7 |
ApertureValue | 5.7 |
BitsPerSample | 8 |
BlackClip | 0.131500 |
BlueHue | 0 |
BlueSaturation | 0 |
Brightness | +40 |
CameraProfile | Embedded |
ChromaticAberrationB | 0 |
ChromaticAberrationR | 0 |
Clarity | +20 |
ColorComponents | 3 |
ColorNoiseReduction | 0 |
ColorSaturation | 64.0 |
ColorTemperature | -6.1 |
Contrast | +21 |
ConvertToGrayscale | False |
CreateDate | 2011:10:19 10:50:02 |
CreatorTool | Adobe Photoshop Lightroom 3.5 (Windows) |
CropAngle | -0.069534 |
CropBottom | 0.99818 |
CropConstrainToWarp | 0 |
CropHeight | 3453 |
CropLeft | 0.000507 |
CropRight | 0.999493 |
CropTop | 0.00182 |
CropUnit | pixels |
CropWidth | 5188 |
DateTimeOriginal | 2011:10:19 10:50:02 |
Defringe | 0 |
Exposure | 0.00 |
ExposureTime | 1/200 |
FillLight | 0 |
FNumber | 5.7 |
FocalLength | 11.0 mm |
FocalLength35efl | 11.0 mm |
Gamma | 1.4 |
GrainAmount | 0 |
GreenHue | 0 |
GreenSaturation | 0 |
HasCrop | True |
HasSettings | True |
HighlightRecovery | 0 |
HighlightsSmoothing | 0.0 |
HueAdjustmentAqua | 0 |
HueAdjustmentBlue | 0 |
HueAdjustmentGreen | 0 |
HueAdjustmentMagenta | 0 |
HueAdjustmentOrange | 0 |
HueAdjustmentPurple | 0 |
HueAdjustmentRed | 0 |
HueAdjustmentYellow | 0 |
ImageHeight | 3453 |
ImageSize | 5188x3453 |
ImageWidth | 5188 |
IncrementalTemperature | 0 |
IncrementalTint | 0 |
ISO | 200 |
LensManualDistortionAmount | 0 |
LensProfileEnable | 0 |
LensProfileSetup | LensDefaults |
LightValue | 11.7 |
LuminanceAdjustmentAqua | 0 |
LuminanceAdjustmentBlue | 0 |
LuminanceAdjustmentGreen | 0 |
LuminanceAdjustmentMagenta | 0 |
LuminanceAdjustmentOrange | 0 |
LuminanceAdjustmentPurple | 0 |
LuminanceAdjustmentRed | 0 |
LuminanceAdjustmentYellow | 0 |
LuminanceNoiseReductionContrast | 0 |
LuminanceNoiseReductionDetail | 50 |
LuminanceSmoothing | 25 |
Luminosity | -2.2 |
Megapixels | 17.9 |
Method | Details Enhancer |
Microcontrast | -7.1 |
Microsmoothing | 13.2 |
ModifyDate (1) | 2011:10:19 10:50:05+02:00 |
ModifyDate | 2011:10:19 10:50:05 |
ParametricDarks | 0 |
ParametricHighlights | 0 |
ParametricHighlightSplit | 75 |
ParametricLights | +22 |
ParametricMidtoneSplit | 50 |
ParametricShadows | 0 |
ParametricShadowSplit | 25 |
PerspectiveHorizontal | 0 |
PerspectiveRotate | 0.0 |
PerspectiveScale | 100 |
PerspectiveVertical | 0 |
PostCropVignetteAmount | 0 |
ProcessVersion | 5.7 |
ProfileDescription | sRGB IEC61966-2.1 |
Rating | 3 |
RedHue | 0 |
RedSaturation | 0 |
Saturation | 0 |
SaturationAdjustmentAqua | 0 |
SaturationAdjustmentBlue | 0 |
SaturationAdjustmentGreen | 0 |
SaturationAdjustmentMagenta | 0 |
SaturationAdjustmentOrange | -25 |
SaturationAdjustmentPurple | 0 |
SaturationAdjustmentRed | 0 |
SaturationAdjustmentYellow | 0 |
SaturationHighlights | -0.5 |
SaturationShadows | -0.4 |
Shadows | 0 |
ShadowsClipping | 0.0 |
ShadowsSmoothing | 17.0 |
ShadowTint | 0 |
SharpenDetail | 25 |
SharpenEdgeMasking | 0 |
SharpenRadius | +1.0 |
Sharpness | 0 |
ShutterSpeed | 1/200 |
ShutterSpeedValue | 1/200 |
Smoothing | High |
SmoothingMode | Light |
Software | Adobe Photoshop Lightroom 3.5 (Windows) |
SplitToningBalance | 0 |
SplitToningHighlightHue | 0 |
SplitToningHighlightSaturation | 0 |
SplitToningShadowHue | 0 |
SplitToningShadowSaturation | 0 |
Strength | 26.0 |
ToneCurve | 0, 0, 255, 255 |
ToneCurveName | Linear |
Version (1) | 4.0 |
Version | 6.5 |
Vibrance | 0 |
VignetteAmount | -38 |
VignetteMidpoint | 30 |
WhiteBalance | As Shot |
WhiteClip | 1.833700 |